Workbook
Name 용도: Sheet2!$O$2:$O$29
Name 지목: Sheet2!$S$2:$S$5

Sheet 사용법

Sheet Sheet1
A1: 수지구 | C1: 규모 등을 입력하시어 협의부서를 확인하시고, 부서를 클릭하시어 세부사항을 확인하세요.
C3: 도시기획단 | D3: 회계과 | E3: 문화예술과 | F3: 노인장애인과 | G3: 체육진흥과 | H3: 일자리정책과 | I3: 기업지원과 | J3: 농업정책과 | K3: 축산과 | L3: 산림과 | M3: 도시정책과 | N3: 도시개발과 | O3: 건설정책과 | P3: 시민안전담당관 | Q3: 공원조성과
C4: 처인구보건소 | D4: 환경과 | E4: 기후에너지과 | F4: 도시청결과 | G4: 교통정책과 | H4: 대중교통과 | I4: 수도시설과 | J4: 자치행정과 | K4: 도시미관과 | L4: 민원지적과 | M4: 사회복지과 | N4: 교통과 | O4: 산업환경과 | P4: 건설도로과 | Q4: 건축허가과
A5: 입력시트 | C5: 용인소방서 | D5: 용인교육청 | E5: 한국부동산원 | F5: 용인서부경찰서 | G5: 공군작전사령부 | H5: 한국산업안전보건공단 | I5: 아동보육과 | J5: 외부기관도로 | K5: 생태하천과 | L5: 광주시수질정책과 | M5: 주택과 | N5: 건축과 | O5: 도시재생과 | P5: 토지정보과 | Q5: 국가철도공단
C6: 노인복지과 | D6: 관광과
C9: 건축물규모 입력 | G9: 토지구적 입력 | J9: 제한구역 체크 | N9: 점용계획 체크 | R9: 기타사항 체크
C10: 층수 | D10: 주용도 | E10: 면적 | G10: 지목 | H10: 대지면적 | J10: 군사시설보호구역 | N10: 국유구거 | R10: 10미터이상굴착계획
C11: 1 | D11: 단독주택 | E11: 123 | G11: 대 | H11: 500 | J11: 가축사육제한구역 | N11: 국유도로 | R11: 하수 처리구역 내
C12: 2 | J12: 철도보호지구 | N12: 국유하천 | R12: 하수 처리구역 외
C13: 3 | J13: 중점경관관리구역 | N13: 공유재산 | R13: 지하수이용계획
C14: 4 | J14: 성장관리방안수립 | N14: 외부기관소관 도로점용 | R14: 상수도이용계획
C15: 5 | J15: 도시계획도로시설 | R15: 교통안전시설물설치 계획
C16: 6 | J16: 교육환경보호구역/정화구역
C17: 지하1 | J17: 하천구역
C18: 지하2 | J18: 토지거래계약에관한허가구역
J19: 도시자연공원구역/근린공원/소공원 등
J20: 도시개발구역
J21: 정비구역
J22: 수변구역

Sheet Sheet2
O1: 건축물용도 | S1: 지목 | U1: 합계 | W1: 농지 | X1: =U2+U3 -> 0
D2: 도시계획단 | E2: =IF(AC5=TRUE, TRUE, FALSE) -> FALSE | O2: 단독주택 | S2: 전 | U2: =SUMIF(Sheet1!$G$11:$G$18, S2,Sheet1!$H$11:$H$18) -> 0 | W2: 산지 | X2: =U5 -> 0 | AA2: 군사시설보호구역 | AC2: FALSE | AE2: 국유구거 | AF2: FALSE | AH2: 10미터이상굴착계획 | AJ2: FALSE
D3: 회계과 | E3: =IF(AF5=TRUE,TRUE, FALSE) -> FALSE | O3: 공동주택 | P3: 1 | Q3: =IF(COUNTIF(Sheet1!$D$11:$D$18,Sheet2!O3)>=1,TRUE, FALSE) -> FALSE | S3: 답 | U3: =SUMIF(Sheet1!$G$11:$G$18, S3,Sheet1!$H$11:$H$18) -> 0 | AA3: 가축사육제한구역 | AC3: FALSE | AE3: 국유도로 | AF3: FALSE | AH3: 처리구역 내 | AJ3: FALSE
D4: 문화예술과 | E4: TRUE | O4: 제1종근린생활시설 | P4: 300 | Q4: =AND( IF(COUNTIF(Sheet1!$D$11:$D$18,Sheet2!O4)>=1,TRUE, FALSE), SUMIF(Sheet1!$D$11:$D$18,Sheet2!O4, Sheet1!$E$11:$E$18)>=300 ) -> FALSE | S4: 대 | U4: =SUMIF(Sheet1!$G$11:$G$18, S4,Sheet1!$H$11:$H$18) -> 500 | AA4: 철도보호구역 | AC4: FALSE | AE4: 국유하천 | AF4: FALSE | AH4: 처리구역 외 | AJ4: FALSE
D5: 노인장애인과 | E5: =IF(COUNTIF(Sheet1!$D$11:$D$18,"노유자시설")>=1,TRUE,FALSE) -> FALSE | O5: 제2종근린생활시설 | P5: 300 | Q5: =AND( IF(COUNTIF(Sheet1!$D$11:$D$18,Sheet2!O5)>=1,TRUE, FALSE), SUMIF(Sheet1!$D$11:$D$18,Sheet2!O5, Sheet1!$E$11:$E$18)>=300 ) -> FALSE | S5: 임 | U5: =SUMIF(Sheet1!$G$11:$G$18, S5,Sheet1!$H$11:$H$18) -> 0 | AA5: 중점경관관리구역 | AC5: FALSE | AE5: 국유재산 | AF5: FALSE | AH5: 지하수이용 | AJ5: FALSE
D6: 체육진흥과 | E6: =IF(COUNTIF(Sheet1!$D$11:$D$18,"운동시설")>=1,TRUE,FALSE) -> FALSE | O6: 문화및집회시설 | P6: 500 | Q6: =AND( IF(COUNTIF(Sheet1!$D$11:$D$18,Sheet2!O6)>=1,TRUE, FALSE), SUMIF(Sheet1!$D$11:$D$18,Sheet2!O6, Sheet1!$E$11:$E$18)>=500 ) -> FALSE | AA6: 성장관리방안수립 | AC6: FALSE | AE6: 외부기관소관 도로점용 | AF6: FALSE | AH6: 상수도이용 | AJ6: FALSE
D7: 일자리정책과 | E7: =IF(COUNTIF(Sheet1!$D$11:$D$18,"판매시설")>=1,TRUE,FALSE) -> FALSE | O7: 종교시설 | P7: 500 | Q7: =AND( IF(COUNTIF(Sheet1!$D$11:$D$18,Sheet2!O7)>=1,TRUE, FALSE), SUMIF(Sheet1!$D$11:$D$18,Sheet2!O7, Sheet1!$E$11:$E$18)>=500 ) -> FALSE | AA7: 도시계획도로시설 | AC7: FALSE | AH7: 교통안전시설물설치 | AJ7: FALSE
D8: 기업지원과 | E8: =IF(COUNTIF(Sheet1!$D$11:$D$18,"공장")>=1,TRUE,FALSE) -> FALSE | O8: 판매시설 | P8: 1000 | Q8: =AND( IF(COUNTIF(Sheet1!$D$11:$D$18,Sheet2!O8)>=1,TRUE, FALSE), SUMIF(Sheet1!$D$11:$D$18,Sheet2!O8, Sheet1!$E$11:$E$18)>=1000 ) -> FALSE | AA8: 교육환경보호구역 | AC8: FALSE
D9: 농업정책과 | E9: =IF(OR(X1>=1500, AF2=TRUE),TRUE, FALSE) -> FALSE | O9: 운수시설 | AA9: 하천구역 | AC9: FALSE
D10: 축산과 | E10: =IF(COUNTIF(Sheet1!$D$11:$D$18,O22)>=1,TRUE,FALSE) -> FALSE | O10: 의료시설 | P10: 1 | Q10: =IF(COUNTIF(Sheet1!$D$11:$D$18,Sheet2!O10)>=1,TRUE, FALSE) -> FALSE | AA10: 토지거래계약에관한허가구역 | AC10: FALSE
D11: 산림과 | E11: =IF(X2>=1500,TRUE, FALSE) -> FALSE | O11: 교육연구시설 | P11: 1 | Q11: =IF(COUNTIF(Sheet1!$D$11:$D$18,Sheet2!O11)>=1,TRUE, FALSE) -> FALSE | AA11: 도시자연공원구역/근린공원/소공원 등 | AC11: FALSE
D12: 도시정책과 | E12: =IF(AC7=TRUE, TRUE, FALSE) -> FALSE | O12: 노유자시설 | P12: 1 | Q12: =IF(COUNTIF(Sheet1!$D$11:$D$18,Sheet2!O12)>=1,TRUE, FALSE) -> FALSE | AA12: 도시개발구역 | AC12: FALSE
D13: 도시개발과 | E13: =IF(OR(SUM($U$2:$U$5)>=5000, AC12=TRUE),TRUE,FALSE) -> FALSE | O13: 수련시설 | P13: 1 | Q13: =IF(COUNTIF(Sheet1!$D$11:$D$18,Sheet2!O13)>=1,TRUE, FALSE) -> FALSE | AA13: 정비구역 | AC13: FALSE
D14: 건설정책과 | E14: =IF(OR( AC7=TRUE, AF3=TRUE, AJ2=TRUE), TRUE, FALSE) -> FALSE | O14: 운동시설 | AA14: 수변구역 | AC14: FALSE
D15: 시민안전담당관 | E15: =IF(SUM($U$2:$U$5)>=5000,TRUE,FALSE) -> FALSE | O15: 업무시설 | P15: 1 | Q15: =IF(COUNTIF(Sheet1!$D$11:$D$18,Sheet2!O15)>=1,TRUE, FALSE) -> FALSE
D16: 공원조성과 | E16: =IF(AC11=TRUE, TRUE, FALSE) -> FALSE | O16: 숙박시설 | P16: 1 | Q16: =IF(COUNTIF(Sheet1!$D$11:$D$18,Sheet2!O16)>=1,TRUE, FALSE) -> FALSE
D17: 처인구보건소 | E17: =IF(COUNTIF(Sheet1!$D$11:$D$18, O10)>=1,TRUE,FALSE) -> FALSE | O17: 위락시설 | Q17: =IF(COUNTIF(Sheet1!$D$11:$D$18,Sheet2!O17)>=1,TRUE, FALSE) -> FALSE
D18: 환경과 | E18: TRUE | O18: 공장 | P18: 1 | Q18: =IF(COUNTIF(Sheet1!$D$11:$D$18,Sheet2!O18)>=1,TRUE, FALSE) -> FALSE
D19: 기후에너지과 | E19: =IF(COUNTIF(Sheet1!$D$11:$D$18, O20)>=1,TRUE,FALSE) -> FALSE | O19: 창고시설
D20: 도시청결과 | E20: =IF(COUNTIF(Sheet1!$D$11:$D$18, O23)>=1,TRUE,FALSE) -> FALSE | O20: 위험물저장및처리시설
D21: 교통정책과 | E21: TRUE | O21: 자동차관련시설 | P21: 1 | Q21: =IF(COUNTIF(Sheet1!$D$11:$D$18,Sheet2!O21)>=1,TRUE, FALSE) -> FALSE
D22: 대중교통과 | E22: =IF(COUNTIF(Sheet1!$D$11:$D$18, O21)>=1,TRUE,FALSE) -> FALSE | O22: 동물및식물관련시설
D23: 수도시설과 | E23: =IF(AJ6=TRUE, TRUE, FALSE) -> FALSE | O23: 자원순환관련시설
D24: 자치행정과 | E24: =IF( SUM(Sheet1!$E$11:$E$18)>=150, TRUE, FALSE) -> FALSE | O24: 교정및군사시설 | P24: 1 | Q24: =IF(COUNTIF(Sheet1!$D$11:$D$18,Sheet2!O24)>=1,TRUE, FALSE) -> FALSE
D25: 도시미관과 | E25: TRUE | O25: 방송통신시설 | P25: 1 | Q25: =IF(COUNTIF(Sheet1!$D$11:$D$18,Sheet2!O25)>=1,TRUE, FALSE) -> FALSE
D26: 민원지적과 | E26: =IF(AC10=TRUE, TRUE, FALSE) -> FALSE | O26: 발전시설
D27: 사회복지과 | E27: =IF(COUNTIF($Q$2:$Q$29,TRUE)>=1,TRUE,FALSE) -> FALSE | O27: 묘지관련시설 | Q27: =IF(COUNTIF(Sheet1!$D$11:$D$18,Sheet2!O27)>=1,TRUE, FALSE) -> FALSE
D28: 교통과 | E28: =IF(AJ7=TRUE, TRUE, FALSE) -> FALSE | O28: 관광휴게시설 | Q28: =IF(COUNTIF(Sheet1!$D$11:$D$18,Sheet2!O28)>=1,TRUE, FALSE) -> FALSE
D29: 산업환경과 | E29: TRUE | O29: 장례식장 | Q29: =IF(COUNTIF(Sheet1!$D$11:$D$18,Sheet2!O29)>=1,TRUE, FALSE) -> FALSE
D30: 건설도로과 | E30: TRUE
D31: 건축허가과 | E31: TRUE
D32: 용인소방서 | E32: =OR((IF(SUM(Sheet1!$E$11:$E$17)>=400,TRUE,FALSE)),(IF(SUM(Sheet1!$E$17:$E$18)>=150,TRUE,FALSE))) -> FALSE
D33: 용인교육청 | E33: =IF(OR(AC8=TRUE,Q17=TRUE,Q11=TRUE), TRUE, FALSE) -> FALSE
D34: 한국부동산원 | E34: =IF(SUM(Sheet1!$E$11:$E$18)>=500,TRUE,FALSE) -> FALSE
D35: 용인동부경찰서 | E35: =IF(AJ7=TRUE, TRUE, FALSE) -> FALSE
D36: 공군작전사령부 | E36: =IF(AC2=TRUE, TRUE, FALSE) -> FALSE
D37: 한국산업안전보건공단 | E37: =IF(AJ2=TRUE, TRUE, FALSE) -> FALSE
D38: 아동보육과 | E38: =OR(IF(COUNTIF(Sheet1!$D$11:$D$18,O12)>=1,TRUE,FALSE),IF(COUNTIF(Sheet1!$D$11:$D$18,O20)>=1,TRUE,FALSE)) -> FALSE
D39: 외부기관도로 | E39: =IF(AF6=TRUE, TRUE, FALSE) -> FALSE
D40: 생태하천과 | E40: =IF( AC9=TRUE, TRUE, FALSE) -> FALSE
D41: 광주시수질정책과 | E41: =IF(AC14=TRUE, TRUE, FALSE) -> FALSE
D42: 주택과 | E42: =IF(COUNTIF(Sheet1!$D$11:$D$18,O20)>=1,TRUE,FALSE) -> FALSE
D43: 건축과 | E43: =IF(COUNTIF(Sheet1!$D$11:$D$18,O18)>=1,TRUE,FALSE) -> FALSE
D44: 도시재생과 | E44: =IF(AC13=TRUE, TRUE, FALSE) -> FALSE
D45: 토지정보과 | E45: FALSE
D46: 국가철도공단 | E46: =IF(AC4=TRUE, TRUE, FALSE) -> FALSE
D47: 노인복지과 | E47: =IF( OR( Q27=TRUE, Q29=TRUE), TRUE, FALSE) -> FALSE
D48: 관광과 | E48: =IF(Q28=TRUE, TRUE, FALSE) -> FALSE

Sheet 1
A1: 도시기획단 | C1: 『경관법』 및 『2030기본경관계획』 등 관련법 저촉여부 협의부서
C3: 도시기획단 | D3: 회계과 | E3: 문화예술과 | F3: 노인장애인과 | G3: 체육진흥과 | H3: 일자리정책과 | I3: 기업지원과 | J3: 농업정책과 | K3: 축산과 | L3: 산림과 | M3: 도시정책과 | N3: 도시개발과 | O3: 건설정책과 | P3: 시민안전담당관 | Q3: 공원조성과
C4: 처인구보건소 | D4: 환경과 | E4: 기후에너지과 | F4: 도시청결과 | G4: 교통정책과 | H4: 대중교통과 | I4: 수도시설과 | J4: 자치행정과 | K4: 도시미관과 | L4: 민원지적과 | M4: 사회복지과 | N4: 교통과 | O4: 산업환경과 | P4: 건설도로과 | Q4: 건축허가과
A5: 입력시트 | C5: 용인소방서 | D5: 용인교육청 | E5: 한국부동산원 | F5: 용인서부경찰서 | G5: 공군작전사령부 | H5: 한국산업안전보건공단 | I5: 아동보육과 | J5: 외부기관도로 | K5: 생태하천과 | L5: 광주시수질정책과 | M5: 주택과 | N5: 건축과 | O5: 도시재생과 | P5: 토지정보과 | Q5: 국가철도공단
C6: 노인복지과 | D6: 관광과
C8: ■ 협의사항 | M8: ■ 일반협의내용
C9: 관련법 | D9: 협의사항 | M9: 중점경관관리 구역내 3층 이상, 높이 11미터 이상의 건축물로 용인시 경관조례 제24조(건축물의 경관심의 대상)에 따른 경관심의 대상으로, 용인시 홈페이지에 게시된 「2030 용인시 경관계획 가이드라인」 “건축물 가이드라인[건축물 공통가이드라인(p3~5) 및 단독주택 가이드라인(p6~7)]'을 사업계획에 반영하여 경관심의를 건축허가 전에 득하시기 바랍니다.
C10: 경관법 | D10: 경관법심의대상 검토 여부 협의 경관지구, 중점경관관리구역 등에서는 특정규모의 건축물은 경관심의를 받아야 합니다.
C13: ■ 담당자
C14: 전화번호 | E14: 담당업무
C15: 031-324-2413 | E15: ○ 경관,특정경관계획 수립 ○ 경관조례 운영 및 관리 ○ 경관심의위원회 운영 ○ 경관법 협의
C16: 031-324-2414 | E16: ○ 경관사업 발굴 및 시행 ○ 경관조례 운영 및 관리 ○ 경관협정 관련업무

Sheet 2
A1: 회계과 | C1: 『국공유재산 및 물품관리법』 등 관련법 검토
C3: 도시기획단 | D3: 회계과 | E3: 문화예술과 | F3: 노인장애인과 | G3: 체육진흥과 | H3: 일자리정책과 | I3: 기업지원과 | J3: 농업정책과 | K3: 축산과 | L3: 산림과 | M3: 도시정책과 | N3: 도시개발과 | O3: 건설정책과 | P3: 시민안전담당관 | Q3: 공원조성과
C4: 처인구보건소 | D4: 환경과 | E4: 기후에너지과 | F4: 도시청결과 | G4: 교통정책과 | H4: 대중교통과 | I4: 수도시설과 | J4: 자치행정과 | K4: 도시미관과 | L4: 민원지적과 | M4: 사회복지과 | N4: 교통과 | O4: 산업환경과 | P4: 건설도로과 | Q4: 건축허가과
A5: 입력시트 | C5: 용인소방서 | D5: 용인교육청 | E5: 한국부동산원 | F5: 용인서부경찰서 | G5: 공군작전사령부 | H5: 한국산업안전보건공단 | I5: 아동보육과 | J5: 외부기관도로 | K5: 생태하천과 | L5: 광주시수질정책과 | M5: 주택과 | N5: 건축과 | O5: 도시재생과 | P5: 토지정보과 | Q5: 국가철도공단
C6: 노인복지과 | D6: 관광과
C8: ■ 협의사항
C9: 관련법 | D9: 협의사항
C10: 공유재산 및 물품관리법 | D10: 공유재산 사용수익허가 계획에 대한 협의
C13: ■ 담당자
C14: 전화번호 | E14: 담당업무
C15: 031-324-3099 | E15: 공유재산 관리

Sheet 3
A1: 문화예술과 | C1: 『문화재보호법』 ,「매장문화재 보호 및 조사에 관한 법률」 등 관련법 검토
C3: 도시기획단 | D3: 회계과 | E3: 문화예술과 | F3: 노인장애인과 | G3: 체육진흥과 | H3: 일자리정책과 | I3: 기업지원과 | J3: 농업정책과 | K3: 축산과 | L3: 산림과 | M3: 도시정책과 | N3: 도시개발과 | O3: 건설정책과 | P3: 시민안전담당관 | Q3: 공원조성과
C4: 처인구보건소 | D4: 환경과 | E4: 기후에너지과 | F4: 도시청결과 | G4: 교통정책과 | H4: 대중교통과 | I4: 수도시설과 | J4: 자치행정과 | K4: 도시미관과 | L4: 민원지적과 | M4: 사회복지과 | N4: 교통과 | O4: 산업환경과 | P4: 건설도로과 | Q4: 건축허가과
A5: 입력시트 | C5: 용인소방서 | D5: 용인교육청 | E5: 한국부동산원 | F5: 용인서부경찰서 | G5: 공군작전사령부 | H5: 한국산업안전보건공단 | I5: 아동보육과 | J5: 외부기관도로 | K5: 생태하천과 | L5: 광주시수질정책과 | M5: 주택과 | N5: 건축과 | O5: 도시재생과 | P5: 토지정보과 | Q5: 국가철도공단
C6: 노인복지과 | D6: 관광과
C8: ■ 협의사항 | M8: ■ 예상협의내용
C9: 관련법 | D9: 협의사항 | M9: 매장문화재 보호 및 조사에 관한 법률 제5조 및 제17조 - 사업 시행중 문화재가 발견될 경우 즉시 공사를 중지하고 문화예술과에 신고 조치
C10: 매장문화재 보호 및 조사에 관한 법률 | D10: 대지조성공사에 따른 사업지내에 매장문화재에 관한 협의
C13: ■ 담당자
C14: 전화번호 | E14: 담당업무
C15: 031-324-2147 | E15: ○ 문화재 건축협의(처인구)
C16: 031-324-2144 | E16: ○ 문화재 건축협의(기흥구, 수지구)

Sheet 4
A1: 노인장애인과 | C1: 『노인복지법』,『장사 등에 관한 법률』 등 관련법 검토
C3: 도시기획단 | D3: 회계과 | E3: 문화예술과 | F3: 노인장애인과 | G3: 체육진흥과 | H3: 일자리정책과 | I3: 기업지원과 | J3: 농업정책과 | K3: 축산과 | L3: 산림과 | M3: 도시정책과 | N3: 도시개발과 | O3: 건설정책과 | P3: 시민안전담당관 | Q3: 공원조성과
C4: 처인구보건소 | D4: 환경과 | E4: 기후에너지과 | F4: 도시청결과 | G4: 교통정책과 | H4: 대중교통과 | I4: 수도시설과 | J4: 자치행정과 | K4: 도시미관과 | L4: 민원지적과 | M4: 사회복지과 | N4: 교통과 | O4: 산업환경과 | P4: 건설도로과 | Q4: 건축허가과
A5: 입력시트 | C5: 용인소방서 | D5: 용인교육청 | E5: 한국부동산원 | F5: 용인서부경찰서 | G5: 공군작전사령부 | H5: 한국산업안전보건공단 | I5: 아동보육과 | J5: 외부기관도로 | K5: 생태하천과 | L5: 광주시수질정책과 | M5: 주택과 | N5: 건축과 | O5: 도시재생과 | P5: 토지정보과 | Q5: 국가철도공단
C6: 노인복지과 | D6: 관광과
C8: ■ 협의사항
C9: 관련법 | D9: 협의사항
C10: 노인복지법 | D10: 노유자시설 건축허가 신청시 관련기준에 대한 협의
C13: ■ 담당자
C14: 전화번호 | E14: 담당업무
C15: 031-324-2461 | E15: 사회복지법인, 노인주거복지시설 등
C16: 031-324-2465 | E16: 기능보강사업(노인요양시설),노인복지관 시설관리(수지노인복지관 공사)

Sheet 5
A1: 체육진흥과 | C1: 『체육시설의 설치 및 이용에 관한 법률』 등 관련법 검토
C3: 도시기획단 | D3: 회계과 | E3: 문화예술과 | F3: 노인장애인과 | G3: 체육진흥과 | H3: 일자리정책과 | I3: 기업지원과 | J3: 농업정책과 | K3: 축산과 | L3: 산림과 | M3: 도시정책과 | N3: 도시개발과 | O3: 건설정책과 | P3: 시민안전담당관 | Q3: 공원조성과
C4: 처인구보건소 | D4: 환경과 | E4: 기후에너지과 | F4: 도시청결과 | G4: 교통정책과 | H4: 대중교통과 | I4: 수도시설과 | J4: 자치행정과 | K4: 도시미관과 | L4: 민원지적과 | M4: 사회복지과 | N4: 교통과 | O4: 산업환경과 | P4: 건설도로과 | Q4: 건축허가과
A5: 입력시트 | C5: 용인소방서 | D5: 용인교육청 | E5: 한국부동산원 | F5: 용인서부경찰서 | G5: 공군작전사령부 | H5: 한국산업안전보건공단 | I5: 아동보육과 | J5: 외부기관도로 | K5: 생태하천과 | L5: 광주시수질정책과 | M5: 주택과 | N5: 건축과 | O5: 도시재생과 | P5: 토지정보과 | Q5: 국가철도공단
C6: 노인복지과 | D6: 관광과
C8: ■ 협의사항
C9: 관련법 | D9: 협의사항
C10: 체육시설의 설치 및 이용에 관한 법률 | D10: 체육시설(운동시설) 건축허가 신청시 협의
C13: ■ 담당자
C14: 전화번호 | E14: 담당업무
C15: 031-324-2485 | E15: 생활체육시설 확충 - 처인구, 수지구 체육시설 확충 및 민원응대 - 모현레스피아 및 둔전풋살장 조명보수 생활체육확충 국도비 지원사업 관리 - 체육진흥기금, 특조, 균특, 특별교부세 공공체육시설 협의 및 인수인계 체육시설 공사감독(전기)

Sheet 6
A1: 일자리정책과 | C1: 『유통산업발전법』 등 관련법 검토
C3: 도시기획단 | D3: 회계과 | E3: 문화예술과 | F3: 노인장애인과 | G3: 체육진흥과 | H3: 일자리정책과 | I3: 기업지원과 | J3: 농업정책과 | K3: 축산과 | L3: 산림과 | M3: 도시정책과 | N3: 도시개발과 | O3: 건설정책과 | P3: 시민안전담당관 | Q3: 공원조성과
C4: 처인구보건소 | D4: 환경과 | E4: 기후에너지과 | F4: 도시청결과 | G4: 교통정책과 | H4: 대중교통과 | I4: 수도시설과 | J4: 자치행정과 | K4: 도시미관과 | L4: 민원지적과 | M4: 사회복지과 | N4: 교통과 | O4: 산업환경과 | P4: 건설도로과 | Q4: 건축허가과
A5: 입력시트 | C5: 용인소방서 | D5: 용인교육청 | E5: 한국부동산원 | F5: 용인서부경찰서 | G5: 공군작전사령부 | H5: 한국산업안전보건공단 | I5: 아동보육과 | J5: 외부기관도로 | K5: 생태하천과 | L5: 광주시수질정책과 | M5: 주택과 | N5: 건축과 | O5: 도시재생과 | P5: 토지정보과 | Q5: 국가철도공단
C6: 노인복지과 | D6: 관광과
C8: ■ 협의사항
C9: 관련법 | D9: 협의사항
C10: 유통산업발전법 | D10: 판매시설 용도 건축허가 신청시 관련기준 협의
C13: ■ 담당자
C14: 전화번호 | E14: 담당업무
C15: 031-324-2275 | E15: ○ 대(준)규모점포 개설등록 관리 ○ 공동집배송센터 지정 추천 및 관리 ○ 특수거래 행정처분 ○ 담배소매인관련 조례 운영 ○ 소비자정책심의,소비자상담센터관리,물가모니터

Sheet 7
A1: 기업지원과 | C1: 『산업집적활성화 및 공장설립에 관한 법률』 등 관련법 검토
C3: 도시기획단 | D3: 회계과 | E3: 문화예술과 | F3: 노인장애인과 | G3: 체육진흥과 | H3: 일자리정책과 | I3: 기업지원과 | J3: 농업정책과 | K3: 축산과 | L3: 산림과 | M3: 도시정책과 | N3: 도시개발과 | O3: 건설정책과 | P3: 시민안전담당관 | Q3: 공원조성과
C4: 처인구보건소 | D4: 환경과 | E4: 기후에너지과 | F4: 도시청결과 | G4: 교통정책과 | H4: 대중교통과 | I4: 수도시설과 | J4: 자치행정과 | K4: 도시미관과 | L4: 민원지적과 | M4: 사회복지과 | N4: 교통과 | O4: 산업환경과 | P4: 건설도로과 | Q4: 건축허가과
A5: 입력시트 | C5: 용인소방서 | D5: 용인교육청 | E5: 한국부동산원 | F5: 용인서부경찰서 | G5: 공군작전사령부 | H5: 한국산업안전보건공단 | I5: 아동보육과 | J5: 외부기관도로 | K5: 생태하천과 | L5: 광주시수질정책과 | M5: 주택과 | N5: 건축과 | O5: 도시재생과 | P5: 토지정보과 | Q5: 국가철도공단
C6: 노인복지과 | D6: 관광과
C8: ■ 협의사항
C9: 관련법 | D9: 협의사항
C10: 산업집적활성화 및 공장설립에 관한 법률 | D10: 공장용도 건축허가 신청 시 관련법 협의
C13: ■ 담당자
C14: 전화번호 | E14: 담당업무
C15: 031-324-2281 | E15: ○ 공장설립(제조시설)승인(기흥구,수지구,남사면) ○ 지식산업센터 설립 승인(수지구) ○ 공장관련 복합협의(기흥구,수지구,남사면) ○ 공장설립(제조시설)사후관리(기흥구,수지구,남사면) ○ 제증명
C16: 031-324-2272 | E16: ○ 공장설립(제조시설) 승인 (모현읍, 양지면, 백암면, 처인구 4개동) ○ 지식산업센터 설립 승인(처인구, 영덕동, 구갈동) ○ 공장관련 복합협의(모현읍, 양지면, 백암면, 처인구 4개동) ○ 공장설립(제조시설) 사후관리(모현읍, 양지면, 백암면, 처인구 4개동) ○ 제증명
C17: 031-324-2282 | E17: ○ 공장설립(제조시설) 승인(포곡읍, 이동읍, 원삼면) ○ 지식산업센터 설립 승인(중동, 청덕동, 농서동) ○ 공장관련 복합협의(포곡읍, 이동읍, 원삼면) ○ 공장설립(제조시설) 사후관리(포곡읍, 이동읍, 원삼면) ○ 제증명

Sheet 8
A1: 농업정책과 | C1: 『농지법』,『농어촌정비법』, 『국유재산법』 등 관련법 검토
C3: 도시기획단 | D3: 회계과 | E3: 문화예술과 | F3: 노인장애인과 | G3: 체육진흥과 | H3: 일자리정책과 | I3: 기업지원과 | J3: 농업정책과 | K3: 축산과 | L3: 산림과 | M3: 도시정책과 | N3: 도시개발과 | O3: 건설정책과 | P3: 시민안전담당관 | Q3: 공원조성과
C4: 처인구보건소 | D4: 환경과 | E4: 기후에너지과 | F4: 도시청결과 | G4: 교통정책과 | H4: 대중교통과 | I4: 수도시설과 | J4: 자치행정과 | K4: 도시미관과 | L4: 민원지적과 | M4: 사회복지과 | N4: 교통과 | O4: 산업환경과 | P4: 건설도로과 | Q4: 건축허가과
A5: 입력시트 | C5: 용인소방서 | D5: 용인교육청 | E5: 한국부동산원 | F5: 용인서부경찰서 | G5: 공군작전사령부 | H5: 한국산업안전보건공단 | I5: 아동보육과 | J5: 외부기관도로 | K5: 생태하천과 | L5: 광주시수질정책과 | M5: 주택과 | N5: 건축과 | O5: 도시재생과 | P5: 토지정보과 | Q5: 국가철도공단
C6: 노인복지과 | D6: 관광과
C8: ■ 협의사항
C9: 관련법 | D9: 협의사항
C10: 농지법 | D10: 1,500㎡ 이상 농지를 전용하는 경우 협의
C11: 농어촌정비법 | D11: 진입로 개설 등 국유구거를 점용할 경우 협의
C14: ■ 담당자
C15: 전화번호 | E15: 담당업무
C16: 031-324-2316 | E16: ○ 농지전용허가 및 협의(포곡,모현,4개동,기흥,수지) ○ 농업진흥지역 관리 및 농지일반
C17: 031-324-2317 | E17: ○ 농지전용허가 및 협의(남사,이동,원삼,백암,양지) ○ 농지전용상황보고 및 농지보전부담금 체납관리
C18: 031-324-3166 | E18: ○ 농업생산기반시설의 사용허가(수지,기흥,모현,포곡) ○ 국·공유재산 협의 및 복합심의(수지,기흥,모현,포곡) ○ 국·공유재산 관련 소송 ○ 저수지 편입 미불용지 보상업무 ○ 국·공유재산 실태조사 및 디브레인 자료정리 ○ 세외수입(변상금, 사용료 부과·환급)
C19: 031-324-2425 | E19: ○ 국,공유재산 용도폐지 및 관리전화 ○ 국,공유재산 무상귀속 협의 ○ 한국농어촌공사 위수탁사업 ○ 국,공유재산 관련 소송 ○ 저수지 편입 미불용지 보상
C20: 031-324-3167 | E20: ○ 목적외 사용승인(이동,남사,원삼,백암,양지,4개동)
C21: 031-324-2426 | E21: ○ 재해위험 저수지 정비사업 ○ 수리시설 개보수, 농업용수개발사업 ○ 농업기반시설 유지관리(관정,저수지,보,양수장 등) ○ 경지정리(환지청산금등) 및 밭 기반 정비사업 ○ 농업생산기반시설 등록 및 변경, 통계업무 ○ 농업용 저수지 수질관리 및 수리계 관리 ○ 농업기반시설 재난재해

Sheet 9
A1: 축산과 | C1: 『축산법』, 『가축분뇨의 관리 및 이용에 관한 법률』,『비료관리법』 등 관련법 검토
C3: 도시기획단 | D3: 회계과 | E3: 문화예술과 | F3: 노인장애인과 | G3: 체육진흥과 | H3: 일자리정책과 | I3: 기업지원과 | J3: 농업정책과 | K3: 축산과 | L3: 산림과 | M3: 도시정책과 | N3: 도시개발과 | O3: 건설정책과 | P3: 시민안전담당관 | Q3: 공원조성과
C4: 처인구보건소 | D4: 환경과 | E4: 기후에너지과 | F4: 도시청결과 | G4: 교통정책과 | H4: 대중교통과 | I4: 수도시설과 | J4: 자치행정과 | K4: 도시미관과 | L4: 민원지적과 | M4: 사회복지과 | N4: 교통과 | O4: 산업환경과 | P4: 건설도로과 | Q4: 건축허가과
A5: 입력시트 | C5: 용인소방서 | D5: 용인교육청 | E5: 한국부동산원 | F5: 용인서부경찰서 | G5: 공군작전사령부 | H5: 한국산업안전보건공단 | I5: 아동보육과 | J5: 외부기관도로 | K5: 생태하천과 | L5: 광주시수질정책과 | M5: 주택과 | N5: 건축과 | O5: 도시재생과 | P5: 토지정보과 | Q5: 국가철도공단
C6: 노인복지과 | D6: 관광과
C8: ■ 협의사항
C9: 관련법 | D9: 협의사항
C10: 축산법 | D10: 축사 등 동식물관련시설 건축허가 신청 관련기준 협의
C13: ■ 담당자
C14: 전화번호 | E14: 담당업무
C15: 031-324-2321 | E15: 가축분뇨처리사업, 축산환경개선사업, 무허가축사 적법화, 축산재해 및 초지

Sheet 10
A1: 산림과 | C1: 『산지관리법』 등 관련법 검토
C3: 도시기획단 | D3: 회계과 | E3: 문화예술과 | F3: 노인장애인과 | G3: 체육진흥과 | H3: 일자리정책과 | I3: 기업지원과 | J3: 농업정책과 | K3: 축산과 | L3: 산림과 | M3: 도시정책과 | N3: 도시개발과 | O3: 건설정책과 | P3: 시민안전담당관 | Q3: 공원조성과
C4: 처인구보건소 | D4: 환경과 | E4: 기후에너지과 | F4: 도시청결과 | G4: 교통정책과 | H4: 대중교통과 | I4: 수도시설과 | J4: 자치행정과 | K4: 도시미관과 | L4: 민원지적과 | M4: 사회복지과 | N4: 교통과 | O4: 산업환경과 | P4: 건설도로과 | Q4: 건축허가과
A5: 입력시트 | C5: 용인소방서 | D5: 용인교육청 | E5: 한국부동산원 | F5: 용인서부경찰서 | G5: 공군작전사령부 | H5: 한국산업안전보건공단 | I5: 아동보육과 | J5: 외부기관도로 | K5: 생태하천과 | L5: 광주시수질정책과 | M5: 주택과 | N5: 건축과 | O5: 도시재생과 | P5: 토지정보과 | Q5: 국가철도공단
C6: 노인복지과 | D6: 관광과
C8: ■ 협의사항
C9: 관련법 | D9: 협의사항
C10: 산지관리법 | D10: 1,500㎡ 이상 산지를 전용하는 경우 협의
C14: ■ 담당자
C15: 전화번호 | E15: 담당업무
C16: 031-324-3181 | E16: ○ 산지전용허가 및 협의(원삼면,백암면,남사읍,이동읍) ○ 부수적 토석채취허가
C17: 031-324-2344 | E17: ○ 산지전용허가,협의(기흥구) ○ 부수적 토석채취허가
C18: 031-324-2343 | E18: ○ 산지전용허가,협의(기흥구) ○ 부수적 토석채취허가
C19: 031-324-3182 | E19: ○ 산지전용허가·협의(수지구, 처인구 4개동) ○ 부수적 토석채취허가 ○ 채석장 환경NGO 인부임 ○ 대체산림자원조성비·복구비예치 관련 업무

Sheet 11
A1: 도시정책과 | C1: 『국토의 계획 및 이용에 관한 법률』 및 도시계획시설 등 관련법 검토
C3: 도시기획단 | D3: 회계과 | E3: 문화예술과 | F3: 노인장애인과 | G3: 체육진흥과 | H3: 일자리정책과 | I3: 기업지원과 | J3: 농업정책과 | K3: 축산과 | L3: 산림과 | M3: 도시정책과 | N3: 도시개발과 | O3: 건설정책과 | P3: 시민안전담당관 | Q3: 공원조성과
C4: 처인구보건소 | D4: 환경과 | E4: 기후에너지과 | F4: 도시청결과 | G4: 교통정책과 | H4: 대중교통과 | I4: 수도시설과 | J4: 자치행정과 | K4: 도시미관과 | L4: 민원지적과 | M4: 사회복지과 | N4: 교통과 | O4: 산업환경과 | P4: 건설도로과 | Q4: 건축허가과
A5: 입력시트 | C5: 용인소방서 | D5: 용인교육청 | E5: 한국부동산원 | F5: 용인서부경찰서 | G5: 공군작전사령부 | H5: 한국산업안전보건공단 | I5: 아동보육과 | J5: 외부기관도로 | K5: 생태하천과 | L5: 광주시수질정책과 | M5: 주택과 | N5: 건축과 | O5: 도시재생과 | P5: 토지정보과 | Q5: 국가철도공단
C6: 노인복지과 | D6: 관광과
C8: ■ 협의사항
C9: 관련법 | D9: 협의사항
C10: 국토계획법 | D10: 사업지내 도시계획시설이 연접 및 편입될 경우
C13: ■ 담당자
C14: 전화번호 | E14: 담당업무
C15: 031-324-3224 | E15: ○ 성복지구 기반시설 관리 및 소송
C16: 031-324-2383 | E16: ○ 처인구 도시계획시설 결정
C17: 031-324-2384 | E17: ○ 기흥구 기흥지역 도시계획시설 결정
C18: 031-324-3218 | E18: ○ 처인구 도시계획시설 결정
C19: 031-324-3217 | E19: ○ 기흥구 구성지역 도시계획시설 결정

Sheet 12
A1: 도시개발과 | C1: 『국토의 계획 및 이용에 관한 법률』 ,「수도권정비계획법」,「도시개발법」 등 관련법 검토
C3: 도시기획단 | D3: 회계과 | E3: 문화예술과 | F3: 노인장애인과 | G3: 체육진흥과 | H3: 일자리정책과 | I3: 기업지원과 | J3: 농업정책과 | K3: 축산과 | L3: 산림과 | M3: 도시정책과 | N3: 도시개발과 | O3: 건설정책과 | P3: 시민안전담당관 | Q3: 공원조성과
C4: 처인구보건소 | D4: 환경과 | E4: 기후에너지과 | F4: 도시청결과 | G4: 교통정책과 | H4: 대중교통과 | I4: 수도시설과 | J4: 자치행정과 | K4: 도시미관과 | L4: 민원지적과 | M4: 사회복지과 | N4: 교통과 | O4: 산업환경과 | P4: 건설도로과 | Q4: 건축허가과
A5: 입력시트 | C5: 용인소방서 | D5: 용인교육청 | E5: 한국부동산원 | F5: 용인서부경찰서 | G5: 공군작전사령부 | H5: 한국산업안전보건공단 | I5: 아동보육과 | J5: 외부기관도로 | K5: 생태하천과 | L5: 광주시수질정책과 | M5: 주택과 | N5: 건축과 | O5: 도시재생과 | P5: 토지정보과 | Q5: 국가철도공단
C6: 노인복지과 | D6: 관광과
C8: ■ 협의사항
C9: 관련법 | D9: 협의사항
C10: 국토계획법 | D10: 개발면적 5,000㎡ 이상 개발행위허가 신청 시 협의
C11: 도시개발법 | D11: 도시개발사업 구역 내 건축허가 신청 시 행위제한 여부 협의
C13: ■ 담당자
C14: 전화번호 | E14: 담당업무
C15: 031-324-2371 | E15: ○ 신규 도시개발사업 제안 등 제반사항 검토, 도시개발사업(역삼), 동천동 공공기여사업
C16: 031-324-2372 | E16: ○ 도시개발사업(신봉,신봉2)
C17: 031-324-3219 | E17: ○ 도시개발사업(동천2,동천3,역북2,신대), 준공된 도시개발사업 지구단위계획 관리
C18: 031-324-3282 | E18: ○ 도시개발사업[고림2,모현(왕산), 상현2]
C19: 031-324-3257 | E19: ○ 개발행위허가(수지구, 처인구 원삼)
C20: 031-324-3253 | E20: ○ 개발행위허가(처인구 동지역)
C21: 031-324-3243 | E21: ○ 개발행위허가(보라동 제외 기흥구)
C22: 031-324-3258 | E22: ○ 개발행위허가(포곡, 모현, 백암, 보라동)

Sheet 13
A1: 건설정책과 | C1: 『도로법』, 『국유재산법』,『지하안전관리에 관한 특별법』 등 관련법 검토
C3: 도시기획단 | D3: 회계과 | E3: 문화예술과 | F3: 노인장애인과 | G3: 체육진흥과 | H3: 일자리정책과 | I3: 기업지원과 | J3: 농업정책과 | K3: 축산과 | L3: 산림과 | M3: 도시정책과 | N3: 도시개발과 | O3: 건설정책과 | P3: 시민안전담당관 | Q3: 공원조성과
C4: 처인구보건소 | D4: 환경과 | E4: 기후에너지과 | F4: 도시청결과 | G4: 교통정책과 | H4: 대중교통과 | I4: 수도시설과 | J4: 자치행정과 | K4: 도시미관과 | L4: 민원지적과 | M4: 사회복지과 | N4: 교통과 | O4: 산업환경과 | P4: 건설도로과 | Q4: 건축허가과
A5: 입력시트 | C5: 용인소방서 | D5: 용인교육청 | E5: 한국부동산원 | F5: 용인서부경찰서 | G5: 공군작전사령부 | H5: 한국산업안전보건공단 | I5: 아동보육과 | J5: 외부기관도로 | K5: 생태하천과 | L5: 광주시수질정책과 | M5: 주택과 | N5: 건축과 | O5: 도시재생과 | P5: 토지정보과 | Q5: 국가철도공단
C6: 노인복지과 | D6: 관광과
C8: ■ 협의사항
C9: 관련법 | D9: 협의사항
C10: 도로법 | D10: 도시계획시설(도로) 저촉사항 협의
C11: 국유재산법 | D11: 국유재산(도) 점유관련 협의
C12: 지하안전관리에 관한 특별법 | D12: 지하굴착 계획이 있을 경우 협의
C15: ■ 담당자
C16: 전화번호 | E16: 담당업무
C17: 031-324-2423 | E17: ○ '도로건설관리계획 ○ 농어촌도로 기본계획 추진 ○ 국지도및지방도 사업 추진 관리 ○ 동백IC,기흥IC 협의 및 관리
C18: 031-324-2433 | E18: ○ 지방도 건설관련 계획수립 및 협의 진행 ○ 제이외곽고속도로 건설관련 관리 및 협의진행 ○ 세종~포천간고속도로 관리 및 협의진행 ○ 남사IC 설치공사 관리 및 협의 진행 ○ 삼가~대촌 대체도로 관리(궁촌, 남동교차로 개선사업 관리) ○ 민자도로 사업추진 협의 및 관리 ○ 기흥~용인 민자도로 해지시 지급금 청구 소송 진행 ○ 상갈교차로 공공임대주택 진입도로 추진 ○ 새움터 외 협의 진행
C19: 031-324-2453 | E19: ○ 국·공유재산 관리
C20: 031-324-2438 | E20: ○ 국공유재산 실태조사 ○ 국공유재산 무상귀속 협의(처인구 동지역) ○ 소송수행 ○ 국·공유재산 관련 건축 협의
C21: 031-324-2947 | E21: ○ 지중화사업 추진 ○ 지하안전관리

Sheet 14
A1: 시민안전담당관 | C1: 『자연재해대책법』검토
C3: 도시기획단 | D3: 회계과 | E3: 문화예술과 | F3: 노인장애인과 | G3: 체육진흥과 | H3: 일자리정책과 | I3: 기업지원과 | J3: 농업정책과 | K3: 축산과 | L3: 산림과 | M3: 도시정책과 | N3: 도시개발과 | O3: 건설정책과 | P3: 시민안전담당관 | Q3: 공원조성과
C4: 처인구보건소 | D4: 환경과 | E4: 기후에너지과 | F4: 도시청결과 | G4: 교통정책과 | H4: 대중교통과 | I4: 수도시설과 | J4: 자치행정과 | K4: 도시미관과 | L4: 민원지적과 | M4: 사회복지과 | N4: 교통과 | O4: 산업환경과 | P4: 건설도로과 | Q4: 건축허가과
A5: 입력시트 | C5: 용인소방서 | D5: 용인교육청 | E5: 한국부동산원 | F5: 용인서부경찰서 | G5: 공군작전사령부 | H5: 한국산업안전보건공단 | I5: 아동보육과 | J5: 외부기관도로 | K5: 생태하천과 | L5: 광주시수질정책과 | M5: 주택과 | N5: 건축과 | O5: 도시재생과 | P5: 토지정보과 | Q5: 국가철도공단
C6: 노인복지과 | D6: 관광과
C8: ■ 협의사항
C9: 관련법 | D9: 협의사항
C10: 자연재해대책법 | D10: 개발면적 5,000㎡ 이상 재해영향평가 협의
C13: ■ 담당자
C14: 전화번호 | E14: 담당업무
C15: 031-324-3742 | E15: ○ 자연재해대책법 실무 협의(처인, 수지) - 재해영향성검토 협의(행정계획) - 소규모 재해영향평가 협의(개발계획 5만㎡ 미만) - 재해영향평가 협의(개발계획 5만㎡ 이상) - 재해영향평가등 변경이행계획서 협의 - 소규모 우수유출 저감대책 협의 ○ 재해영향평가 심의위원회 운영 - 위원회 위촉 및 해촉 - 위원회 개최 및 결과보고 ○ 재해영향평가 사업장 이행실태 점검 ○ 우수유출 저감대책 수립 ○ 여름철 자연재난 대책 업무

Sheet 15
A1: 공원조성과 | C1: 『도시공원 및 녹지 등에 관한 법률』 및 완충녹지 저촉여부 등 관련법 검토
C3: 도시기획단 | D3: 회계과 | E3: 문화예술과 | F3: 노인장애인과 | G3: 체육진흥과 | H3: 일자리정책과 | I3: 기업지원과 | J3: 농업정책과 | K3: 축산과 | L3: 산림과 | M3: 도시정책과 | N3: 도시개발과 | O3: 건설정책과 | P3: 시민안전담당관 | Q3: 공원조성과
C4: 처인구보건소 | D4: 환경과 | E4: 기후에너지과 | F4: 도시청결과 | G4: 교통정책과 | H4: 대중교통과 | I4: 수도시설과 | J4: 자치행정과 | K4: 도시미관과 | L4: 민원지적과 | M4: 사회복지과 | N4: 교통과 | O4: 산업환경과 | P4: 건설도로과 | Q4: 건축허가과
A5: 입력시트 | C5: 용인소방서 | D5: 용인교육청 | E5: 한국부동산원 | F5: 용인서부경찰서 | G5: 공군작전사령부 | H5: 한국산업안전보건공단 | I5: 아동보육과 | J5: 외부기관도로 | K5: 생태하천과 | L5: 광주시수질정책과 | M5: 주택과 | N5: 건축과 | O5: 도시재생과 | P5: 토지정보과 | Q5: 국가철도공단
C6: 노인복지과 | D6: 관광과
C8: ■ 협의사항
C9: 관련법 | D9: 협의사항
C10: 도시공원 및 녹지 등에 관한 법률 | D10: 사업지내 도시공원(도시자연공원구역)이 있을 경우 협의
C13: ■ 담당자
C14: 전화번호 | E14: 담당업무
C15: 031-324-4364 | E15: ○ 공원조성계획 협의(기흥) ○ 민간공원특례사업추진(영덕1) ○ 도시공원위원회운영 및 관리
C16: 031-324-4328 | E16: ○ 공원조성계획 협의(처인,수지) - 원삼,백암,이동 ○ 도시자연공원구역 ○ 미조성 공원 관리 ○ 도시공원 통계 및 대장관리

Sheet 16
A1: 수지구보건소 | C1: 『의료법』 등 관련법 검토
C3: 도시기획단 | D3: 회계과 | E3: 문화예술과 | F3: 노인장애인과 | G3: 체육진흥과 | H3: 일자리정책과 | I3: 기업지원과 | J3: 농업정책과 | K3: 축산과 | L3: 산림과 | M3: 도시정책과 | N3: 도시개발과 | O3: 건설정책과 | P3: 시민안전담당관 | Q3: 공원조성과
C4: 처인구보건소 | D4: 환경과 | E4: 기후에너지과 | F4: 도시청결과 | G4: 교통정책과 | H4: 대중교통과 | I4: 수도시설과 | J4: 자치행정과 | K4: 도시미관과 | L4: 민원지적과 | M4: 사회복지과 | N4: 교통과 | O4: 산업환경과 | P4: 건설도로과 | Q4: 건축허가과
A5: 입력시트 | C5: 용인소방서 | D5: 용인교육청 | E5: 한국부동산원 | F5: 용인서부경찰서 | G5: 공군작전사령부 | H5: 한국산업안전보건공단 | I5: 아동보육과 | J5: 외부기관도로 | K5: 생태하천과 | L5: 광주시수질정책과 | M5: 주택과 | N5: 건축과 | O5: 도시재생과 | P5: 토지정보과 | Q5: 국가철도공단
C6: 노인복지과 | D6: 관광과
C8: ■ 협의사항
C9: 관련법 | D9: 협의사항
C10: 의료법 | D10: 근린생활시설, 의료시설 관련 신청 시 관련법 협의
C13: ■ 담당자
C14: 전화번호 | E14: 담당업무

Sheet 17
A1: 환경과 | C1: 『환경정책기본법』, 『오염총량제』,『환경영향평가법』, 『물환경보전법』 등 관련법 검토
C3: 도시기획단 | D3: 회계과 | E3: 문화예술과 | F3: 노인장애인과 | G3: 체육진흥과 | H3: 일자리정책과 | I3: 기업지원과 | J3: 농업정책과 | K3: 축산과 | L3: 산림과 | M3: 도시정책과 | N3: 도시개발과 | O3: 건설정책과 | P3: 시민안전담당관 | Q3: 공원조성과
C4: 처인구보건소 | D4: 환경과 | E4: 기후에너지과 | F4: 도시청결과 | G4: 교통정책과 | H4: 대중교통과 | I4: 수도시설과 | J4: 자치행정과 | K4: 도시미관과 | L4: 민원지적과 | M4: 사회복지과 | N4: 교통과 | O4: 산업환경과 | P4: 건설도로과 | Q4: 건축허가과
A5: 입력시트 | C5: 용인소방서 | D5: 용인교육청 | E5: 한국부동산원 | F5: 용인서부경찰서 | G5: 공군작전사령부 | H5: 한국산업안전보건공단 | I5: 아동보육과 | J5: 외부기관도로 | K5: 생태하천과 | L5: 광주시수질정책과 | M5: 주택과 | N5: 건축과 | O5: 도시재생과 | P5: 토지정보과 | Q5: 국가철도공단
C6: 노인복지과 | D6: 관광과
C8: ■ 협의사항
C9: 관련법 | D9: 협의사항
C10: 환경정책기본법 등 | D10: 『환경정책기본법』, 『오염총량제』,『환경영향평가법』, 『물환경보전법』 등 환경법에 따른 기본계획에 영향에 주는 시설 협의
C13: ■ 담당자
C14: 전화번호 | E14: 담당업무
C15: 031-324-2241 | E15: ○ 환경정책기본법,자연환경보전법 ○ 야생동물 보호 및 관리(ASF, AI) ○ 동물원, 환경교육 관련 업무 ○ 도시생태현황지도, 통합물관리 ○ 국토환경계획 통합관리추진
C16: 031-324-2252 | E16: ○ 수질오염총량관리 업무
C17: 031-324-2251 | E17: ○ 수질오염총량관리 업무(이동,남사,기흥구 일부)
C18: 031-324-3159 | E18: ○ 환경영향평가 실무협의

Sheet 18
A1: 기후에너지과 | C1: 『액화석유가스의 안전관리 및 사업법』, 『대기환경보전법』, 『소음진동관리법』 등 관련법 검토
C3: 도시기획단 | D3: 회계과 | E3: 문화예술과 | F3: 노인장애인과 | G3: 체육진흥과 | H3: 일자리정책과 | I3: 기업지원과 | J3: 농업정책과 | K3: 축산과 | L3: 산림과 | M3: 도시정책과 | N3: 도시개발과 | O3: 건설정책과 | P3: 시민안전담당관 | Q3: 공원조성과
C4: 처인구보건소 | D4: 환경과 | E4: 기후에너지과 | F4: 도시청결과 | G4: 교통정책과 | H4: 대중교통과 | I4: 수도시설과 | J4: 자치행정과 | K4: 도시미관과 | L4: 민원지적과 | M4: 사회복지과 | N4: 교통과 | O4: 산업환경과 | P4: 건설도로과 | Q4: 건축허가과
A5: 입력시트 | C5: 용인소방서 | D5: 용인교육청 | E5: 한국부동산원 | F5: 용인서부경찰서 | G5: 공군작전사령부 | H5: 한국산업안전보건공단 | I5: 아동보육과 | J5: 외부기관도로 | K5: 생태하천과 | L5: 광주시수질정책과 | M5: 주택과 | N5: 건축과 | O5: 도시재생과 | P5: 토지정보과 | Q5: 국가철도공단
C6: 노인복지과 | D6: 관광과
C8: ■ 협의사항
C9: 관련법 | D9: 협의사항
C10: 액화석유가스의 안전관리 및 사업법 | D10: 위험물저장처리시설 신청시 관련법 저촉여부
C13: ■ 담당자
C14: 전화번호 | E14: 담당업무
C15: 031-324-3663 | E15: ○ 에너지관리팀 업무 총괄
C16: 031-324-3662 | E16: ○ 대기환경팀 업무 총괄 대기.소음진동 배출시설 업무 협의

Sheet 19
A1: 도시청결과 | C1: 『폐기물관리법』,『자원의절약과 재활용촉진에 관한 법률』 등 관련법 검토
C3: 도시기획단 | D3: 회계과 | E3: 문화예술과 | F3: 노인장애인과 | G3: 체육진흥과 | H3: 일자리정책과 | I3: 기업지원과 | J3: 농업정책과 | K3: 축산과 | L3: 산림과 | M3: 도시정책과 | N3: 도시개발과 | O3: 건설정책과 | P3: 시민안전담당관 | Q3: 공원조성과
C4: 처인구보건소 | D4: 환경과 | E4: 기후에너지과 | F4: 도시청결과 | G4: 교통정책과 | H4: 대중교통과 | I4: 수도시설과 | J4: 자치행정과 | K4: 도시미관과 | L4: 민원지적과 | M4: 사회복지과 | N4: 교통과 | O4: 산업환경과 | P4: 건설도로과 | Q4: 건축허가과
A5: 입력시트 | C5: 용인소방서 | D5: 용인교육청 | E5: 한국부동산원 | F5: 용인서부경찰서 | G5: 공군작전사령부 | H5: 한국산업안전보건공단 | I5: 아동보육과 | J5: 외부기관도로 | K5: 생태하천과 | L5: 광주시수질정책과 | M5: 주택과 | N5: 건축과 | O5: 도시재생과 | P5: 토지정보과 | Q5: 국가철도공단
C6: 노인복지과 | D6: 관광과
C8: ■ 협의사항
C9: 관련법 | D9: 협의사항
C10: 자원절약과 재활용촉진에 관한법률 | D10: 자원순환시설 용도 건축허가 신청시 관련법 저촉여부
C12: ■ 담당자
C13: 전화번호 | E13: 담당업무
C14: 031-324-2335 | E14: ○ 폐기물 재활용업 인허가(협의) 및 지도점검·처분 ○ 폐기물 처분업 인허가(협의) 및 지도점검·처분 ○ 재활용업·처분업 방치폐기물 관리 및 처리 ○ 재활용업·처분업 올바로시스템(전자인계서 등) 관리 ○ 지정·의료폐기물 재활용업·처분업 협의 ○ 조례, 규칙, 고시 등 제·개정 업무
C15: 031-324-2336 | E15: ○ 건설폐기물 처리업 인허가(협의) 및 지도점검·처분 ○ 건설폐기물 임시 수집·운반증 발급 ○ 음식물류폐기물 처리업 인허가(협의) 및 지도점검·처분 ○ 건설·음식물류폐기물 처리업 방치폐기물 관리 및 처리 ○ 폐기물처리담당자 법정교육 관리

Sheet 20
A1: 교통정책과 | C1: 『주차장법』, 『도시교통정비촉진법』, 『대도시권 광역교통관리에 관한 특별법』 등 관련법 검토,및 어린이보호구역 포함여부
C3: 도시기획단 | D3: 회계과 | E3: 문화예술과 | F3: 노인장애인과 | G3: 체육진흥과 | H3: 일자리정책과 | I3: 기업지원과 | J3: 농업정책과 | K3: 축산과 | L3: 산림과 | M3: 도시정책과 | N3: 도시개발과 | O3: 건설정책과 | P3: 시민안전담당관 | Q3: 공원조성과
C4: 처인구보건소 | D4: 환경과 | E4: 기후에너지과 | F4: 도시청결과 | G4: 교통정책과 | H4: 대중교통과 | I4: 수도시설과 | J4: 자치행정과 | K4: 도시미관과 | L4: 민원지적과 | M4: 사회복지과 | N4: 교통과 | O4: 산업환경과 | P4: 건설도로과 | Q4: 건축허가과
A5: 입력시트 | C5: 용인소방서 | D5: 용인교육청 | E5: 한국부동산원 | F5: 용인서부경찰서 | G5: 공군작전사령부 | H5: 한국산업안전보건공단 | I5: 아동보육과 | J5: 외부기관도로 | K5: 생태하천과 | L5: 광주시수질정책과 | M5: 주택과 | N5: 건축과 | O5: 도시재생과 | P5: 토지정보과 | Q5: 국가철도공단
C6: 노인복지과 | D6: 관광과
C8: ■ 협의사항
C9: 관련법 | D9: 협의사항
C10: 주차장법 | D10: 건축물에 의무적으로설치해야되는 주차장의 설치대수, 설치기준 등 협의
C11: 대도시권광역교통관리에 관한 특별법 | D11: 광역교통시설부담금 납부대상 여부 협의
C12: 도시교통정비 촉진법 | D12: 교통영향평가협의 대상 협의
C14: ■ 담당자
C15: 전화번호 | E15: 담당업무
C16: 031-324-3326 | E16: ○ 교통영향평가 및 인허가 협의(처인) ○ 교통법정계획(교통안전, 교통약자, 교통물류, 보행교통) 수립 ○ 도시교통정비계획 수립 ○ 도시 및 광역교통에 관한 업무
C17: 031-324-3328 | E17: ○ 교통영향평가 및 인허가협의(기흥,수지) ○ 버스전용차로 설치 등
C18: 031-324-3325 | E18: ○ 부설주차장 업무협의(처인,기흥,수지) ○ 불법 주·정차 관련 법제 정비 ○ 불법 주·정차 단속 관리 ○ 주·정차 단속 문자알림서비스 운영

Sheet 21
A1: 대중교통과 | C1: 『자동차관리법』 등 관련법 저촉여부 등
C3: 도시기획단 | D3: 회계과 | E3: 문화예술과 | F3: 노인장애인과 | G3: 체육진흥과 | H3: 일자리정책과 | I3: 기업지원과 | J3: 농업정책과 | K3: 축산과 | L3: 산림과 | M3: 도시정책과 | N3: 도시개발과 | O3: 건설정책과 | P3: 시민안전담당관 | Q3: 공원조성과
C4: 처인구보건소 | D4: 환경과 | E4: 기후에너지과 | F4: 도시청결과 | G4: 교통정책과 | H4: 대중교통과 | I4: 수도시설과 | J4: 자치행정과 | K4: 도시미관과 | L4: 민원지적과 | M4: 사회복지과 | N4: 교통과 | O4: 산업환경과 | P4: 건설도로과 | Q4: 건축허가과
A5: 입력시트 | C5: 용인소방서 | D5: 용인교육청 | E5: 한국부동산원 | F5: 용인서부경찰서 | G5: 공군작전사령부 | H5: 한국산업안전보건공단 | I5: 아동보육과 | J5: 외부기관도로 | K5: 생태하천과 | L5: 광주시수질정책과 | M5: 주택과 | N5: 건축과 | O5: 도시재생과 | P5: 토지정보과 | Q5: 국가철도공단
C6: 노인복지과 | D6: 관광과
C8: ■ 협의사항
C9: 관련법 | D9: 협의사항
C10: 자동차관리법 | D10: 주기장 등 자동차관련시설 허가 신청 시 저촉여부검토
C12: ■ 담당자
C13: 전화번호 | E13: 담당업무

Sheet 22
A1: 수도시설과 | C1: 『수도법』 등 관련법 검토
C3: 도시기획단 | D3: 회계과 | E3: 문화예술과 | F3: 노인장애인과 | G3: 체육진흥과 | H3: 일자리정책과 | I3: 기업지원과 | J3: 농업정책과 | K3: 축산과 | L3: 산림과 | M3: 도시정책과 | N3: 도시개발과 | O3: 건설정책과 | P3: 시민안전담당관 | Q3: 공원조성과
C4: 처인구보건소 | D4: 환경과 | E4: 기후에너지과 | F4: 도시청결과 | G4: 교통정책과 | H4: 대중교통과 | I4: 수도시설과 | J4: 자치행정과 | K4: 도시미관과 | L4: 민원지적과 | M4: 사회복지과 | N4: 교통과 | O4: 산업환경과 | P4: 건설도로과 | Q4: 건축허가과
A5: 입력시트 | C5: 용인소방서 | D5: 용인교육청 | E5: 한국부동산원 | F5: 용인서부경찰서 | G5: 공군작전사령부 | H5: 한국산업안전보건공단 | I5: 아동보육과 | J5: 외부기관도로 | K5: 생태하천과 | L5: 광주시수질정책과 | M5: 주택과 | N5: 건축과 | O5: 도시재생과 | P5: 토지정보과 | Q5: 국가철도공단
C6: 노인복지과 | D6: 관광과
C8: ■ 협의사항 | M8: ■ 예상협의내용
C9: 관련법 | D9: 협의사항 | M9: 1)『수도법』제15조, 같은 법 시행령 제25조, 같은 법 시행규칙 제1조의2에 의거 절수설비를 설치하여야 함. 2) 『용인시 수도급수조례 시행규칙』제13조의2에 의거 수도계량기를 설치할 수 있도록 대지경계선의 3미터 이내에서 가장 가까운 위치의 대지 내 공지를 확보하여야 하며, 겨울철 동파방지를 위해 계량기 이후 내부배관은 심도 1.2m 상에 매설, 기타관로 이격거리 30cm유지, 상수관로 상부에서 지면까지 기타지장물이 없도록 시공할 것 3) 상수관로 매설급수공사 시행 이 후 건축 변경 등에 따라 수도계량기 검침이 용이하지 않을 시 우리시 요구에 따라 이설 조치하여야 함 4) 급수공사의 분기위치 및 관경은 지역실정을 고려(가압장 및 감압변 설치 등)하여 여건에 맞게 우리시에서 결정하며, 『용인시 수도급수조례』제12조 제1항에 의거 소요공사비 전액은 신청인이 부담하여야 함. 5) 상수도 인입에 따른 급수공사는 건축물 착공 후 신청하되 『용인시 수도급수조례 시행규칙』제2조 제1항에 의거 급수관 매설과 관련한 인？허가 사항 및 타인소유 토지(건물)의 토지(건물)사용승낙서 등은 급수공사 신청시 제출하여야 함.(토지 사용 승락서 미제출시 급수공사 불가함.) 6) 우리시 상수관로와 연결되는 일체의 수도시설(배수관로, 급수관로 등)은 우리시와 원인자부담공사 협의 후 설치하여야 하며 사전협의 없이 설치한 수도시설을 이용한 급수공급은 불가함.
C10: 수도법 | D10: 신축건물 상수도시설공급 협의 상수도원인자 부담금 납부대상 여부 협의
C12: ■ 담당자
C13: 전화번호 | E13: 담당업무
C14: 031-324-4241 | E14: ○ 건축 급수 협의, 원인자부담금 부과징수, 원인자공사 협의

Sheet 23
A1: 자치행정과 | C1: 『정보통신공사업법』 등 관련법 검토
C3: 도시기획단 | D3: 회계과 | E3: 문화예술과 | F3: 노인장애인과 | G3: 체육진흥과 | H3: 일자리정책과 | I3: 기업지원과 | J3: 농업정책과 | K3: 축산과 | L3: 산림과 | M3: 도시정책과 | N3: 도시개발과 | O3: 건설정책과 | P3: 시민안전담당관 | Q3: 공원조성과
C4: 처인구보건소 | D4: 환경과 | E4: 기후에너지과 | F4: 도시청결과 | G4: 교통정책과 | H4: 대중교통과 | I4: 수도시설과 | J4: 자치행정과 | K4: 도시미관과 | L4: 민원지적과 | M4: 사회복지과 | N4: 교통과 | O4: 산업환경과 | P4: 건설도로과 | Q4: 건축허가과
A5: 입력시트 | C5: 용인소방서 | D5: 용인교육청 | E5: 한국부동산원 | F5: 용인서부경찰서 | G5: 공군작전사령부 | H5: 한국산업안전보건공단 | I5: 아동보육과 | J5: 외부기관도로 | K5: 생태하천과 | L5: 광주시수질정책과 | M5: 주택과 | N5: 건축과 | O5: 도시재생과 | P5: 토지정보과 | Q5: 국가철도공단
C6: 노인복지과 | D6: 관광과
C8: ■ 협의사항 | M8: ■ 예상협의내용
C9: 관련법 | D9: 협의사항 | M9: 정보통신공사 사용전검사 대상 건축물이므로 공사완료 후 사용전검사를 받고 정보통신설비를 사용하여야 함. ※국선단자함 및 TV장치함은 실내에 설치할 것 (정보통신공사업법 제36조 및 제36조 및 같은 법 시행령 제35조의2 제3항)
C10: 정보통신공사업법 | D10: 연면적 150㎡ 이상 건축물 신청 시 정보통신공사 협의
C12: ■ 담당자
C13: 전화번호 | E13: 담당업무
C14: 031-324-8064 | E14: ○ 행정전화교환기 운영 ○ 정보통신공사 착공신고 설계도면 검토 ○ 전산장비 보급 및 운영 ○ 사랑의 PC 보내기 사업 추진 ○ 행정방송장비 운영 관리 ○ 공공요금 관리

Sheet 24
A1: 도시미관과 | C1: 『폐기물관리법』,『자원의절약및재활용촉진법』 및 어린이보호구역 포함여부(통학로 안전확보 계획 관련) 등 관련법 검토
C3: 도시기획단 | D3: 회계과 | E3: 문화예술과 | F3: 노인장애인과 | G3: 체육진흥과 | H3: 일자리정책과 | I3: 기업지원과 | J3: 농업정책과 | K3: 축산과 | L3: 산림과 | M3: 도시정책과 | N3: 도시개발과 | O3: 건설정책과 | P3: 시민안전담당관 | Q3: 공원조성과
C4: 처인구보건소 | D4: 환경과 | E4: 기후에너지과 | F4: 도시청결과 | G4: 교통정책과 | H4: 대중교통과 | I4: 수도시설과 | J4: 자치행정과 | K4: 도시미관과 | L4: 민원지적과 | M4: 사회복지과 | N4: 교통과 | O4: 산업환경과 | P4: 건설도로과 | Q4: 건축허가과
A5: 입력시트 | C5: 용인소방서 | D5: 용인교육청 | E5: 한국부동산원 | F5: 용인서부경찰서 | G5: 공군작전사령부 | H5: 한국산업안전보건공단 | I5: 아동보육과 | J5: 외부기관도로 | K5: 생태하천과 | L5: 광주시수질정책과 | M5: 주택과 | N5: 건축과 | O5: 도시재생과 | P5: 토지정보과 | Q5: 국가철도공단
C6: 노인복지과 | D6: 관광과
C8: ■ 협의사항 | M8: ■ 예상협의내용
C9: 관련법 | D9: 협의사항 | M9: 「폐기물관리법」,「건설폐기물의 재활용 촉진에 관한 법률」 - 생활폐기물배출자는 스스로 처리할 수 없는 생활폐기물을 종류별, 성질, 상태별로 분리하여 보관하여야 한다. - 당해 공사로 인해 폐기물(임목포함)이 5톤 이상 발생 할 것으로 예상 될 경우 착공 전까지 폐기물배출자(사업장, 건설, 지정) 신고 및 처리계획 확인 후 적정관리(관리대장, 인계서 작성 등 철저) 하여야 함. - 폐기물 배출완료 후 15일 이내에 폐기물배출실적보고를 하여야 함. - 공사구간에서 발생하는 건설폐기물, 공사장 생활폐기물 등 모든 폐기물 및 공사 자재는 방치하지 말고 발생즉시 수거하여 적법하게 처리하고, 폐기물은 성상별로 분리, 보관, 처리하여 주변 환경오염이 되지 않도록 하여야 함. - 무기성오니를 토사와 섞어 성토하는 경우 폐기물 신고를 득해야 함. - 용인시 폐기물 관리에 관한 조례 제6조 규정에 의거 소유지의 청결을 유지 하여야 함. 「자원의 절약과 재활용 촉진에 관한 법률」 - 폐기물을 종류, 성상별 분리 보관하여 재활용 될 수 있도록 하여야 함. 「용인시 폐기물 관리에 관한 조례」 - 생활폐기물 배출장소는 청소차량 진입이 용이한 장소에 설치하여야 한다. - 공동주택 및 다세대주택을 새로 건축하는 경우 청소차량 진입이 용이한 장소에 설치하여야 한다. ※ 분리수거 배출장소 확보 요망
C10: 폐기물관리법 | D10: 건설폐기물 처리계획 협의
C12: ■ 담당자
C13: 전화번호 | E13: 담당업무
C14: 031-324-8299 | E14: ○ 청소 민원 처리 및 단속(동천동, 신봉동) ○ 기간제근로자(무단투기) 관리 ○ 건설폐기물 유기민원 처리 및 점검

Sheet 25
A1: 민원지적과 | C1: 『공간정보의 구축 및 관리 등에 관한 법률』 등 관련법 검토
C3: 도시기획단 | D3: 회계과 | E3: 문화예술과 | F3: 노인장애인과 | G3: 체육진흥과 | H3: 일자리정책과 | I3: 기업지원과 | J3: 농업정책과 | K3: 축산과 | L3: 산림과 | M3: 도시정책과 | N3: 도시개발과 | O3: 건설정책과 | P3: 시민안전담당관 | Q3: 공원조성과
C4: 처인구보건소 | D4: 환경과 | E4: 기후에너지과 | F4: 도시청결과 | G4: 교통정책과 | H4: 대중교통과 | I4: 수도시설과 | J4: 자치행정과 | K4: 도시미관과 | L4: 민원지적과 | M4: 사회복지과 | N4: 교통과 | O4: 산업환경과 | P4: 건설도로과 | Q4: 건축허가과
A5: 입력시트 | C5: 용인소방서 | D5: 용인교육청 | E5: 한국부동산원 | F5: 용인서부경찰서 | G5: 공군작전사령부 | H5: 한국산업안전보건공단 | I5: 아동보육과 | J5: 외부기관도로 | K5: 생태하천과 | L5: 광주시수질정책과 | M5: 주택과 | N5: 건축과 | O5: 도시재생과 | P5: 토지정보과 | Q5: 국가철도공단
C6: 노인복지과 | D6: 관광과
C8: ■ 협의사항 | M8: ■ 예상협의내용
C9: 관련법 | D9: 협의사항 | M9: 공간정보의 구축 및 관리 등에 관한 법률에 의거 토지이동(등록전환, 토지분할, 지목변경, 토지합병 등)을 신청하시기 바랍니다. - 각종 인가·허가 등의 내용과 다르게 토지의 형질이 변경되었을 경우에는 그 변경된 토지의 현황대로 분할선을 결정하시기 바랍니다. - 측량기준점 표지를 파손하거나 그 효용을 해칠 우려가 있는 경우에는 그 측량기준점 표지를 설치한 자에게 이전을 신청하시기 바랍니다. - 동법 시행령 제55조(지상 경계의 결정기준 등)제1항에 의거 경계결정 기준에 부적합한 경우 별도의 협의가 필요합니다.
C10: 공간정보의 구축 및 관리 등에 관한 법률 | D10: 건축허가 전 토지분할, 합병 협의, 토지거래계약에 관한 허가구역 제한사항
C12: ■ 담당자
C13: 전화번호 | E13: 담당업무
C14: 031-324-8121 | E14: ○ 지적측량성과검사 및 토지이동(동천동, 고기동 제외) ○ 정리(동천,고기제외) ○ 부동산행정정보 일원화 사업 ○ 부동산종합공부시스템 운영 ○ 지적기준점 관리 ○ 도해지역 측량성과관리 ○ 소송수행 ○ 지적공부 정비사업
C15: 031-324-8123 | E15: ○ 토지이동정리 및 측량성과검사 (동천동, 고기동) ○ 소유권정리 / 등기촉탁 ○ 조상땅 찾기 / 소송수행 ○ 부동산등기용 등록번호 부여

Sheet 26
A1: 사회복지과 | C1: 「노인복지법」, 「장애인.노인.임산부등의 편의증진 보장에 관한법률」,「장사 등에 관한 법률」,「영유아보육법」 등 관련법 검토
C3: 도시기획단 | D3: 회계과 | E3: 문화예술과 | F3: 노인장애인과 | G3: 체육진흥과 | H3: 일자리정책과 | I3: 기업지원과 | J3: 농업정책과 | K3: 축산과 | L3: 산림과 | M3: 도시정책과 | N3: 도시개발과 | O3: 건설정책과 | P3: 시민안전담당관 | Q3: 공원조성과
C4: 처인구보건소 | D4: 환경과 | E4: 기후에너지과 | F4: 도시청결과 | G4: 교통정책과 | H4: 대중교통과 | I4: 수도시설과 | J4: 자치행정과 | K4: 도시미관과 | L4: 민원지적과 | M4: 사회복지과 | N4: 교통과 | O4: 산업환경과 | P4: 건설도로과 | Q4: 건축허가과
A5: 입력시트 | C5: 용인소방서 | D5: 용인교육청 | E5: 한국부동산원 | F5: 용인서부경찰서 | G5: 공군작전사령부 | H5: 한국산업안전보건공단 | I5: 아동보육과 | J5: 외부기관도로 | K5: 생태하천과 | L5: 광주시수질정책과 | M5: 주택과 | N5: 건축과 | O5: 도시재생과 | P5: 토지정보과 | Q5: 국가철도공단
C6: 노인복지과 | D6: 관광과
C8: ■ 협의사항
C9: 관련법 | D9: 협의사항
C10: 「장애인.노인.임산부등의 편의증진 보장에 관한법률」 | D10: 일정용도 및 규모의 건축물의 장애인편의시설 설치 대상여부 협의
C12: ■ 담당자
C13: 전화번호 | E13: 담당업무
C14: 031-324-8260 | E14: 장애인편의시설 협의

Sheet 27
A1: 교통과 | C1: 「도로법」, 「도로교통법」 교통안전시설 설치 기준 및 관련법 저촉여부 등
C3: 도시기획단 | D3: 회계과 | E3: 문화예술과 | F3: 노인장애인과 | G3: 체육진흥과 | H3: 일자리정책과 | I3: 기업지원과 | J3: 농업정책과 | K3: 축산과 | L3: 산림과 | M3: 도시정책과 | N3: 도시개발과 | O3: 건설정책과 | P3: 시민안전담당관 | Q3: 공원조성과
C4: 처인구보건소 | D4: 환경과 | E4: 기후에너지과 | F4: 도시청결과 | G4: 교통정책과 | H4: 대중교통과 | I4: 수도시설과 | J4: 자치행정과 | K4: 도시미관과 | L4: 민원지적과 | M4: 사회복지과 | N4: 교통과 | O4: 산업환경과 | P4: 건설도로과 | Q4: 건축허가과
A5: 입력시트 | C5: 용인소방서 | D5: 용인교육청 | E5: 한국부동산원 | F5: 용인서부경찰서 | G5: 공군작전사령부 | H5: 한국산업안전보건공단 | I5: 아동보육과 | J5: 외부기관도로 | K5: 생태하천과 | L5: 광주시수질정책과 | M5: 주택과 | N5: 건축과 | O5: 도시재생과 | P5: 토지정보과 | Q5: 국가철도공단
C6: 노인복지과 | D6: 관광과
C8: ■ 협의사항
C9: 관련법 | D9: 협의사항
C10: 도로법 도로교통법 | D10: 교통안전시설 설치 기준 및 관련법 저촉여부 등 버스승강장 이전, 개설 등 협의
C12: ■ 담당자
C13: 전화번호 | E13: 담당업무
C14: 031-324-8351 | E14: ○ 교통안전시설물 관련 협의, ○ 교통안전시설물 개선 사업, ○ 어린이보호구역 유지·관리
C15: 031-324-8359 | E15: ○ 교통안전시설물(철물) ○ 버스/택시승강장 신설 및 교체 ○ 버스/택시승강장 유지 관리
C16: 031-324-8352 | E16: ○ 교통안전시설물(노면표시) 유지·관리 및 민원처리 ○ 주차장 점검 및 유지관리 ○ 기계식주차장 관리

Sheet 28
A1: 산업환경과 | C1: 『하수도법』,『소음진동관리법』,『대기환경보전법』,『도시공원 및 녹지 등에 관한 법률』 , 『수질 및 수생태계 환경보전에 관한 법률』 관련법 검토
C3: 도시기획단 | D3: 회계과 | E3: 문화예술과 | F3: 노인장애인과 | G3: 체육진흥과 | H3: 일자리정책과 | I3: 기업지원과 | J3: 농업정책과 | K3: 축산과 | L3: 산림과 | M3: 도시정책과 | N3: 도시개발과 | O3: 건설정책과 | P3: 시민안전담당관 | Q3: 공원조성과
C4: 처인구보건소 | D4: 환경과 | E4: 기후에너지과 | F4: 도시청결과 | G4: 교통정책과 | H4: 대중교통과 | I4: 수도시설과 | J4: 자치행정과 | K4: 도시미관과 | L4: 민원지적과 | M4: 사회복지과 | N4: 교통과 | O4: 산업환경과 | P4: 건설도로과 | Q4: 건축허가과
A5: 입력시트 | C5: 용인소방서 | D5: 용인교육청 | E5: 한국부동산원 | F5: 용인서부경찰서 | G5: 공군작전사령부 | H5: 한국산업안전보건공단 | I5: 아동보육과 | J5: 외부기관도로 | K5: 생태하천과 | L5: 광주시수질정책과 | M5: 주택과 | N5: 건축과 | O5: 도시재생과 | P5: 토지정보과 | Q5: 국가철도공단
C6: 노인복지과 | D6: 관광과
C8: ■ 협의사항 | M8: ■ 예상협의내용
C9: 관련법 | D9: 협의사항 | M9: ·하수도법: 발생오수 전량 공공하수처리장(분류식처리구역) 유입인 경우 저촉없음.(단, 유입제외 등의 사유로 미유입 시 별도 협의하여야 함.) ··대기환경보전법: 공사 시 비산먼지 발생을 최소화하고 인근 주민들에게 먼지(분진) 등으로 인하여 피해가 없도록 사업장 관리에 철저를 기할 것. 단, 굴착토사량 200㎥ 이상인 공사 및 연접 지역에 동일 토지주의 토지에서 공사가 진행되는 경우에는 공사면적을 합하여 1,000㎡이상일 경우 착공 전까지 비산먼지 발생사업신고를 득할 것 ·소음진동관리법: 특정장비 5일 이상 사용 시 착공 전 특정공사사전신고를 득할 것. ·물환경보전법: 공사시 토사가 인근 하천으로 직유입되지 않도록 사업시행 전에 사업부지내 가배수로 및 침사지 등 설치, 토사 유출 우려가 있는 경우에는 하천에 오탁방지막 설치 등의 방제조치를 하여야 함.
C10: 하수도법 | D10: 처리구역 외 개인하수처리시설 설치에 관한 협의
C11: 소음진동관리법 등 | D11: 비산먼지, 특정공사 신고 사업장 협의
C13: ■ 담당자
C14: 전화번호 | E14: 담당업무
C15: 031-324-8280 | E15: 환경관리팀 업무 총괄, 처리구역 외 개인하수처리시설 설치 협의
C16: 031-324-8282 | E16: 비산먼지,특정공사,생활소음 ※지역:동천동, 풍덕천동
C17: 031-324-8281 | E17: ○ 비산먼지 발생사업 신고 수리, 지도점검, 행정처분 ○ 특정공사 사전신고 수리, 지도점검, 행정처분 ○ 생활소음 민원 처리 및 회신 (상현1동, 상현2동, 신봉동, 죽전1동, 죽전2동, 성복동) ○ 특정토양오염관리대상시설 관리 ○ 수질오염사고 대응

Sheet 29
A1: 건설도로과 | C1: 『도로법』, 『도로점용』 ,『국유재산법』,『하수도법』, 『지하수법』,『하천법』,『소하천정비법』등 관련법 검토
C3: 도시기획단 | D3: 회계과 | E3: 문화예술과 | F3: 노인장애인과 | G3: 체육진흥과 | H3: 일자리정책과 | I3: 기업지원과 | J3: 농업정책과 | K3: 축산과 | L3: 산림과 | M3: 도시정책과 | N3: 도시개발과 | O3: 건설정책과 | P3: 시민안전담당관 | Q3: 공원조성과
C4: 처인구보건소 | D4: 환경과 | E4: 기후에너지과 | F4: 도시청결과 | G4: 교통정책과 | H4: 대중교통과 | I4: 수도시설과 | J4: 자치행정과 | K4: 도시미관과 | L4: 민원지적과 | M4: 사회복지과 | N4: 교통과 | O4: 산업환경과 | P4: 건설도로과 | Q4: 건축허가과
A5: 입력시트 | C5: 용인소방서 | D5: 용인교육청 | E5: 한국부동산원 | F5: 용인서부경찰서 | G5: 공군작전사령부 | H5: 한국산업안전보건공단 | I5: 아동보육과 | J5: 외부기관도로 | K5: 생태하천과 | L5: 광주시수질정책과 | M5: 주택과 | N5: 건축과 | O5: 도시재생과 | P5: 토지정보과 | Q5: 국가철도공단
C6: 노인복지과 | D6: 관광과
C8: ■ 협의사항
C9: 관련법 | D9: 협의사항
C10: 도로법 | D10: 사업지 인근 도시계획시설 행위 저촉여부
C11: 도로점용 | D11: 국유도로 점용계획에 관한 협의
C12: 하수도법 | D12: 처리구역 내 배수시설 설치협의
C13: 지하수법 | D13: 지하수 이용시 관련법 협의
C14: 하천법/소하천정비법 | D14: 사업지 인근 하천구역이 있을 시 관련법 저촉 여부
C16: ■ 담당자
C17: 전화번호 | E17: 담당업무
C18: 031-324-8433 | E18: ○ 도로업무 협의(죽전,동천,고기,성복) 및 인수인계 ○ 도로유지관리 예산 수립 ○ 도로시설물 유지관리(연간단가:토목 3권역) - 죽전동 ○ 주민불편해소사업 ○ 제설, 설해대책
C19: 031-324-8439 | E19: ○ 도로협의(신봉, 상현, 풍덕천) ○ 도로시설물 유지관리(연간단가:토목 2권역)풍덕천,상현 ○ 도로재포장 사업(죽전동, 풍덕천동, 상현동) ○ 소송업무(손해배상공제, 손해보험) ○ 영조물배상 공제 사고접수(터널, 교량 제외) ○ 주민불편해소사업
C20: 031-324-8422 | E20: o 도로점용허가 및 국공유지 사용허가관리(성복,동천,상현,풍덕천동) o 국공유재산 실태조사 및 변상금 부과 o 교통량조사 o 도로굴착관리심의
C21: 031-324-8424 | E21: ○ 도로점용허가(고기, 신봉, 죽전동) ○ 국공유지 사용수익허가 및 관리 ○ 도로관리심의 위원회 운영
C22: 031-324-8411 | E22: ○ 하수도법 협의,유지관리,배수설비 ○ 하수도 원인자부담금 부과징수(영업신고) ○ 지하수 일반 ○ 약수터 관리

Sheet 30
A1: 건축허가과 | C1: 『국토의 계획 및 이용에 관한 법률』,『농지법』,『산지관리법』 등 관련법 검토
C3: 도시기획단 | D3: 회계과 | E3: 문화예술과 | F3: 노인장애인과 | G3: 체육진흥과 | H3: 일자리정책과 | I3: 기업지원과 | J3: 농업정책과 | K3: 축산과 | L3: 산림과 | M3: 도시정책과 | N3: 도시개발과 | O3: 건설정책과 | P3: 시민안전담당관 | Q3: 공원조성과
C4: 처인구보건소 | D4: 환경과 | E4: 기후에너지과 | F4: 도시청결과 | G4: 교통정책과 | H4: 대중교통과 | I4: 수도시설과 | J4: 자치행정과 | K4: 도시미관과 | L4: 민원지적과 | M4: 사회복지과 | N4: 교통과 | O4: 산업환경과 | P4: 건설도로과 | Q4: 건축허가과
A5: 입력시트 | C5: 용인소방서 | D5: 용인교육청 | E5: 한국부동산원 | F5: 용인서부경찰서 | G5: 공군작전사령부 | H5: 한국산업안전보건공단 | I5: 아동보육과 | J5: 외부기관도로 | K5: 생태하천과 | L5: 광주시수질정책과 | M5: 주택과 | N5: 건축과 | O5: 도시재생과 | P5: 토지정보과 | Q5: 국가철도공단
C6: 노인복지과 | D6: 관광과
C8: ■ 협의사항
C9: 관련법 | D9: 협의사항
C10: 건축허가 | D10: 건축허가 신청할 경우 협의
C11: 개발행위 | D11: 5,000㎡ 개발행위허가를 신청할 경우 협의
C12: 농지산지전용허가 | D12: 1,500㎡ 농지, 산지전용허가를 신청할 경우 협의
C14: ■ 담당자
C15: 전화번호 | E15: 담당업무
C16: 031-324-8473 | E16: ○ 건축허가,신고/공작물축조신고(고기동)
C17: 031-324-8523 | E17: ○ 건축허가,신고/공작물축조신고(동천동,상현동)
C18: 031-324-8472 | E18: ○ 건축허가,신고/공작물축조신고(성복, 죽전, 풍덕천동)
C19: 031-324-8474 | E19: ○ 건축허가,신고/공작물축조신고(신봉동)
C20: 031-324-8511 | E20: ○ 개발행위허가 및 준공[신봉동, 풍덕천동]
C21: 031-324-8512 | E21: ○ 개발행위허가 및 준공[동천동, 죽전동]
C22: 031-324-8513 | E22: ○ 개발행위허가 및 준공[고기동]
C23: 031-324-8514 | E23: ○ 개발행위허가 및 준공[성복동, 신봉동] 개발제한구역 행위허가, 관리 및 지도 단속
C24: 031-324-8521 | E24: ○ 농지ㆍ산지전용 업무[1,500㎡ 이하][고기동,풍덕천동,죽전동,성복동]
C25: 031-324-8522 | E25: ○ 농지전용 및 산지전용허가,협의, 농지산지전용 업무(동천동, 신봉동, 상현동)

Sheet 31
A1: 용인소방서 | C1: 『화재예방, 소방시설설치유지 및 안전관리에 관한 법률』 등 관련법 검토
C3: 도시기획단 | D3: 회계과 | E3: 문화예술과 | F3: 노인장애인과 | G3: 체육진흥과 | H3: 일자리정책과 | I3: 기업지원과 | J3: 농업정책과 | K3: 축산과 | L3: 산림과 | M3: 도시정책과 | N3: 도시개발과 | O3: 건설정책과 | P3: 시민안전담당관 | Q3: 공원조성과
C4: 처인구보건소 | D4: 환경과 | E4: 기후에너지과 | F4: 도시청결과 | G4: 교통정책과 | H4: 대중교통과 | I4: 수도시설과 | J4: 자치행정과 | K4: 도시미관과 | L4: 민원지적과 | M4: 사회복지과 | N4: 교통과 | O4: 산업환경과 | P4: 건설도로과 | Q4: 건축허가과
A5: 입력시트 | C5: 용인소방서 | D5: 용인교육청 | E5: 한국부동산원 | F5: 용인서부경찰서 | G5: 공군작전사령부 | H5: 한국산업안전보건공단 | I5: 아동보육과 | J5: 외부기관도로 | K5: 생태하천과 | L5: 광주시수질정책과 | M5: 주택과 | N5: 건축과 | O5: 도시재생과 | P5: 토지정보과 | Q5: 국가철도공단
C6: 노인복지과 | D6: 관광과
C8: ■ 협의사항
C9: 관련법 | D9: 협의사항
C10: 소방시설유치법 | D10: 연면적 400제곱미터 이상 등 건축물에 특정시설물 소방설비 설치 협의
C12: ■ 담당자
C13: 전화번호 | E13: 담당업무
C14: 031-8021-0322 | E14: 소방시설유치법 협의

Sheet 32
A1: 용인교육청 | C1: 『학원설립의운영 및 과외교습에 관한 법률』,『학교보건법』 , 『교육환경보호에 관한 법률』 등 관련법 검토
C3: 도시기획단 | D3: 회계과 | E3: 문화예술과 | F3: 노인장애인과 | G3: 체육진흥과 | H3: 일자리정책과 | I3: 기업지원과 | J3: 농업정책과 | K3: 축산과 | L3: 산림과 | M3: 도시정책과 | N3: 도시개발과 | O3: 건설정책과 | P3: 시민안전담당관 | Q3: 공원조성과
C4: 처인구보건소 | D4: 환경과 | E4: 기후에너지과 | F4: 도시청결과 | G4: 교통정책과 | H4: 대중교통과 | I4: 수도시설과 | J4: 자치행정과 | K4: 도시미관과 | L4: 민원지적과 | M4: 사회복지과 | N4: 교통과 | O4: 산업환경과 | P4: 건설도로과 | Q4: 건축허가과
A5: 입력시트 | C5: 용인소방서 | D5: 용인교육청 | E5: 한국부동산원 | F5: 용인서부경찰서 | G5: 공군작전사령부 | H5: 한국산업안전보건공단 | I5: 아동보육과 | J5: 외부기관도로 | K5: 생태하천과 | L5: 광주시수질정책과 | M5: 주택과 | N5: 건축과 | O5: 도시재생과 | P5: 토지정보과 | Q5: 국가철도공단
C6: 노인복지과 | D6: 관광과
C8: ■ 협의사항
C9: 관련법 | D9: 협의사항
C10: 학교보건법 | D10: 교육환경보호구역 내 건축물 입지가능 여부협의, 통학로 안전 협의
C12: ■ 담당자
C13: 전화번호 | E13: 담당업무
C14: 031-8020-9287 | E14: ○ 정화구역 금지행위 및 시설 제외 협의 ○ 통학로 안전 협의

Sheet 33
A1: 한국부동산원 | C1: 『녹색건축물조성지원법』,『건축물의 에너지 절약 설계 기준』 등 관련법 검토
C3: 도시기획단 | D3: 회계과 | E3: 문화예술과 | F3: 노인장애인과 | G3: 체육진흥과 | H3: 일자리정책과 | I3: 기업지원과 | J3: 농업정책과 | K3: 축산과 | L3: 산림과 | M3: 도시정책과 | N3: 도시개발과 | O3: 건설정책과 | P3: 시민안전담당관 | Q3: 공원조성과
C4: 처인구보건소 | D4: 환경과 | E4: 기후에너지과 | F4: 도시청결과 | G4: 교통정책과 | H4: 대중교통과 | I4: 수도시설과 | J4: 자치행정과 | K4: 도시미관과 | L4: 민원지적과 | M4: 사회복지과 | N4: 교통과 | O4: 산업환경과 | P4: 건설도로과 | Q4: 건축허가과
A5: 입력시트 | C5: 용인소방서 | D5: 용인교육청 | E5: 한국부동산원 | F5: 용인서부경찰서 | G5: 공군작전사령부 | H5: 한국산업안전보건공단 | I5: 아동보육과 | J5: 외부기관도로 | K5: 생태하천과 | L5: 광주시수질정책과 | M5: 주택과 | N5: 건축과 | O5: 도시재생과 | P5: 토지정보과 | Q5: 국가철도공단
C6: 노인복지과 | D6: 관광과
C8: ■ 협의사항
C9: 관련법 | D9: 협의사항
C10: 녹샌건축물법 | D10: 연면적 500㎡이상 에너지절약계획서 제출 대상 건축물 협의
C12: ■ 담당자
C13: 전화번호 | E13: 담당업무
C14: 02-2187-4095 | E14: 에너지절약계획서 검토

Sheet 34
A1: 용인서부경찰서 | C1: 교통안전시설물 설치 및 관련법 저촉여부 등
C3: 도시기획단 | D3: 회계과 | E3: 문화예술과 | F3: 노인장애인과 | G3: 체육진흥과 | H3: 일자리정책과 | I3: 기업지원과 | J3: 농업정책과 | K3: 축산과 | L3: 산림과 | M3: 도시정책과 | N3: 도시개발과 | O3: 건설정책과 | P3: 시민안전담당관 | Q3: 공원조성과
C4: 처인구보건소 | D4: 환경과 | E4: 기후에너지과 | F4: 도시청결과 | G4: 교통정책과 | H4: 대중교통과 | I4: 수도시설과 | J4: 자치행정과 | K4: 도시미관과 | L4: 민원지적과 | M4: 사회복지과 | N4: 교통과 | O4: 산업환경과 | P4: 건설도로과 | Q4: 건축허가과
A5: 입력시트 | C5: 용인소방서 | D5: 용인교육청 | E5: 한국부동산원 | F5: 용인서부경찰서 | G5: 공군작전사령부 | H5: 한국산업안전보건공단 | I5: 아동보육과 | J5: 외부기관도로 | K5: 생태하천과 | L5: 광주시수질정책과 | M5: 주택과 | N5: 건축과 | O5: 도시재생과 | P5: 토지정보과 | Q5: 국가철도공단
C6: 노인복지과 | D6: 관광과
C8: ■ 협의사항
C9: 관련법 | D9: 협의사항
C10: 도로교통법 | D10: 교통흐름, 교통안전시설물 설치계획 협의
C12: ■ 담당자
C13: 전화번호 | E13: 담당업무
C14: 031-8021-8354 | E14: 교통시설물 협의

Sheet 35
A1: 공군작전사령부 | C1: 『군사시설보호법』, 『군용항공기지법』 및 관련법 저촉여부 등
C3: 도시기획단 | D3: 회계과 | E3: 문화예술과 | F3: 노인장애인과 | G3: 체육진흥과 | H3: 일자리정책과 | I3: 기업지원과 | J3: 농업정책과 | K3: 축산과 | L3: 산림과 | M3: 도시정책과 | N3: 도시개발과 | O3: 건설정책과 | P3: 시민안전담당관 | Q3: 공원조성과
C4: 처인구보건소 | D4: 환경과 | E4: 기후에너지과 | F4: 도시청결과 | G4: 교통정책과 | H4: 대중교통과 | I4: 수도시설과 | J4: 자치행정과 | K4: 도시미관과 | L4: 민원지적과 | M4: 사회복지과 | N4: 교통과 | O4: 산업환경과 | P4: 건설도로과 | Q4: 건축허가과
A5: 입력시트 | C5: 용인소방서 | D5: 용인교육청 | E5: 한국부동산원 | F5: 용인서부경찰서 | G5: 공군작전사령부 | H5: 한국산업안전보건공단 | I5: 아동보육과 | J5: 외부기관도로 | K5: 생태하천과 | L5: 광주시수질정책과 | M5: 주택과 | N5: 건축과 | O5: 도시재생과 | P5: 토지정보과 | Q5: 국가철도공단
C6: 노인복지과 | D6: 관광과
C8: ■ 협의사항
C9: 관련법 | D9: 협의사항
C10: 군사시설보호법 | D10: 비행안전구역에 건축허가신청시, 높이제한 검토
C12: ■ 담당자
C13: 전화번호 | E13: 담당업무
C14: - | E14: -

Sheet 36
A1: 한국산업안전보건공단 | C1: 제조업 유해위험방지계획서 제출대상 여부 등 『산업안전보건법』 관련 검토
C3: 도시기획단 | D3: 회계과 | E3: 문화예술과 | F3: 노인장애인과 | G3: 체육진흥과 | H3: 일자리정책과 | I3: 기업지원과 | J3: 농업정책과 | K3: 축산과 | L3: 산림과 | M3: 도시정책과 | N3: 도시개발과 | O3: 건설정책과 | P3: 시민안전담당관 | Q3: 공원조성과
C4: 처인구보건소 | D4: 환경과 | E4: 기후에너지과 | F4: 도시청결과 | G4: 교통정책과 | H4: 대중교통과 | I4: 수도시설과 | J4: 자치행정과 | K4: 도시미관과 | L4: 민원지적과 | M4: 사회복지과 | N4: 교통과 | O4: 산업환경과 | P4: 건설도로과 | Q4: 건축허가과
A5: 입력시트 | C5: 용인소방서 | D5: 용인교육청 | E5: 한국부동산원 | F5: 용인서부경찰서 | G5: 공군작전사령부 | H5: 한국산업안전보건공단 | I5: 아동보육과 | J5: 외부기관도로 | K5: 생태하천과 | L5: 광주시수질정책과 | M5: 주택과 | N5: 건축과 | O5: 도시재생과 | P5: 토지정보과 | Q5: 국가철도공단
C6: 노인복지과 | D6: 관광과
C8: ■ 협의사항
C9: 관련법 | D9: 협의사항
C10: 산업안전보건법 | D10: 굴착 깊이 10미터이상 또는 높이 31미터 이상 건축물 등 유해위험방지계획서 제출대상 사업장 협의
C12: ■ 담당자
C13: 전화번호 | E13: 담당업무
C14: - | E14: -

Sheet 37
A1: 아동보육과 | C1: 『영유아보호법』 및 관련법 검토
C3: 도시기획단 | D3: 회계과 | E3: 문화예술과 | F3: 노인장애인과 | G3: 체육진흥과 | H3: 일자리정책과 | I3: 기업지원과 | J3: 농업정책과 | K3: 축산과 | L3: 산림과 | M3: 도시정책과 | N3: 도시개발과 | O3: 건설정책과 | P3: 시민안전담당관 | Q3: 공원조성과
C4: 처인구보건소 | D4: 환경과 | E4: 기후에너지과 | F4: 도시청결과 | G4: 교통정책과 | H4: 대중교통과 | I4: 수도시설과 | J4: 자치행정과 | K4: 도시미관과 | L4: 민원지적과 | M4: 사회복지과 | N4: 교통과 | O4: 산업환경과 | P4: 건설도로과 | Q4: 건축허가과
A5: 입력시트 | C5: 용인소방서 | D5: 용인교육청 | E5: 한국부동산원 | F5: 용인서부경찰서 | G5: 공군작전사령부 | H5: 한국산업안전보건공단 | I5: 아동보육과 | J5: 외부기관도로 | K5: 생태하천과 | L5: 광주시수질정책과 | M5: 주택과 | N5: 건축과 | O5: 도시재생과 | P5: 토지정보과 | Q5: 국가철도공단
C6: 노인복지과 | D6: 관광과
C8: ■ 협의사항
C9: 관련법 | D9: 협의사항
C10: 영유아보호법 | D10: 노유자시설 설치 기준, 사업지 인근 금지시설 협의
C12: ■ 담당자
C13: 전화번호 | E13: 담당업무
C14: 031-324-3619 | E14: ○ 지역아동센터 보조금(국비)지원 및 운영,관리 총괄 ○ 지역아동센터 지도점검 및 평가 ○ 지역아동센터 설치 및 변경신고 ○ 아동돌봄 일반

Sheet 38
A1: 외부기관도로 | C1: 진출입로 및 오․우수관로 굴착사항 등 저촉여부 검토
C3: 도시기획단 | D3: 회계과 | E3: 문화예술과 | F3: 노인장애인과 | G3: 체육진흥과 | H3: 일자리정책과 | I3: 기업지원과 | J3: 농업정책과 | K3: 축산과 | L3: 산림과 | M3: 도시정책과 | N3: 도시개발과 | O3: 건설정책과 | P3: 시민안전담당관 | Q3: 공원조성과
C4: 처인구보건소 | D4: 환경과 | E4: 기후에너지과 | F4: 도시청결과 | G4: 교통정책과 | H4: 대중교통과 | I4: 수도시설과 | J4: 자치행정과 | K4: 도시미관과 | L4: 민원지적과 | M4: 사회복지과 | N4: 교통과 | O4: 산업환경과 | P4: 건설도로과 | Q4: 건축허가과
A5: 입력시트 | C5: 용인소방서 | D5: 용인교육청 | E5: 한국부동산원 | F5: 용인서부경찰서 | G5: 공군작전사령부 | H5: 한국산업안전보건공단 | I5: 아동보육과 | J5: 외부기관도로 | K5: 생태하천과 | L5: 광주시수질정책과 | M5: 주택과 | N5: 건축과 | O5: 도시재생과 | P5: 토지정보과 | Q5: 국가철도공단
C6: 노인복지과 | D6: 관광과
C8: ■ 협의사항
C9: 관련법 | D9: 협의사항
C10: 도로법 | D10: 외부기관 소관 도로에 대한 점용 가능 여부
C13: ■ 담당자
C14: 전화번호 | E14: 담당업무
C15: 031-715-4680 | E15: 경수고속도로㈜ 소관 도로점용 가능 여부
C16: 031-218-1746 | E16: 수원국토관리사무소 소관 도로점용 가능 여부

Sheet 39
A1: 생태하천과 | C1: 『하천법』, 『국유재산법』, 『소하천정비법』 등 관련법 검토
C3: 도시기획단 | D3: 회계과 | E3: 문화예술과 | F3: 노인장애인과 | G3: 체육진흥과 | H3: 일자리정책과 | I3: 기업지원과 | J3: 농업정책과 | K3: 축산과 | L3: 산림과 | M3: 도시정책과 | N3: 도시개발과 | O3: 건설정책과 | P3: 시민안전담당관 | Q3: 공원조성과
C4: 처인구보건소 | D4: 환경과 | E4: 기후에너지과 | F4: 도시청결과 | G4: 교통정책과 | H4: 대중교통과 | I4: 수도시설과 | J4: 자치행정과 | K4: 도시미관과 | L4: 민원지적과 | M4: 사회복지과 | N4: 교통과 | O4: 산업환경과 | P4: 건설도로과 | Q4: 건축허가과
A5: 입력시트 | C5: 용인소방서 | D5: 용인교육청 | E5: 한국부동산원 | F5: 용인서부경찰서 | G5: 공군작전사령부 | H5: 한국산업안전보건공단 | I5: 아동보육과 | J5: 외부기관도로 | K5: 생태하천과 | L5: 광주시수질정책과 | M5: 주택과 | N5: 건축과 | O5: 도시재생과 | P5: 토지정보과 | Q5: 국가철도공단
C6: 노인복지과 | D6: 관광과
C8: ■ 협의사항
C9: 관련법 | D9: 협의사항
C10: 하천법 | D10: 사업부지 인근 하천구역내 금지행위 여부 협의
C12: ■ 담당자
C13: 전화번호 | E13: 담당업무
C14: 031-324-2456 | E14: 하천법 협의

Sheet 40
A1: 광주시 수질정책과 | C1: 『환경정책기본법』 『수도법』 등 관련법 검토
C3: 도시기획단 | D3: 회계과 | E3: 문화예술과 | F3: 노인장애인과 | G3: 체육진흥과 | H3: 일자리정책과 | I3: 기업지원과 | J3: 농업정책과 | K3: 축산과 | L3: 산림과 | M3: 도시정책과 | N3: 도시개발과 | O3: 건설정책과 | P3: 시민안전담당관 | Q3: 공원조성과
C4: 처인구보건소 | D4: 환경과 | E4: 기후에너지과 | F4: 도시청결과 | G4: 교통정책과 | H4: 대중교통과 | I4: 수도시설과 | J4: 자치행정과 | K4: 도시미관과 | L4: 민원지적과 | M4: 사회복지과 | N4: 교통과 | O4: 산업환경과 | P4: 건설도로과 | Q4: 건축허가과
A5: 입력시트 | C5: 용인소방서 | D5: 용인교육청 | E5: 한국부동산원 | F5: 용인서부경찰서 | G5: 공군작전사령부 | H5: 한국산업안전보건공단 | I5: 아동보육과 | J5: 외부기관도로 | K5: 생태하천과 | L5: 광주시수질정책과 | M5: 주택과 | N5: 건축과 | O5: 도시재생과 | P5: 토지정보과 | Q5: 국가철도공단
C6: 노인복지과 | D6: 관광과
C8: ■ 협의사항
C9: 관련법 | D9: 협의사항
C10: 수도법 | D10: 모현면, 포곡읍 오염총량, 환경정책기본법 등 제한 사항
C12: ■ 담당자
C13: 전화번호 | E13: 담당업무
C14: 031-760-2517 | E14: -

Sheet 41
A1: 주택과 | C1: 『주택법』 등 관련법 검토
C3: 도시기획단 | D3: 회계과 | E3: 문화예술과 | F3: 노인장애인과 | G3: 체육진흥과 | H3: 일자리정책과 | I3: 기업지원과 | J3: 농업정책과 | K3: 축산과 | L3: 산림과 | M3: 도시정책과 | N3: 도시개발과 | O3: 건설정책과 | P3: 시민안전담당관 | Q3: 공원조성과
C4: 처인구보건소 | D4: 환경과 | E4: 기후에너지과 | F4: 도시청결과 | G4: 교통정책과 | H4: 대중교통과 | I4: 수도시설과 | J4: 자치행정과 | K4: 도시미관과 | L4: 민원지적과 | M4: 사회복지과 | N4: 교통과 | O4: 산업환경과 | P4: 건설도로과 | Q4: 건축허가과
A5: 입력시트 | C5: 용인소방서 | D5: 용인교육청 | E5: 한국부동산원 | F5: 용인서부경찰서 | G5: 공군작전사령부 | H5: 한국산업안전보건공단 | I5: 아동보육과 | J5: 외부기관도로 | K5: 생태하천과 | L5: 광주시수질정책과 | M5: 주택과 | N5: 건축과 | O5: 도시재생과 | P5: 토지정보과 | Q5: 국가철도공단
C6: 노인복지과 | D6: 관광과
C8: ■ 협의사항
C9: 관련법 | D9: 협의사항
C10: 주택법 | D10: 주택단지인근 금지시설, 사업계획승인 여부
C12: ■ 담당자
C13: 전화번호 | E13: 담당업무
C14: 031-324-3792 | E14: 공동주택팀 업무 총괄

Sheet 42
A1: 건축과 | C1: 「수도권정비법」 규정에 따른 공장총량
C3: 도시기획단 | D3: 회계과 | E3: 문화예술과 | F3: 노인장애인과 | G3: 체육진흥과 | H3: 일자리정책과 | I3: 기업지원과 | J3: 농업정책과 | K3: 축산과 | L3: 산림과 | M3: 도시정책과 | N3: 도시개발과 | O3: 건설정책과 | P3: 시민안전담당관 | Q3: 공원조성과
C4: 처인구보건소 | D4: 환경과 | E4: 기후에너지과 | F4: 도시청결과 | G4: 교통정책과 | H4: 대중교통과 | I4: 수도시설과 | J4: 자치행정과 | K4: 도시미관과 | L4: 민원지적과 | M4: 사회복지과 | N4: 교통과 | O4: 산업환경과 | P4: 건설도로과 | Q4: 건축허가과
A5: 입력시트 | C5: 용인소방서 | D5: 용인교육청 | E5: 한국부동산원 | F5: 용인서부경찰서 | G5: 공군작전사령부 | H5: 한국산업안전보건공단 | I5: 아동보육과 | J5: 외부기관도로 | K5: 생태하천과 | L5: 광주시수질정책과 | M5: 주택과 | N5: 건축과 | O5: 도시재생과 | P5: 토지정보과 | Q5: 국가철도공단
C6: 노인복지과 | D6: 관광과
C8: ■ 협의사항
C9: 관련법 | D9: 협의사항
C10: 수도권정비법 | D10: 수도권 내 공장총량 관리
C12: ■ 담당자
C13: 전화번호 | E13: 담당업무
C14: 031-324-3248 | E14: 공장 총 허용량 분배 및 관리

Sheet 43
A1: 도시재생과 | C1: 『도시 및 주거환경정비법』 등 관련법 검토
C3: 도시기획단 | D3: 회계과 | E3: 문화예술과 | F3: 노인장애인과 | G3: 체육진흥과 | H3: 일자리정책과 | I3: 기업지원과 | J3: 농업정책과 | K3: 축산과 | L3: 산림과 | M3: 도시정책과 | N3: 도시개발과 | O3: 건설정책과 | P3: 시민안전담당관 | Q3: 공원조성과
C4: 처인구보건소 | D4: 환경과 | E4: 기후에너지과 | F4: 도시청결과 | G4: 교통정책과 | H4: 대중교통과 | I4: 수도시설과 | J4: 자치행정과 | K4: 도시미관과 | L4: 민원지적과 | M4: 사회복지과 | N4: 교통과 | O4: 산업환경과 | P4: 건설도로과 | Q4: 건축허가과
A5: 입력시트 | C5: 용인소방서 | D5: 용인교육청 | E5: 한국부동산원 | F5: 용인서부경찰서 | G5: 공군작전사령부 | H5: 한국산업안전보건공단 | I5: 아동보육과 | J5: 외부기관도로 | K5: 생태하천과 | L5: 광주시수질정책과 | M5: 주택과 | N5: 건축과 | O5: 도시재생과 | P5: 토지정보과 | Q5: 국가철도공단
C6: 노인복지과 | D6: 관광과
C8: ■ 협의사항
C9: 관련법 | D9: 협의사항
C10: 도시정비법 | D10: 정비구역 내 행위제한 협의
C12: ■ 담당자
C13: 전화번호 | E13: 담당업무
C14: 031-324-3796 | E14: 주거환경업무 총괄

Sheet 44
A1: 토지정보과 | C1: 「도로명주소법」, 「개발이익환수법」, 「지적법」 등 관련법 검토
C3: 도시기획단 | D3: 회계과 | E3: 문화예술과 | F3: 노인장애인과 | G3: 체육진흥과 | H3: 일자리정책과 | I3: 기업지원과 | J3: 농업정책과 | K3: 축산과 | L3: 산림과 | M3: 도시정책과 | N3: 도시개발과 | O3: 건설정책과 | P3: 시민안전담당관 | Q3: 공원조성과
C4: 처인구보건소 | D4: 환경과 | E4: 기후에너지과 | F4: 도시청결과 | G4: 교통정책과 | H4: 대중교통과 | I4: 수도시설과 | J4: 자치행정과 | K4: 도시미관과 | L4: 민원지적과 | M4: 사회복지과 | N4: 교통과 | O4: 산업환경과 | P4: 건설도로과 | Q4: 건축허가과
A5: 입력시트 | C5: 용인소방서 | D5: 용인교육청 | E5: 한국부동산원 | F5: 용인서부경찰서 | G5: 공군작전사령부 | H5: 한국산업안전보건공단 | I5: 아동보육과 | J5: 외부기관도로 | K5: 생태하천과 | L5: 광주시수질정책과 | M5: 주택과 | N5: 건축과 | O5: 도시재생과 | P5: 토지정보과 | Q5: 국가철도공단
C6: 노인복지과 | D6: 관광과
C8: ■ 협의사항
C9: 관련법 | D9: 협의사항
C10: 도로명주소법 | D10: 도로명주소 표지판 설치 관련 등
C11: 개발이익 환수에 관한 법률 | D11: 개발부담금 부과 대상 협의
C12: 지적법, 공간정보구축법 | D12: 지적 관련 저촉사항 여부
C15: ■ 담당자
C16: 전화번호 | E16: 담당업무
C17: 031-324-3256 | E17: 개발부담금TF 총괄
C18: 031-324-2375 | E18: 주소정보관리시스템 운영
C19: 031-324-2151 | E19: 지적확정측량 성과검사

Sheet 45
A1: 국가철도공단 | C1: 「철도안전법」 등 관련법 검토
C3: 도시기획단 | D3: 회계과 | E3: 문화예술과 | F3: 노인장애인과 | G3: 체육진흥과 | H3: 일자리정책과 | I3: 기업지원과 | J3: 농업정책과 | K3: 축산과 | L3: 산림과 | M3: 도시정책과 | N3: 도시개발과 | O3: 건설정책과 | P3: 시민안전담당관 | Q3: 공원조성과
C4: 처인구보건소 | D4: 환경과 | E4: 기후에너지과 | F4: 도시청결과 | G4: 교통정책과 | H4: 대중교통과 | I4: 수도시설과 | J4: 자치행정과 | K4: 도시미관과 | L4: 민원지적과 | M4: 사회복지과 | N4: 교통과 | O4: 산업환경과 | P4: 건설도로과 | Q4: 건축허가과
A5: 입력시트 | C5: 용인소방서 | D5: 용인교육청 | E5: 한국부동산원 | F5: 용인서부경찰서 | G5: 공군작전사령부 | H5: 한국산업안전보건공단 | I5: 아동보육과 | J5: 외부기관도로 | K5: 생태하천과 | L5: 광주시수질정책과 | M5: 주택과 | N5: 건축과 | O5: 도시재생과 | P5: 토지정보과 | Q5: 국가철도공단
C6: 노인복지과 | D6: 관광과
C8: ■ 협의사항
C9: 관련법 | D9: 협의사항
C10: 철도안전법 | D10: 철도보호지구내 행위제한
C12: ■ 담당자
C13: 전화번호 | E13: 담당업무
C14: 02-788-5085 | E14: 철도보호지구내 행위신고 담당

Sheet 46
A1: 노인복지과 | C1: 「장사 등에 관한 법률」 등 관련법 검토
C3: 도시기획단 | D3: 회계과 | E3: 문화예술과 | F3: 노인장애인과 | G3: 체육진흥과 | H3: 일자리정책과 | I3: 기업지원과 | J3: 농업정책과 | K3: 축산과 | L3: 산림과 | M3: 도시정책과 | N3: 도시개발과 | O3: 건설정책과 | P3: 시민안전담당관 | Q3: 공원조성과
C4: 처인구보건소 | D4: 환경과 | E4: 기후에너지과 | F4: 도시청결과 | G4: 교통정책과 | H4: 대중교통과 | I4: 수도시설과 | J4: 자치행정과 | K4: 도시미관과 | L4: 민원지적과 | M4: 사회복지과 | N4: 교통과 | O4: 산업환경과 | P4: 건설도로과 | Q4: 건축허가과
A5: 입력시트 | C5: 용인소방서 | D5: 용인교육청 | E5: 한국부동산원 | F5: 용인서부경찰서 | G5: 공군작전사령부 | H5: 한국산업안전보건공단 | I5: 아동보육과 | J5: 외부기관도로 | K5: 생태하천과 | L5: 광주시수질정책과 | M5: 주택과 | N5: 건축과 | O5: 도시재생과 | P5: 토지정보과 | Q5: 국가철도공단
C6: 노인복지과 | D6: 관광과
C8: ■ 협의사항
C9: 관련법 | D9: 협의사항
C10: 장사 등에 관한 법률 | D10: 장사시설 인허가 관련 협의
C12: ■ 담당자
C13: 전화번호 | E13: 담당업무
C14: 031-324-2218 | E14: 장묘문화시설 관련 업무, 장사시설 인허가 및 지도점검, 평온의 숲 운영 관리

Sheet 47
A1: 관광과 | C1: 「관광진흥법」 등 관련법 검토
C3: 도시기획단 | D3: 회계과 | E3: 문화예술과 | F3: 노인장애인과 | G3: 체육진흥과 | H3: 일자리정책과 | I3: 기업지원과 | J3: 농업정책과 | K3: 축산과 | L3: 산림과 | M3: 도시정책과 | N3: 도시개발과 | O3: 건설정책과 | P3: 시민안전담당관 | Q3: 공원조성과
C4: 처인구보건소 | D4: 환경과 | E4: 기후에너지과 | F4: 도시청결과 | G4: 교통정책과 | H4: 대중교통과 | I4: 수도시설과 | J4: 자치행정과 | K4: 도시미관과 | L4: 민원지적과 | M4: 사회복지과 | N4: 교통과 | O4: 산업환경과 | P4: 건설도로과 | Q4: 건축허가과
A5: 입력시트 | C5: 용인소방서 | D5: 용인교육청 | E5: 한국부동산원 | F5: 용인서부경찰서 | G5: 공군작전사령부 | H5: 한국산업안전보건공단 | I5: 아동보육과 | J5: 외부기관도로 | K5: 생태하천과 | L5: 광주시수질정책과 | M5: 주택과 | N5: 건축과 | O5: 도시재생과 | P5: 토지정보과 | Q5: 국가철도공단
C6: 노인복지과 | D6: 관광과
C8: ■ 협의사항
C9: 관련법 | D9: 협의사항
C10: 관광진흥법 | D10: 관광숙박시설 건축허가 신청시 관련법 저촉여부
C12: ■ 담당자
C13: 전화번호 | E13: 담당업무
C14: 031-324-2447 | E14: 관광숙박업 사업계획승인,관광숙박업 지도관리 및 안전점검, 관광시설 관련 사업추진

Sheet Sheet3

Sheet Sheet4

Sheet Sheet5
