Workbook
Name 슬라이서_범위: #N/A
Name 슬라이서_주용도: #N/A
Name 슬라이서_최대지상층수: #N/A

Sheet Sheet5
E9: 구조확인서 및 구조계산서 누락 | F9: =Sheet3!B$1 -> 0.063829787 | H9: 구조계산서와 구조도면 상이 | I9: =Sheet3!AM$1 -> 0.0075093867 | K9: 단열재 설계 오류 | L9: =Sheet3!BO$1 -> 0.035043805 | N9: =INDEX($E$9:$F$45,MATCH(LARGE($F$9:$F$45,1),$F$9:$F$45,0),1) -> 공작물 배치도 및 구조도 누락 | O9: =INDEX($H$9:$I$45,MATCH(LARGE($I$9:$I$36,1),$I$9:$I$36,0),1) -> 구조안전확인서 연면적, 높이, 지역계수 등 오류 | Q9: =INDEX($K$9:$L$45,MATCH(LARGE($L$9:$L$36,1),$L$9:$L$36,0),1) -> 면적산출 오류
E10: 공작물 배치도 및 구조도 누락 | F10: =Sheet3!C$1 -> 0.073842303 | H10: 건폐율/용적률 3째자리에서 반올림 | I10: =Sheet3!AN$1 -> 0.0050062578 | K10: 주차구획 면적 오류 | L10: =Sheet3!BP$1 -> 0.0050062578 | N10: =INDEX($E$9:$F$45,MATCH(LARGE($F$9:$F$45,2),$F$9:$F$45,0),1) -> 구조확인서 및 구조계산서 누락 | O10: =INDEX($H$9:$I$45,MATCH(LARGE($I$9:$I$36,2),$I$9:$I$36,0),1) -> 신청서 오류 | Q10: =INDEX($K$9:$L$45,MATCH(LARGE($L$9:$L$36,2),$L$9:$L$36,0),1) -> 단열재 설계 오류
E11: 실내재료마감표 누락 | F11: =Sheet3!D$1 -> 0.025031289 | H11: 신청서 오류 | I11: =Sheet3!AO$1 -> 0.031289111 | K11: 면적산출 오류 | L11: =Sheet3!BQ$1 -> 0.071339174 | N11: =INDEX($E$9:$F$45,MATCH(LARGE($F$9:$F$45,3),$F$9:$F$45,0),1) -> 소방관진입창 도서 누락 | O11: =INDEX($H$9:$I$45,MATCH(LARGE($I$9:$I$36,3),$I$9:$I$36,0),1) -> 외벽마감재료 불연재료 미표기 | Q11: =INDEX($K$9:$L$45,MATCH(LARGE($L$9:$L$36,3),$L$9:$L$36,0),1) -> 구조안전확인서 kbc2016 사용 위반
E12: 실외재료마감표 누락 | F12: =Sheet3!E$1 -> 0.0012515645 | H12: 구조안전확인서 연면적, 높이, 지역계수 등 오류 | I12: =Sheet3!AP$1 -> 0.036295369 | K12: 차면시설 설계누락 | L12: =Sheet3!BR$1 -> 0.018773467
E13: 소방관진입창 도서 누락 | F13: =Sheet3!F$1 -> 0.038798498 | H13: 구조안전확인서 작성자 오류 | I13: =Sheet3!AQ$1 -> 0.0025031289 | K13: 가스저장설비이격기준 | L13: =Sheet3!BS$1 -> 0.0025031289
E14: 의제 협의 체크 누락 | F14: =Sheet3!G$1 -> 0.0075093867 | H14: 대지안의 공지 기준 위반 | I14: =Sheet3!AR$1 -> 0.0087609512 | K14: 개요와 신청서의 건축물 높이 불일치 | L14: =Sheet3!BT$1 -> 0.015018773
E15: 도로대장 누락 | F15: =Sheet3!H$1 -> 0.017521902 | H15: 건축과 토목도면 주차구획 상이 | I15: =Sheet3!AS$1 -> 0.012515645 | K15: 조경면적 최소길이 1미터 위반 | L15: =Sheet3!BU$1 -> 0.0012515645
E16: 대지안전 확인서 누락 | F16: =Sheet3!I$1 -> 0.015018773 | H16: 대지종횡단면도 경사도 표기 | I16: =Sheet3!AT$1 -> 0.010012516 | K16: 범죄예방설계가이드라인에 따른 설계적용 누락 | L16: =Sheet3!BV$1 -> 0.0075093867
E17: 입면도 누락 | F17: =Sheet3!J$1 -> 0.0075093867 | H17: 반자높이 표기 누락 | I17: =Sheet3!AU$1 -> 0.020025031 | K17: 지구단위계획 지침상 지하층 설치 불가 | L17: =Sheet3!BW$1 -> 0.0025031289
E18: 종중규약 누락 | F18: =Sheet3!K$1 -> 0.0012515645 | H18: 복합자재확인서 열관류율 누락 | I18: =Sheet3!AV$1 -> 0.020025031 | K18: 구조안전확인서 kbc2016 사용 위반 | L18: =Sheet3!BX$1 -> 0.026282854
E19: 조경계획도 누락 | F19: =Sheet3!L$1 -> 0.0075093867 | H19: 대지종단면도상 기존옹벽 표기 누락 | I19: =Sheet3!AW$1 -> 0.0075093867 | K19: 발코니확장 전 거실 2.1미터 확보 위반 | L19: =Sheet3!BY$1 -> 0.0050062578
E20: 옹벽 토목구조기술자 검토서 누락 | F20: =Sheet3!M$1 -> 0.0037546934 | H20: 외벽마감재료 불연재료 미표기 | I20: =Sheet3!AX$1 -> 0.025031289 | K20: 지표면가중평균선에서 높이 산정 | L20: =Sheet3!BZ$1 -> 0.0037546934
E21: 토지사용승낙서 누락 | F21: =Sheet3!N$1 -> 0.037546934 | H21: 공작물 축조신고 미작성 | I21: =Sheet3!AY$1 -> 0.015018773 | K21: 기타(안전) | L21: =Sheet3!CA$1 -> 0.0012515645
E22: 성장관리구역에 따른 개요의 인센티브내역 표기 누락 | F22: =Sheet3!O$1 -> 0.0037546934 | H22: 입면과 배치도상 공작물 불일치 | I22: =Sheet3!AZ$1 -> 0.0012515645
E23: 농지보전부담금 납부 영수증 누락 | F23: =Sheet3!P$1 -> 0.0087609512 | H23: 층간바닥설계 오류 | I23: =Sheet3!BA$1 -> 0.0062578223
E24: 토목도면 일체 누락 | F24: =Sheet3!Q$1 -> 0.031289111 | H24: 배치도에 인접대지경계선 치수 표기 | I24: =Sheet3!BB$1 -> 0.0075093867
E25: 배수설비 신고서 누락 | F25: =Sheet3!R$1 -> 0.02252816 | H25: 토목도면과 오우수계획도면 불일치 | I25: =Sheet3!BC$1 -> 0.0012515645
E26: 지하층 가중지표면 산정 근거표 누락 | F26: =Sheet3!S$1 -> 0.036295369 | H26: 마감재료표 단면도에 표기 누락 | I26: =Sheet3!BD$1 -> 0.0037546934
E27: 다락산정 근거표 누락 | F27: =Sheet3!T$1 -> 0.0087609512 | H27: 단열재 등급 누락 | I27: =Sheet3!BE$1 -> 0.0050062578
E28: 전기, 위생, 기계 설비도면 일체 누락 | F28: =Sheet3!U$1 -> 0.01126408 | H28: 오우수관로 최종방류구 미표기 | I28: =Sheet3!BF$1 -> 0.0037546934
E29: 건축사자격증 누락 | F29: =Sheet3!V$1 -> 0.0012515645 | H29: 도로지정탭 미입력 | I29: =Sheet3!BG$1 -> 0.010012516
E30: 창호도 누락 | F30: =Sheet3!W$1 -> 0.0050062578 | H30: 3미터마다 가중지표선 표기누락 | I30: =Sheet3!BH$1 -> 0.0087609512
E31: 도로폐지 신청서 누락 | F31: =Sheet3!X$1 -> 0.0037546934 | H31: 석축경사도 표기 누락 | I31: =Sheet3!BI$1 -> 0.0025031289
E32: 대리인위임장 누락 | F32: =Sheet3!Y$1 -> 0.0062578223 | H32: 배치도 대지종횡단면도 레벨 불일치 | I32: =Sheet3!BJ$1 -> 0.013767209
E33: 지상권자 사용 동의서 누락 | F33: =Sheet3!Z$1 -> 0.01126408 | H33: 배치도에 도시계획도로 표기 누락 | I33: =Sheet3!BK$1 -> 0.0050062578
E34: 대지종횡단면도 누락 | F34: =Sheet3!AA$1 -> 0.010012516 | H34: 차로진입구간 경사도 미표기 | I34: =Sheet3!BL$1 -> 0.0025031289
E35: 허가조서 누락 | F35: =Sheet3!AB$1 -> 0.0050062578 | H35: 접지면적 솔리드 해치 표기 누락 | I35: =Sheet3!BM$1 -> 0.0025031289
E36: 건축주 신상정보 누락 | F36: =Sheet3!AC$1 -> 0.0075093867 | H36: 배치도상 도로점용구간 표기 누락 | I36: =Sheet3!BN$1 -> 0.0050062578
E37: 성장관리방안 체크리스트 누락 | F37: =Sheet3!AD$1 -> 0.0075093867
E38: 세움터 설계도서 인증 누락 | F38: =Sheet3!AE$1 -> 0.0075093867
E39: 오우수처리계획도면 누락 | F39: =Sheet3!AF$1 -> 0.0087609512
E40: 정북방향 일조권 검토 내역서 누락 | F40: =Sheet3!AG$1 -> 0.0087609512
E41: 용도지역/지구 입력누락 | F41: =Sheet3!AH$1 -> 0.0062578223
E42: 진출입계획, 주차계획도면 누락 | F42: =Sheet3!AI$1 -> 0.0050062578
E43: 공작물축조신고서 구간별로 신청 누락 | F43: =Sheet3!AJ$1 -> 0.0037546934
E44: 에너지절약계획서 미인증 | F44: =Sheet3!AK$1 -> 0.0012515645
E45: 주택건설사업계획승인 허가취소된 증빙서류 누락 | F45: =Sheet3!AL$1 -> 0.0025031289

Sheet Sheet1
B1: 건축구분 | C1: 허가번호 | D1: 건축주명 | E1: 대지위치 | F1: 전체 | G1: 범위 | H1: 연면적(㎡) | I1: 최대지상층수 | J1: 최대지하층수 | K1: 주용도 | L1: 보완사항 | M1: 구조확인서 및 구조계산서 누락 | N1: 공작물 배치도 및 구조도 누락 | O1: 실내재료마감표 누락 | P1: 실외재료마감표 누락 | Q1: 소방관진입창 도서 누락 | R1: 의제 협의 체크 누락 | S1: 도로대장 누락 | T1: 대지안전 확인서 누락 | U1: 입면도 누락 | V1: 종중규약 누락 | W1: 조경계획도 누락 | X1: 옹벽 토목구조기술자 검토서 누락 | Y1: 토지사용승낙서 누락 | Z1: 성장관리구역에 따른 개요의 인센티브내역 표기 누락 | AA1: 농지보전부담금 납부 영수증 누락 | AB1: 토목도면 일체 누락 | AC1: 배수설비 신고서 누락 | AD1: 지하층 가중지표면 산정 근거표 누락 | AE1: 다락산정 근거표 누락 | AF1: 전기, 위생, 기계 설비도면 일체 누락 | AG1: 건축사자격증 누락 | AH1: 창호도 누락 | AI1: 도로폐지 신청서 누락 | AJ1: 대리인위임장 누락 | AK1: 지상권자 사용 동의서 누락 | AL1: 대지종횡단면도 누락 | AM1: 허가조서 누락 | AN1: 건축주 신상정보 누락 | AO1: 성장관리방안 체크리스트 누락 | AP1: 세움터 설계도서 인증 누락 | AQ1: 오우수처리계획도면 누락 | AR1: 정북방향 일조권 검토 내역서 누락 | AS1: 용도지역/지구 입력누락 | AT1: 진출입계획, 주차계획도면 누락 | AU1: 공작물축조신고서 구간별로 신청 누락 | AV1: 에너지절약계획서 미인증 | AW1: 주택건설사업계획승인 허가취소된 증빙서류 누락 | AX1: 구조계산서와 구조도면 상이 | AY1: 건폐율/용적률 3째자리에서 반올림 | AZ1: 신청서 오류 | BA1: 구조안전확인서 연면적, 높이, 지역계수 등 오류 | BB1: 구조안전확인서 작성자 오류 | BC1: 대지안의 공지 기준 위반 | BD1: 건축과 토목도면 주차구획 상이 | BE1: 대지종횡단면도 경사도 표기 | BF1: 반자높이 표기 누락 | BG1: 복합자재확인서 열관류율 누락 | BH1: 대지종단면도상 기존옹벽 표기 누락 | BI1: 외벽마감재료 불연재료 미표기 | BJ1: 공작물 축조신고 미작성 | BK1: 입면과 배치도상 공작물 불일치 | BL1: 층간바닥설계 오류 | BM1: 배치도에 인접대지경계선 치수 표기 | BN1: 토목도면과 오우수계획도면 불일치 | BO1: 마감재료표 단면도에 표기 누락 | BP1: 단열재 등급 누락 | BQ1: 오우수관로 최종방류구 미표기 | BR1: 도로지정탭 미입력 | BS1: 3미터마다 가중지표선 표기누락 | BT1: 석축경사도 표기 누락 | BU1: 배치도 대지종횡단면도 레벨 불일치 | BV1: 배치도에 도시계획도로 표기 누락 | BW1: 차로진입구간 경사도 미표기 | BX1: 접지면적 솔리드 해치 표기 누락 | BY1: 배치도상 도로점용구간 표기 누락 | BZ1: 단열재 설계 오류 | CA1: 주차구획 면적 오류 | CB1: 면적산출 오류 | CC1: 차면시설 설계누락 | CD1: 가스저장설비이격기준 | CE1: 개요와 신청서의 건축물 높이 불일치 | CF1: 조경면적 최소길이 1미터 위반 | CG1: 범죄예방설계가이드라인에 따른 설계적용 누락 | CH1: 지구단위계획 지침상 지하층 설치 불가 | CI1: 구조안전확인서 kbc2016 사용 위반 | CJ1: 발코니확장 전 거실 2.1미터 확보 위반 | CK1: 지표면가중평균선에서 높이 산정 | CL1: 기타(안전)
B2: 신축 | C2: 2020-건축허가과-신축허가-149 | D2: - | E2: 경기도 용인시 수지구 고기동 259-138 | F2: 전체 | G2: 100㎡이상~200㎡미만 | H2: 101.64 | I2: 2 | J2: 0 | K2: 제1종근린생활시설 | L2: 가. 구조확인서 및 계산서 첨부 나. 창호도면 상에 소방관진입창 명기할 것 다. 실내마감표 첨부 라. 공작물 상세도 첨부할 것. 가. 구조계산서 상의 구조 도면과 상이함. | M2: ○ | N2: ○ | O2: ○ | Q2: ○ | AX2: ○
B3: 신축 | C3: 2020-건축허가과-신축허가-97 | D3: - | E3: 경기도 용인시 수지구 고기동 655-30 외1필지 | F3: 전체 | G3: 100㎡이상~200㎡미만 | H3: 101.76 | I3: 2 | J3: 0 | K3: 단독주택 | L3: <건축보완> 1. 소방관진입창 재검토 : 실내 바닥면으로부터 창의 아랫부분까지의 높이 80센티미터 이내 바닥 단열재 기초끝까지 연장 -「주차장법 시행규칙」제3조에 따라 직각 주차단위구획(2.5mX5.0m)의 너비 길이를 적용하여 세움터 배치도에 반영하시기 바람 | Q3: ○ | BZ3: ○ | CA3: ○
B4: 신축 | C4: 2020-건축허가과-신축허가-122 | D4: - | E4: 경기도 용인시 수지구 고기동 698-8 | F4: 전체 | G4: 100㎡이상~200㎡미만 | H4: 115.14 | I4: 1 | J4: 1 | K4: 단독주택 | L4: 가. 산지전용허가 의제 확인 및 산지전용허가 신청서 첨부 나. 단독주택에 대하여 구조계산 및 구조확인, 도면 첨부할 것. 다. 진입도로에 대하여 도로대장 첨부할 것. 라. 건폐율 및 용적률 소숫점 셋째자리에서 반올림할 것. 가. 건축물 구조확인서 상의 연면적 재확인 나. 대지의 안전확인서 첨부 다. 지하주차장에 대하여 건축면적 재확인 라. 주차장 입면도 첨부할 것. | M4: ○ | S4: ○ | T4: ○ | U4: ○ | AB4: ○ | AX4: ○ | AY4: ○ | CB4: ○
B5: 신축 | C5: 2020-건축허가과-신축허가-123 | D5: - | E5: 경기도 용인시 수지구 고기동 698-7 | F5: 전체 | G5: 100㎡이상~200㎡미만 | H5: 115.14 | I5: 1 | J5: 1 | K5: 단독주택 | L5: 가. 산지전용허가 의제 확인 및 산지전용허가 신청서 첨부 나. 단독주택에 대하여 구조계산 및 구조확인, 도면 첨부할 것. 다. 진입도로에 대하여 도로대장 첨부할 것. 라. 건폐율 및 용적률 소숫점 셋째자리에서 반올림할 것. 가. 건축물 구조확인서 상의 연면적 재확인 나. 대지의 안전확인서 첨부 다. 지하주차장에 대하여 건축면적 재확인 라. 주차장 입면도 첨부할 것. | M5: ○ | S5: ○ | T5: ○ | U5: ○ | AB5: ○ | AX5: ○ | AY5: ○ | CB5: ○
B6: 신축 | C6: 2020-건축허가과-신축허가-63 | D6: - | E6: 경기도 용인시 수지구 고기동 377-4 외2필지 | F6: 전체 | G6: 100㎡이상~200㎡미만 | H6: 115.83 | I6: 1 | J6: 0 | K6: 제1종근린생활시설 | L6: 1. 신청서, 개요 지번 정정 : 477-2 -> 377-2 2. 종중 규약 1. 종중 규약 2. 면적산출 재검토 : 진료실와 보일러실 사이 벽과 지붕으로 둘러쌓인 부분 면적 산입 검토 3.기초와 벽체사이 열교현상 발생하지않도록 단열 보완 1. 기초와 벽체사이 열교현상 발생하지않도록 단열 보완 2. 종중 규약에서 정한 재산 처분등에 관한 규정에 따른 증빙서류 | V6: ○ | AZ6: ○ | BZ6: ○ | CB6: ○
B7: 신축 | C7: 2020-건축허가과-신축허가-150 | D7: - | E7: 경기도 용인시 수지구 고기동 259-138 | F7: 전체 | G7: 100㎡이상~200㎡미만 | H7: 118.94 | I7: 2 | J7: 0 | K7: 제1종근린생활시설 | L7: 가. 구조확인서 및 계산서 첨부 나. 창호도면 상에 소방관진입창 명기할 것 다. 실내마감표 첨부 라. 공작물 상세도 첨부할 것. | M7: ○ | N7: ○ | O7: ○ | Q7: ○
B8: 신축 | C8: 2020-건축허가과-신축허가-151 | D8: - | E8: 경기도 용인시 수지구 고기동 259-138 | F8: 전체 | G8: 100㎡이상~200㎡미만 | H8: 118.94 | I8: 2 | J8: 0 | K8: 제1종근린생활시설 | L8: 가. 구조확인서 및 계산서 첨부 나. 창호도면 상에 소방관진입창 명기할 것 다. 실내마감표 첨부 라. 공작물 상세도 첨부할 것. | M8: ○ | N8: ○ | O8: ○ | Q8: ○
B9: 신축 | C9: 2020-건축허가과-신축허가-153 | D9: - | E9: 경기도 용인시 수지구 고기동 259-137 | F9: 전체 | G9: 100㎡이상~200㎡미만 | H9: 118.94 | I9: 2 | J9: 0 | K9: 제1종근린생활시설 | L9: 가. 구조확인서 및 계산서 첨부 나. 창호도면 상에 소방관진입창 명기할 것 다. 실내마감표 첨부 라. 공작물 상세도 첨부할 것. | M9: ○ | N9: ○ | O9: ○ | Q9: ○
B10: 신축 | C10: 2020-건축허가과-신축허가-152 | D10: - | E10: 경기도 용인시 수지구 고기동 259-137 | F10: 전체 | G10: 100㎡이상~200㎡미만 | H10: 119.37 | I10: 3 | J10: 0 | K10: 단독주택 | L10: 가. 구조확인서 및 계산서 첨부 나. 창호도면 상에 소방관진입창 명기할 것 다. 실내마감표 첨부 라. 공작물 상세도 첨부할 것. | M10: ○ | N10: ○ | O10: ○ | Q10: ○
B11: 신축 | C11: 2020-건축허가과-신축허가-100 | D11: - | E11: 경기도 용인시 수지구 동천동 883-10 | F11: 전체 | G11: 100㎡이상~200㎡미만 | H11: 122.04 | I11: 1 | J11: 0 | K11: 단독주택 | L11: 1. 조경계획도 2.구조안전확인서상 - 지역계수0.22로 수정 -사용설계기준:건축구조기준으로 수정 - 작성자 건축사인지 건축구조기술사인지 둘중 하나로 표기 3.구조계산서상 -지역계수, 사용설계기준, 건물위치 구조안전확인서와 동일하게 수정 4.실내재료마감표 옆1~6동 삭제 5.단면도 상 지붕층 단열재 없음 6.대지안의 공지 표시(주차계획 대지안의 공지 피하여 계획) | W11: ○ | AZ11: ○ | BA11: ○ | BB11: ○ | BC11: ○ | BZ11: ○ | CI11: ○
B12: 신축 | C12: 2020-건축허가과-신축허가-106 | D12: - | E12: 경기도 용인시 수지구 고기동 30-82 외1필지 | F12: 전체 | G12: 100㎡이상~200㎡미만 | H12: 129.6 | I12: 3 | J12: 0 | K12: 단독주택 | L12: 1. 건축도면과 토목도면의 주차 상이 2. 건축법 시행령 제91조의3(관계전문기술자와의 협력)에 따라 옹벽에 대한 관계기술자의 검토서 | X12: ○ | BD12: ○
B13: 신축 | C13: 2020-건축허가과-신축허가-83 | D13: - | E13: 경기도 용인시 수지구 고기동 514-29 외1필지 | F13: 전체 | G13: 100㎡이상~200㎡미만 | H13: 129.77 | I13: 2 | J13: 0 | K13: 단독주택 | L13: 구조안전확인서 1. 토지사용승낙서 2. 건축법 제49조에 따른 소방관진입창 설치 3. 건축개요에 건폐율 인센티브 내용 기재 4. 대지종횡단면도 : 사면 표기 | M13: ○ | Q13: ○ | Y13: ○ | Z13: ○ | BE13: ○
B14: 신축 | C14: 2020-건축허가과-신축허가-30 | D14: - | E14: 경기도 용인시 수지구 고기동 719-2 | F14: 전체 | G14: 100㎡이상~200㎡미만 | H14: 130.24 | I14: 2 | J14: 0 | K14: 단독주택 | L14: 차면시설 설치 여부 확인 바람 | CC14: ○
B15: 신축 | C15: 2020-건축허가과-신축허가-175 | D15: - | E15: 경기도 용인시 수지구 고기동 403 외1필지 | F15: 전체 | G15: 100㎡이상~200㎡미만 | H15: 132 | I15: 1 | J15: 0 | K15: 제1종근린생활시설 | L15: 배치도 및 관계도서 상 도로사항 재표기 할 것. *관련법 협의에 따라 추가보완이 발생할 수 있음 가. 공작물상세도 첨부 나. 농지전용부담금납부영수증 | N15: ○ | AA15: ○ | BV15: ○
B16: 신축 | C16: 2020-건축허가과-신축허가-176 | D16: - | E16: 경기도 용인시 수지구 고기동 403 | F16: 전체 | G16: 100㎡이상~200㎡미만 | H16: 132 | I16: 1 | J16: 0 | K16: 제1종근린생활시설 | L16: 배치도 및 관계도서 상 도로사항 재표기 할 것. *관련법 협의에 따라 추가보완이 발생할 수 있음 가. 공작물상세도 첨부 나. 농지전용부담금납부영수증 | N16: ○ | AA16: ○ | BV16: ○
B17: 신축 | C17: 2020-건축허가과-신축허가-38 | D17: - | E17: 경기도 용인시 수지구 신봉동 714-19 | F17: 전체 | G17: 100㎡이상~200㎡미만 | H17: 133.47 | I17: 2 | J17: 0 | K17: 단독주택 | L17: 토지사용동의서 구조안전확인서 및 계산서 구조도 개발행위, 산지팀 협의 서류(토목도면) 복합자재 열관류율 기입 반자높이 기입 배수설비설치신고서 구조안전확인서 신규양식 구조도 없음 평면도 오픈되지 않은 부분 바닥면적에 산입, 건축면적 동일 검토, 벽체가 있는 구간 면적 산입 검토 | M17: ○ | N17: ○ | Y17: ○ | AB17: ○ | AC17: ○ | BF17: ○ | BG17: ○ | CB17: ○ | CI17: ○
B18: 신축 | C18: 2020-건축허가과-신축허가-120 | D18: - | E18: 경기도 용인시 수지구 고기동 27-6 외1필지 | F18: 전체 | G18: 100㎡이상~200㎡미만 | H18: 136.77 | I18: 1 | J18: 0 | K18: 단독주택 | L18: 가. 공작물축조신고대상 확인하여 공작물 신고서, 배치도 및 상세도 첨부 나. 대지의 안전확인서 첨부 다. 건축물의 최고높이 재확인(지표면 기준하여 작성할 것, 구조 등 관계서류 일체 포함) 라. 구조도면 첨부할 것. * 관련법 협의에 따라 추가보완이 발생할 수 있음 | M18: ○ | N18: ○ | T18: ○ | CE18: ○
B19: 신축 | C19: 2020-건축허가과-신축허가-147 | D19: - | E19: 경기도 용인시 수지구 고기동 495-21 | F19: 전체 | G19: 100㎡이상~200㎡미만 | H19: 137.82 | I19: 2 | J19: 0 | K19: 단독주택 | L19: 가. 대지종횡단면도 상 법면부분 경사도 표기할 것. 나. 1층 데크 재확인 요망 다. 소방관 진입창계획에 대하여 소방관진입로 또는 소방차의 진입이 가능한 공터에 면할 것. 라. 구조확인서 재확인(소규모건축물 확인), 구조계산서 및 구도도면 첨부할 것. 마. 대지의 안전확인서 첨부 바. 대지 종단면도 상 기존 옹벽에 대하여 표기할 것. * 관계법령 협의에 따라 추가보완이 발생할 수 있음 | M19: ○ | Q19: ○ | T19: ○ | BE19: ○ | BH19: ○
B20: 신축 | C20: 2020-건축허가과-신축허가-164 | D20: - | E20: 경기도 용인시 수지구 고기동 15-46 | F20: 전체 | G20: 100㎡이상~200㎡미만 | H20: 142.27 | I20: 2 | J20: 0 | K20: 단독주택 | L20: 가. 옹벽상세도 첨부 나. 주차계획선 상의 옹벽 구조물 재확인할 것. 다. 대지안의 공지규정 확인(배치도 재확인할 것.) 라. 9m 이상의 건축물에 대하여 건축물 외벽마감재료 불연재료 등 표기할 것. 마. 가스저장설비 이격기준 확인할 것.(개구부 포함) 바. 건축물의 높이 산정 재확인할 것(설계개요 및 층별개요 작성 포함) * 관계법령 협의에 따라 추가보완이 발생할 수 있음 | N20: ○ | BC20: ○ | BI20: ○ | CD20: ○ | CE20: ○
B21: 신축 | C21: 2020-건축허가과-신축허가-15 | D21: - | E21: 경기도 용인시 수지구 고기동 495-20 | F21: 전체 | G21: 100㎡이상~200㎡미만 | H21: 144.7 | I21: 1 | J21: 1 | K21: 단독주택 | L21: <건축 보완사항> - 구조안전확인서 : 규모확인, 비구조요소 기재바람 - 대지횡단면도와 토목도면의 건축옹벽 상이 - 지붕 단열재 재검토 - 면적산출표 - 지하층 및 가중지표면 산출도면 - 구조안전확인서 : 규모확인, 비구조요소 기재바람 | M21: ○ | AD21: ○ | BA21: ○ | BP21: ○ | CB21: ○
B22: 신축 | C22: 2020-건축허가과-신축허가-108 | D22: - | E22: 경기도 용인시 수지구 죽전동 1267-33 | F22: 전체 | G22: 100㎡이상~200㎡미만 | H22: 146.1 | I22: 2 | J22: 1 | K22: 단독주택 | L22: *보완 완료를 누르지 마세요 1. 건축주 인적사항 본인꺼 정확히 기재 2. 설비도면 3. 오우수계획도의 관로연결 표현 4. 지상1층(2층 발코니부분) 부분 바닥면적에 포함하여야 함 5. 면적산출표에 지상2층부분 잘못 산정되어 있음 확인 후 재산정 6. 주단면도와 다락의 높이가 상이함 확인 후 재 산정 7. 구조계산서의 자하1층 도면이 구조도면과 다름 확인후 재첨부 8. 정북방향 일조산정관련 인접대지 지표면 평균값으로 일조산정 | AF22: ○ | AN22: ○ | AQ22: ○ | AR22: ○ | AX22: ○ | CB22: ○
B23: 신축 | C23: 2020-건축허가과-신축허가-148 | D23: - | E23: 경기도 용인시 수지구 고기동 259-138 | F23: 전체 | G23: 100㎡이상~200㎡미만 | H23: 147.42 | I23: 3 | J23: 0 | K23: 단독주택 | L23: 가. 구조확인서 및 계산서 첨부 나. 창호도면 상에 소방관진입창 명기할 것 다. 실내마감표 첨부 라. 공작물 상세도 첨부할 것.가. 외벽마감재료 불연재료 허가조서 재확인 나. 공작물축조신고서 작성할 것. | M23: ○ | O23: ○ | Q23: ○ | BI23: ○ | BJ23: ○
B24: 신축 | C24: 2020-건축허가과-신축허가-165 | D24: - | E24: 경기도 용인시 수지구 고기동 15-46 외1필지 | F24: 전체 | G24: 100㎡이상~200㎡미만 | H24: 148.8 | I24: 2 | J24: 0 | K24: 단독주택 | L24: 가. 옹벽상세도 첨부 나. 9m 이상의 건축물에 대하여 건축물 외벽마감재료 불연재료 등 표기할 것. 다. 가스저장설비 이격기준 확인할 것.(개구부 포함) 라. 대지종횡단면도 상의 법면부분 경사도 표기할 것. * 관계법령 협의에 따라 추가보완이 발생할 수 있음 | N24: ○ | BE24: ○ | BI24: ○ | CD24: ○
B25: 신축 | C25: 2020-건축허가과-신축허가-121 | D25: - | E25: 경기도 용인시 수지구 고기동 698-8 | F25: 전체 | G25: 100㎡이상~200㎡미만 | H25: 148.85 | I25: 1 | J25: 1 | K25: 단독주택 | L25: 가. 산지전용허가 의제 확인 및 산지전용허가 신청서 첨부 나. 단독주택에 대하여 구조계산 및 구조확인, 도면 첨부할 것. 다. 진입도로에 대하여 도로대장 첨부할 것. 라. 건폐율 및 용적률 소숫점 셋째자리 반올림할 것. 가. 집입로에 대한 도로대장 첨부할 것 나. 구조확인서 상 연면적 재확인 다. 공작물축조신고서 관련 오기사항 확인 라. 주차장계단실에 대하여 건축면적 산정 재확인 마. 주차장 입면도 첨부할 것. 바. 대지의 안전확인서 | M25: ○ | S25: ○ | T25: ○ | U25: ○ | AB25: ○ | AX25: ○ | AY25: ○ | CB25: ○
B26: 신축 | C26: 2020-건축허가과-신축허가-124 | D26: - | E26: 경기도 용인시 수지구 고기동 698-7 | F26: 전체 | G26: 100㎡이상~200㎡미만 | H26: 148.85 | I26: 1 | J26: 1 | K26: 단독주택 | L26: 가. 산지전용허가 의제 확인 및 산지전용허가 신청서 첨부 나. 단독주택에 대하여 구조계산 및 구조확인, 도면 첨부할 것. 다. 진입도로에 대하여 도로대장 첨부할 것. 라. 건폐율 및 용적률 소숫점 셋째자리 반올림할 것. 가. 집입로에 대한 도로대장 첨부할 것 나. 구조확인서 상 연면적 재확인 다. 공작물축조신고서 관련 오기사항 확인 라. 주차장계단실에 대하여 건축면적 산정 재확인 마. 주차장 입면도 첨부할 것. 바. 대지의 안전확인서 | M26: ○ | S26: ○ | T26: ○ | U26: ○ | AB26: ○ | AX26: ○ | AY26: ○ | CB26: ○
B27: 신축 | C27: 2020-건축허가과-신축허가-130 | D27: - | E27: 경기도 용인시 수지구 고기동 15-162 외1필지 | F27: 전체 | G27: 100㎡이상~200㎡미만 | H27: 149.5 | I27: 2 | J27: 1 | K27: 단독주택 | L27: 가. 소방관진입창 설치 및 표기할 것. 나. 실내마감재료표 첨부할 것. 다. 주차장법 협의 반영 : 세움터 배치도상 주차단위구획 너비 2.5M 반영할 것(현 2.47M) | AH27: ○ | AJ27: ○
B28: 신축 | C28: 2020-건축허가과-신축허가-7 | D28: - | E28: 경기도 용인시 수지구 동천동 15-92 | F28: 전체 | G28: 100㎡이상~200㎡미만 | H28: 149.64 | I28: 2 | J28: 1 | K28: 단독주택 | L28: 구조계산서상 연면적 확인 설계계요-층별명적표 상 (201호, 301호 삭제) 공작물 축조신고 해당사항 없는지 확인후 배치도상 표기된 공작물 높이 도면상 기재할 것. 주단면도상 마감/단열재/주요구조 도면상 표시 확인 | BA28: ○ | BI28: ○ | BJ28: ○ | BO28: ○
B29: 신축 | C29: 2020-건축허가과-신축허가-172 | D29: - | E29: 경기도 용인시 수지구 성복동 510-46 | F29: 전체 | G29: 100㎡이상~200㎡미만 | H29: 155.88 | I29: 2 | J29: 1 | K29: 단독주택 | L29: "-신청서 건축면적 수정 - 주단면도 및 대지종횡단면도에 지하1층 누락 - 외부마감재료 불연, 준불연 - 소방관 진입창 설계 - 지하층, 가중편균지표면, 다락 산정 자료 - 차면시설 계획표 | Q29: ○ | AD29: ○ | BI29: ○ | CB29: ○ | CC29: ○
B30: 신축 | C30: 2020-건축허가과-신축허가-42 | D30: - | E30: 경기도 용인시 수지구 신봉동 714-1 외1필지 | F30: 전체 | G30: 100㎡이상~200㎡미만 | H30: 156.87 | I30: 3 | J30: 0 | K30: 단독주택 | L30: 토지사용동의서 구조안전확인서 및 계산서 구조도 전기, 설비 도면 개발행위, 산지팀 협의 서류(토목도면) 복합자재 열관류율 기입 반자높이 기입 배수설비설치신고서 | M30: ○ | N30: ○ | Y30: ○ | AB30: ○ | AC30: ○ | BF30: ○ | BG30: ○ | CB30: ○ | CI30: ○
B31: 신축 | C31: 2020-건축허가과-신축허가-48 | D31: - | E31: 경기도 용인시 수지구 신봉동 714-2 | F31: 전체 | G31: 100㎡이상~200㎡미만 | H31: 156.87 | I31: 3 | J31: 0 | K31: 단독주택 | L31: 토지사용동의서 구조안전확인서 및 계산서 구조도 전기, 설비 도면 개발행위, 산지팀 협의 서류(토목도면) 복합자재 열관류율 기입 반자높이 기입 배수설비설치신고서 건축주명에서 숫자표기 삭제 | M31: ○ | N31: ○ | Y31: ○ | AB31: ○ | AC31: ○ | BF31: ○ | BG31: ○ | CB31: ○ | CI31: ○
B32: 신축 | C32: 2020-건축허가과-신축허가-82 | D32: - | E32: 경기도 용인시 수지구 동천동 596-23 | F32: 전체 | G32: 100㎡이상~200㎡미만 | H32: 157.32 | I32: 2 | J32: 0 | K32: 단독주택 | L32: 실내재료마감표(불연/준불연 재료 사용하여야하므로 해당사항 기재) 층간 바닥구조 상세(콘크리트슬래브210이상,완충재20이상,경량기포콘크리트 40이상, 마감모르타르 40이상, 온돌층이 벽체와접하는 부위에 측면 완충재 적용) 면적산출도상 건축면적,1층바닥면적 표기 건축사자격증 창호재 평면도상 어디에 있는지 도면 없음 옥상정원 계획하는건지 옥상정원 계획한다면 관련도면 제출,관수및 배수시설 평면도상 표시 식재토심 표기 및 식재 식물종 등 표기,평면도상 옥상정원표기 | O32: ○ | AG32: ○ | AH32: ○ | BL32: ○ | CB32: ○
B33: 신축 | C33: 2020-건축허가과-신축허가-101 | D33: - | E33: 경기도 용인시 수지구 고기동 495-48 | F33: 전체 | G33: 100㎡이상~200㎡미만 | H33: 158.5925 | I33: 3 | J33: 0 | K33: 단독주택 | L33: 1. 신설 L형 옹벽 토목도면과 상이 2. 법면 경사도 표기 3. 공작물축조신고서, 공작물 배치도 및 구조도 1. 벽체 중심선으로 면적산정 재검토 | N33: ○ | BE33: ○ | BH33: ○ | CB33: ○
B34: 신축 | C34: 2020-건축허가과-신축허가-46 | D34: - | E34: 경기도 용인시 수지구 신봉동 714-17 | F34: 전체 | G34: 100㎡이상~200㎡미만 | H34: 159.66 | I34: 3 | J34: 0 | K34: 단독주택 | L34: 토지사용동의서 구조안전확인서 및 계산서 구조도 전기, 설비 도면 개발행위, 산지팀 협의 서류(토목도면) 복합자재 열관류율 기입 반자높이 기입 배수설비설치신고서 | M34: ○ | N34: ○ | Y34: ○ | AB34: ○ | AC34: ○ | BF34: ○ | BG34: ○ | CB34: ○ | CI34: ○
B35: 신축 | C35: 2020-건축허가과-신축허가-33 | D35: - | E35: 경기도 용인시 수지구 고기동 719-8 외2필지 | F35: 전체 | G35: 100㎡이상~200㎡미만 | H35: 160.26 | I35: 2 | J35: 0 | K35: 단독주택 | L35: 농지보전부담금 납부 영수증 | AA35: ○
B36: 신축 | C36: 2020-건축허가과-신축허가-66 | D36: - | E36: 경기도 용인시 수지구 동천동 15-81 | F36: 전체 | G36: 100㎡이상~200㎡미만 | H36: 160.61 | I36: 2 | J36: 1 | K36: 단독주택 | L36: 오수처리관련 수정 수지구 개발행위 가. 신청지는 용인시 성장관리방안(주거형)수립지역으로, 『용인시 성장관리방안 시행지침』에 따른 계획 재검토 하실 것. 나. 성장관리방안 체크리스트 제출 세움터상 공작물 축조신고 사항 입력 | AO36: ○ | BJ36: ○
B37: 신축 | C37: 2020-건축허가과-신축허가-64 | D37: - | E37: 경기도 용인시 수지구 죽전동 1267-4 | F37: 전체 | G37: 100㎡이상~200㎡미만 | H37: 160.83 | I37: 2 | J37: 1 | K37: 단독주택 | L37: 1.1267-3번지 대지가중평균 GH:67.38이므로 평균대지가중평균 67.98에서 높이산정요망 2. 대지종횡단면도 일조권 다시 산정 3. 종단면도 2층- 자녀방을 계단으로 변경 4. 대지횡단면도 지하 점선 삭제 | AD37: ○ | AR37: ○
B38: 신축 | C38: 2020-건축허가과-신축허가-34 | D38: - | E38: 경기도 용인시 수지구 신봉동 714-5 | F38: 전체 | G38: 100㎡이상~200㎡미만 | H38: 167.76 | I38: 3 | J38: 0 | K38: 단독주택 | L38: 토지사용동의서 구조안전확인서 및 계산서 구조도 개발행위, 산지팀 협의 서류(토목도면) 복합자재 열관류율 기입 반자높이 기입 배수설비설치신고서 횡단면도 돌출된 조적,가벽은 무엇인지 평면,입면과 상이 입면도 상 공작물 단면도 및 배치도와 맞춰주실것 2m이상의 보강토옹벽에 대한 구조확인서 | M38: ○ | N38: ○ | Y38: ○ | AB38: ○ | AC38: ○ | BF38: ○ | BG38: ○ | CB38: ○ | CI38: ○
B39: 신축 | C39: 2020-건축허가과-신축허가-45 | D39: - | E39: 경기도 용인시 수지구 신봉동 714-24 | F39: 전체 | G39: 100㎡이상~200㎡미만 | H39: 167.76 | I39: 3 | J39: 0 | K39: 단독주택 | L39: 토지사용동의서 구조안전확인서 및 계산서 구조도 개발행위, 산지팀 협의 서류(토목도면) 복합자재 열관류율 기입 반자높이 기입 배수설비설치신고서 횡단면도 돌출된 조적,가벽은 무엇인지 평면,입면과 상이 입면도 상 공작물 단면도 및 배치도와 맞춰주실것 2m이상의 보강토옹벽에 대한 구조확인서 | M39: ○ | N39: ○ | Y39: ○ | AB39: ○ | AC39: ○ | BF39: ○ | BG39: ○ | CB39: ○ | CI39: ○
B40: 신축 | C40: 2020-건축허가과-신축허가-47 | D40: - | E40: 경기도 용인시 수지구 신봉동 714-16 | F40: 전체 | G40: 100㎡이상~200㎡미만 | H40: 167.76 | I40: 3 | J40: 0 | K40: 단독주택 | L40: 토지사용동의서 구조안전확인서 및 계산서 구조도 전기, 설비 도면 개발행위, 산지팀 협의 서류(토목도면) 복합자재 열관류율 기입 반자높이 기입 배수설비설치신고서 배치도 단면도, 주단면도 상이함 입면도 주차장부분 나오도록 주차장조성 또는 부지조성에 따른 공작물 축조신고작성 배치도 상 공작물 표기 | M40: ○ | N40: ○ | Y40: ○ | AB40: ○ | AC40: ○ | BF40: ○ | BG40: ○ | CB40: ○ | CI40: ○
B41: 신축 | C41: 2020-건축허가과-신축허가-49 | D41: - | E41: 경기도 용인시 수지구 신봉동 714-6 | F41: 전체 | G41: 100㎡이상~200㎡미만 | H41: 167.76 | I41: 3 | J41: 0 | K41: 단독주택 | L41: 토지사용동의서 구조안전확인서 및 계산서 구조도 전기, 설비 도면 개발행위, 산지팀 협의 서류(토목도면) 복합자재 열관류율 기입 반자높이 기입 배수설비설치신고서 배치도 단면도, 주단면도 상이함 입면도 주차장부분 나오도록 주차장조성 또는 부지조성에 따른 공작물 축조신고작성 배치도 상 공작물 표기 | M41: ○ | N41: ○ | Y41: ○ | AB41: ○ | AC41: ○ | BF41: ○ | BG41: ○ | CB41: ○ | CI41: ○
B42: 신축 | C42: 2020-건축허가과-신축허가-81 | D42: - | E42: 경기도 용인시 수지구 죽전동 1267-5 | F42: 전체 | G42: 100㎡이상~200㎡미만 | H42: 169.06 | I42: 2 | J42: 1 | K42: 단독주택 | L42: 1. 배치도: 1267-6번지 레벨입력(GH:69.54), 단면도 서쪽부분 1층데크부분 선표현 2. 지표면산정: 계단부분확인후 산정 수정 3. 대지종횡단면도: 1267-6번지 레벨 입력(GH:69.54), 4. 기계,전기도면 추가 | AD42: ○ | AF42: ○ | BM42: ○ | BU42: ○
B43: 신축 | C43: 2020-건축허가과-신축허가-32 | D43: - | E43: 경기도 용인시 수지구 고기동 719-2 외2필지 | F43: 전체 | G43: 100㎡이상~200㎡미만 | H43: 171 | I43: 2 | J43: 1 | K43: 단독주택 | L43: 차면시설 설치 여부 확인 바람 - 관련 부서 협의 중 | CC43: ○
B44: 신축 | C44: 2020-건축허가과-신축허가-29 | D44: - | E44: 경기도 용인시 수지구 고기동 719-2 외1필지 | F44: 전체 | G44: 100㎡이상~200㎡미만 | H44: 171.68 | I44: 2 | J44: 1 | K44: 단독주택 | L44: 차면시설 설치 여부 확인 바람 - 관련 부서 협의 중 | CC44: ○
B45: 신축 | C45: 2020-건축허가과-신축허가-105 | D45: - | E45: 경기도 용인시 수지구 동천동 484-68 | F45: 전체 | G45: 100㎡이상~200㎡미만 | H45: 173.722 | I45: 2 | J45: 1 | K45: 단독주택 | L45: 민원인의 요청에 의한 보완보정(성장관리방안 체크리스트 제출) ㅡㅡㅡㅡ 1)구조안전확인서상 지역계수 0.22로 수정 건축면적 산입부분 평면도에 표시 대지종횡단면도 공작물 배치도 구조도 실내재료 불연,준불연,난연재료로 사용하여야하는 바 해당사항 실내재료 마감표에 표기 층간바닥 콘크리트슬래브 210/경량기포40완충재20/마감모르타르40으로 계획하여야하는바 해당사항 계획에 반영 벽체와 접하는 부위의 경우 측면완충재 ㅡㅡㅡ 지하층의 비상탈출구의 문의 경우 피난방향으로, 실내에서 열수있는 구조여야하는바 해당사항 평면도 및 창호도에 반영 - 기존 보완사항 제출 - 대지종횡단면도 상 옹벽 수정 바람(구두통화함) | N45: ○ | O45: ○ | AL45: ○ | AO45: ○ | BL45: ○ | CB45: ○
B46: 신축 | C46: 2020-건축허가과-신축허가-14 | D46: - | E46: 경기도 용인시 수지구 죽전동 1267-15 | F46: 전체 | G46: 100㎡이상~200㎡미만 | H46: 174.39 | I46: 2 | J46: 0 | K46: 단독주택 | L46: 1. 개발행위허가 체크 2. 조경관련 신청서 및 배치도 등 관련도면 수정 - 건축 추가 보완 1. 배치도: 인접대지경계선으로 부터 이격거리 표시 2. 공작물축조배치도 및 옹벽상세도 첨부 3. 대지종횡단면도: 일조관련 9.0M 부터 표시 후 9.0부터 사선표기로 수정 4. 면적산출표 재검토 5. 구조도면- 층별구조평면도 첨부 6. 허가조사 및 검사조서: 대지조성 및 형질변경부분 확인 요망 조경관련 신청서 및 배치도 등 관련도면 수정 | M46: ○ | N46: ○ | W46: ○ | AR46: ○ | BM46: ○ | CB46: ○
B47: 신축 | C47: 2020-건축허가과-신축허가-92 | D47: - | E47: 경기도 용인시 수지구 죽전동 1267-24 | F47: 전체 | G47: 100㎡이상~200㎡미만 | H47: 174.87 | I47: 2 | J47: 1 | K47: 단독주택 | L47: * 보완완료후 보완완료버튼 누르지 마세요 -재보완사항 1. 신청서(건축주 인적사항, 주소, 전화번호 정확히 기재) 2. 지표면 산정 계단부분 확인후 다시 산정 1. 신청서(건축주 인적사항, 주소, 전화번호 정확히 기재) 2. 오우수계획도 수정(오우수관로 범례 불일치) 3. 배치도: 인접대지 지반고 수정 76.20 4. 대지종횡단면도: 지표면 가중평균부터 높이 산정 5. 지하층 면적 산출 확인, 지상2층 확장형발코니부분의 남은실길이 2.1m미달 확인 후 재산정 | AD47: ○ | AN47: ○ | AQ47: ○ | BM47: ○ | BU47: ○ | CJ47: ○
B48: 신축 | C48: 2020-건축허가과-신축허가-86 | D48: - | E48: 경기도 용인시 수지구 동천동 727-6 | F48: 전체 | G48: 100㎡이상~200㎡미만 | H48: 176.05 | I48: 2 | J48: 0 | K48: 단독주택 | L48: 1.구조안전확인서상 지역계수 0.22로 표기, 연면적 오기 수정 2.단열재 기준 지붕의 경우 155이상,단열재 등급 표기(전체) 3.공작물축조(담장, 2.05m)에 따른 공작물축조신고 관련 서류(배치도,구조도), 세움터에 공작물축조신고 내역입력 4.조경계획상 한변의 길이가 1m이상 되어야하므로 해당사항 미충족하는 면적 제외하여 산정 소방관 진입창 배치도에도 완충공간 기재 | N48: ○ | Q48: ○ | BA48: ○ | BJ48: ○ | BZ48: ○ | CF48: ○
B49: 신축 | C49: 2020-건축허가과-신축허가-155 | D49: - | E49: 경기도 용인시 수지구 고기동 645-2 | F49: 전체 | G49: 100㎡이상~200㎡미만 | H49: 176.86 | I49: 2 | J49: 1 | K49: 단독주택 | L49: 가. 소방관진입창 표기할 것 가. 토지사용승낙서 재확인 나. 건축물 최고높이 층별개요와 설계계요(구조확인서 상의 최고높이 확인포함) 상이함. 다. 주차장 진입로 경사도 표기할 것. | Q49: ○ | Y49: ○ | BW49: ○ | CE49: ○
B50: 신축 | C50: 2020-건축허가과-신축허가-136 | D50: - | E50: 경기도 용인시 수지구 죽전동 1267-1 | F50: 전체 | G50: 100㎡이상~200㎡미만 | H50: 176.87 | I50: 2 | J50: 1 | K50: 단독주택 | L50: "-소방관진입창 -다락층 평면도 (다락층 산출계획) -단열재 두께 혹은 열관류율 표기 -차면 계획" | Q50: ○ | BZ50: ○ | CC50: ○
B51: 신축 | C51: 2020-건축허가과-신축허가-112 | D51: - | E51: 경기도 용인시 수지구 죽전동 1267-25 | F51: 전체 | G51: 100㎡이상~200㎡미만 | H51: 177.57 | I51: 2 | J51: 1 | K51: 단독주택 | L51: *보완완료 누르지 마세요 1. 건축주 인적사항 정확히 기재 건축법시행령 제61조 (건축물의 마감재료)제2항에 의거 높이 9미터이상인 건축물은 불연, 준불연이상의 마감재료로 외부마감을 해야하는바, 마감재료표 또는 단면도에 표시 요청. | AN51: ○ | BI51: ○ | BO51: ○
B52: 신축 | C52: 2020-건축허가과-신축허가-56 | D52: - | E52: 경기도 용인시 수지구 고기동 742-14 | F52: 전체 | G52: 100㎡이상~200㎡미만 | H52: 179.23 | I52: 2 | J52: 1 | K52: 단독주택 | L52: 1. 토지사용승낙자의 인감증명서 2. 구조안전확인서와 신청서의 연면적, 높이 상이함. 3. 2층 평면 침실3 앞부분 벽과 지붕으로 둘러쌓인부분 면적산입 검토 4. 지창층 면적 산출도 및 가중평균산출도 5. 기초 단열재 등급 혹은 열관류율 표기 6. 벽체와 기초사이 열교현상 발생하지않도록 단열 보강 2. 구조안전확인서의 층수 정정 | Y52: ○ | BA52: ○ | BP52: ○ | BZ52: ○ | CB52: ○
B53: 신축 | C53: 2020-건축허가과-신축허가-51 | D53: - | E53: 경기도 용인시 수지구 동천동 727-14 | F53: 전체 | G53: 100㎡이상~200㎡미만 | H53: 181.38 | I53: 2 | J53: 1 | K53: 단독주택 | L53: 수지구청건축허가 : 성장관리방안체크리스트 제출 피해방지계획 재검토(기존옹벽계획재검토하시어 변경사항이 있을 경우 관련 도서 제출) 단열재 등급표시 | AO53: ○ | BP53: ○
B54: 신축 | C54: 2020-건축허가과-신축허가-31 | D54: - | E54: 경기도 용인시 수지구 고기동 719-2 외3필지 | F54: 전체 | G54: 100㎡이상~200㎡미만 | H54: 181.81 | I54: 2 | J54: 1 | K54: 단독주택 | L54: 도로폐지신청서 | AI54: ○
B55: 신축 | C55: 2020-건축허가과-신축허가-171 | D55: - | E55: 경기도 용인시 수지구 신봉동 586-5 외2필지 | F55: 전체 | G55: 100㎡이상~200㎡미만 | H55: 183.27 | I55: 1 | J55: 0 | K55: 제1종근린생활시설 | L55: <<보완완료 누르지말아주세요! 보완 후 연락주세요>> - 위임장 제출할 것 - 토지사용동의서 제출할 것 - 건축개요 상 586-15번지 토지주명 수정할 것(구명환 -> 권수연) - 지상권동의서 제출할 것(586-3, 586-5) - 배치도 상 이격거리 표기할 것 - 시행령제63조조의2에 따라, 제1종근생소매점에 해당되는경우, 건축물의 범죄예방설계가이드라인에 따른 설계적용할 것 / 해당없을 시 감리자확인서 ------------------------------------------- - 서류 인증할 것 | Y55: ○ | AJ55: ○ | AK55: ○ | CG55: ○
B56: 신축 | C56: 2020-건축허가과-신축허가-119 | D56: - | E56: 경기도 용인시 수지구 성복동 549-26 | F56: 전체 | G56: 100㎡이상~200㎡미만 | H56: 184.19 | I56: 2 | J56: 1 | K56: 단독주택 | L56: 건축주 정보 정확히 기재. 현재 기존구조물이 있는바, 추후 계획서 첨부. -소방관 진입창 계획 - 차면시설 설치계획(해당없을시 건축주 확인서)" | Q56: ○ | AN56: ○ | CC56: ○
B57: 신축 | C57: 2020-건축허가과-신축허가-154 | D57: - | E57: 경기도 용인시 수지구 상현동 1146-4 | F57: 전체 | G57: 100㎡이상~200㎡미만 | H57: 184.92 | I57: 2 | J57: 0 | K57: 단독주택 | L57: <<보완완료 누르지말아주세요! 보완 후 연락주세요>> - 대리인 위임장 제출할 것 - 토지사용승낙서 제출할 것 - 지상권 동의서 제출할 것 - 건축개요 상 층수 표기 수정할 것(지하1층/지상2층으로 표기되어있음) - 계단참 1.2m 폭 적용할 것 - 일조권->정북방향으로 검토할 것 - 지상2층 이상의 건축물에 대하여 소방관진입창 설계반영할 것 - 단면도 상 반자높이 표기할 것 - 종횡단면도 상 대지레벨 표기할 것 - 바닥단열 열관류율 재검토할 것(0.24이하) - 지붕단열 열관류율 표기 or 등급 표기할 것 - 차면시설 검토 및 표기할 것 - 다락 산정(B) -> 체적길이 5.2가 맞는지 검토요청 - 1층 바닥면적 -> 상부발코니(처마) 1미터 후퇴한 선 수평투영면적 산입 - 2층 바닥면적 -> 발코니(노대) 1.5미터 곱한값을 뺀 면적 바닥면적에 산입 - 비행안전제3구역으로 군사기지 및 군사시설 보호법에 따른 검토필요(해발건물고,계획지반고,시설물최고높이 명시) -------------------------------------------------------------------------------------------------------- - 제출서류 인증 - 대리인 위임장 제출할 것 - 토지사용승낙서 제출할 것 - 지상권 동의서 제출할 것 | Y57: ○ | AJ57: ○ | AK57: ○ | AR57: ○ | BU57: ○ | BZ57: ○ | CC57: ○
B58: 신축 | C58: 2020-건축허가과-신축허가-157 | D58: - | E58: 경기도 용인시 수지구 죽전동 1267-34 | F58: 전체 | G58: 100㎡이상~200㎡미만 | H58: 189.53 | I58: 2 | J58: 1 | K58: 단독주택 | L58: "- 지상권 동의서(용인중앙새마을금고) - 단열재 열관류율로 표현(혹은 두께로 기재요청) - 건축면적 산정시 3번구역 가로면적 재확인 - 지하가중평균 산정도 재검토" | AD58: ○ | AK58: ○ | BZ58: ○ | CB58: ○
B59: 신축 | C59: 2020-건축허가과-신축허가-158 | D59: - | E59: 경기도 용인시 수지구 죽전동 1267-35 | F59: 전체 | G59: 100㎡이상~200㎡미만 | H59: 189.53 | I59: 2 | J59: 1 | K59: 단독주택 | L59: "- 지상권 동의서(용인중앙새마을금고) - 단열재 열관류율로 표현(혹은 두께로 기재요청) - 건축면적 산정시 3번구역 가로면적 재확인 - 지하가중평균 산정도 재검토" | AD59: ○ | AK59: ○ | BZ59: ○ | CB59: ○
B60: 신축 | C60: 2020-건축허가과-신축허가-133 | D60: - | E60: 경기도 용인시 수지구 죽전동 1377-1 | F60: 전체 | G60: 100㎡이상~200㎡미만 | H60: 191.86 | I60: 2 | J60: 1 | K60: 단독주택 | L60: "-소방관진입창 -차면 계획 -오우수계획도의 관로연결 표현" | Q60: ○ | AQ60: ○ | CC60: ○
B61: 신축 | C61: 2020-건축허가과-신축허가-95 | D61: - | E61: 경기도 용인시 수지구 동천동 15-83 | F61: 전체 | G61: 100㎡이상~200㎡미만 | H61: 192.46 | I61: 3 | J61: 1 | K61: 단독주택 | L61: 가중지표면 3m마다 산정 구조안전확인서 및 구조계산서 전기기계등등 기타도면 첨부 협의요청 ㅡㅡㅡ 1)구조안전확인서 상 대지위치 정확히 기재 2)지표면 산출근거(3m마다 산정), 지하층 산출근거 따로 제출>평면도상 구역 나누어 평면도 포함하여 상세 제출 현재 어디부분이 어디인지 알수가 없음 4)외부마감재 및 내부 마감재료 불연,준불연/불연,준불연,난연 재료로 사용하여야 하는바 입면도 상 외부마감재에 전체 불연,준불연 사항 표기/실내재료 마감표상 불연,준불연,난연 재료 사용 기재 5)기존 건축물 도면 제출,착공전 기존건축물 철거 확인서 제출 | M61: ○ | AF61: ○ | BS61: ○
B62: 신축 | C62: 2020-건축허가과-신축허가-24 | D62: - | E62: 경기도 용인시 수지구 죽전동 1267-2 | F62: 전체 | G62: 100㎡이상~200㎡미만 | H62: 192.48 | I62: 2 | J62: 1 | K62: 단독주택 | L62: 1. 설계개요-층수-지하1층 기입 | AZ62: ○
B63: 신축 | C63: 2020-건축허가과-신축허가-166 | D63: - | E63: 경기도 용인시 수지구 신봉동 706-10 | F63: 전체 | G63: 100㎡이상~200㎡미만 | H63: 193.01 | I63: 3 | J63: 0 | K63: 단독주택 | L63: <<보완완료 누르지말아주세요! 보완 후 연락주세요>> - 대지종횡단면도 제출할 것 - 공작물축조신고 신청서,배치도,구조도 제출할 것 - 건축법시행령45조에 맞는 계단 설계할 것 - 구조안전확인서/구조계산서 제출할 것 - 건축법52조2항에따라, 3층이상의 건축물인경우 외부마감은 불연/준불연재료 이상으로 설계할 것.(입면도or단면도에 표기할 것) - 건축법51조에 따라, 2층이상 건축물인경우 소방관진입창 설계할 것.(피난방화규칙18조의2기준에 맞게 설계할 것) - 3층 서재앞 발코니 바닥면적 산입할 것 ------------------------------------------- - 공작물축조신고 신청서 수정할 것(2m이상이 신고대상) - 구조안전확인서 (변경 연면적) 수정할 것 | M63: ○ | N63: ○ | Q63: ○ | AL63: ○ | BI63: ○ | BJ63: ○ | CB63: ○
B64: 신축 | C64: 2020-건축허가과-신축허가-170 | D64: - | E64: 경기도 용인시 수지구 동천동 714-40 외2필지 | F64: 전체 | G64: 100㎡이상~200㎡미만 | H64: 193.8 | I64: 1 | J64: 0 | K64: 단독주택 | L64: 세움터 상 건물명칭 수정(공동주택으로 되어 있음) - 구조계산서 금번 신청건이랑 상이함. --------------------------- 12/3 - 오우수계획도 변경됨에 따라 토목 및 관련 협의도서 수정 제출 바람(개발행위 등) | AZ64: ○ | BA64: ○ | BD64: ○
B65: 신축 | C65: 2020-건축허가과-신축허가-129 | D65: - | E65: 경기도 용인시 수지구 죽전동 1377-15 | F65: 전체 | G65: 100㎡이상~200㎡미만 | H65: 194.79 | I65: 2 | J65: 1 | K65: 단독주택 | L65: *보완완료 누르지마세요 -개발행위 협의중 -건축개요랑 신청서 상이(용적율산정용 연면적 및 높이) -소방관진입창 설계 -차면 계획서 -다락층 산정 근거 | Q65: ○ | AE65: ○ | AZ65: ○ | CC65: ○
B66: 신축 | C66: 2020-건축허가과-신축허가-167 | D66: - | E66: 경기도 용인시 수지구 신봉동 706-10 | F66: 전체 | G66: 100㎡이상~200㎡미만 | H66: 195.54 | I66: 3 | J66: 1 | K66: 단독주택 | L66: <<보완완료 누르지말아주세요! 보완 후 연락주세요>> - 대지종횡단면도 제출할 것 (공작물축조신고 대상시 관련서류 제출할것) - 건축법시행령45조에 맞는 계단 설계할 것 - 구조안전확인서/구조계산서 제출할 것 - 건축법52조2항에따라, 3층이상의 건축물인경우 외부마감은 불연/준불연재료 이상으로 설계할 것.(입면도or단면도에 표기할 것) - 건축법51조에 따라, 2층이상 건축물인경우 소방관진입창 설계할 것.(피난방화규칙18조의2기준에 맞게 설계할 것) - 지하층산정도/지표면산정도 제출할 것 ------------------------------------------------------------------ - 옹벽높이 2m이하이므로,공작물축조신고 신청서 삭제할 것 - 구조안전확인서 (변경 연면적) 수정할 것 - 구조계산서에 지하1층~지상3층까지로 계산서 제출할 것 or 구조적으로 분리에 해당될 경우, 지하주차장은 부속동으로 분리할 것(신청서, 건축개요 등 일괄 수정할 것) - 건축법52조2항에따라, 3층이상의 건축물인경우 외부마감은 불연/준불연재료 이상으로 설계할 것.(입면도or단면도에 표기할 것) - 면적산출도 상 건축면적 산출식 작성할 것 | M66: ○ | N66: ○ | Q66: ○ | AD66: ○ | AL66: ○ | BI66: ○
B67: 신축 | C67: 2020-건축허가과-신축허가-6 | D67: - | E67: 경기도 용인시 수지구 동천동 15-17 | F67: 전체 | G67: 100㎡이상~200㎡미만 | H67: 195.85 | I67: 3 | J67: 1 | K67: 단독주택 | L67: 구조계산서상 연면적 확인 설계계요-층별명적표 상 (201호, 301호 삭제) 공작물 축조신고 해당사항 없는지 확인후 배치도상 표기된 공작물 높이 도면상 기재할 것. 주단면도상 마감/단열재/주요구조 도면상 표시 확인 | AZ67: ○ | BA67: ○ | BO67: ○
B68: 신축 | C68: 2020-건축허가과-신축허가-73 | D68: - | E68: 경기도 용인시 수지구 고기동 27-1 | F68: 전체 | G68: 100㎡이상~200㎡미만 | H68: 196 | I68: 2 | J68: 0 | K68: 제2종근린생활시설 | L68: 1. 지붕 단열 재검토 2. 벽과 기초사이 열교현상 발생하지않도록 단열 보완 3. 구조안전확인서 : 비구조요소란 기재 4. 대지종횡단면선 표기 차면시설 설치 검토 「주차장법 시행규칙」제3조에 따라 직각 주차단위구획(2.5mX5.0m)의 너비 길이를 적용하여 반영 | AL68: ○ | BA68: ○ | BZ68: ○ | CA68: ○
B69: 신축 | C69: 2020-건축허가과-신축허가-17 | D69: - | E69: 경기도 용인시 수지구 고기동 610-21 | F69: 전체 | G69: 100㎡이상~200㎡미만 | H69: 196.88 | I69: 3 | J69: 1 | K69: 단독주택 | L69: 1. 건축물 높이 재검토. 2. 구조안전확인서 연면적, 높이가 개요와 상이함. 3. 지하층산출 및 가중평균산출근거도에서 도면의 레벨 확인 바람. 4. 배치도의 '1층데크 및 지하층 지붕끝선'이 지하층 및 1층 평면도와 상이함. - 지하층산출 및 가중평균산출근거도에서 도면의 레벨 확인 바람. | AD69: ○ | BA69: ○ | CE69: ○
B70: 신축 | C70: 2020-건축허가과-신축허가-2 | D70: - | E70: 경기도 용인시 수지구 죽전동 1267-26 | F70: 전체 | G70: 100㎡이상~200㎡미만 | H70: 196.89 | I70: 2 | J70: 1 | K70: 단독주택 | L70: 1. 신청서 비행안전제3구역체크 2. 차면시설 검토 3. 면적산출표-지하층 면적산정확인 4. 지표면산정도 평면에 A~D 표현, A부분 6300+ & 확인요망 , 3M 마다 지표면 산정 | AD70: ○ | CB70: ○ | CC70: ○
B71: 신축 | C71: 2020-건축허가과-신축허가-18 | D71: - | E71: 경기도 용인시 수지구 고기동 610-20 | F71: 전체 | G71: 100㎡이상~200㎡미만 | H71: 197.16 | I71: 3 | J71: 1 | K71: 단독주택 | L71: 1. 건축물 높이 재검토. 2. 구조안전확인서 연면적, 높이가 개요와 상이함. 3. 지하층산출 및 가중평균산출근거도에서 도면의 레벨 확인 바람. 4. 배치도의 '1층데크 및 지하층 지붕끝선'이 지하층 및 1층 평면도와 상이함. - 지하층산출 및 가중평균산출근거도에서 도면의 레벨 확인 바람. | AD71: ○ | BA71: ○ | CE71: ○
B72: 신축 | C72: 2020-건축허가과-신축허가-19 | D72: - | E72: 경기도 용인시 수지구 고기동 610-16 | F72: 전체 | G72: 100㎡이상~200㎡미만 | H72: 197.64 | I72: 3 | J72: 1 | K72: 단독주택 | L72: 1. 건축물 높이 재검토. 2. 구조안전확인서 연면적, 높이가 개요와 상이함. 3. 지하층산출 및 가중평균산출근거도에서 도면의 레벨 확인 바람. 4. 배치도의 '1층데크 및 지하층 지붕끝선'이 지하층 및 1층 평면도와 상이함. - 지하층산출 및 가중평균산출근거도에서 도면의 레벨 확인 바람. | AD72: ○ | BA72: ○ | CE72: ○
B73: 신축 | C73: 2020-건축허가과-신축허가-20 | D73: - | E73: 경기도 용인시 수지구 고기동 610-19 | F73: 전체 | G73: 100㎡이상~200㎡미만 | H73: 197.64 | I73: 3 | J73: 1 | K73: 단독주택 | L73: 1. 건축물 높이 재검토. 2. 구조안전확인서 연면적, 높이가 개요와 상이함. 3. 지하층산출 및 가중평균산출근거도에서 도면의 레벨 확인 바람. 4. 배치도의 '1층데크 및 지하층 지붕끝선'이 지하층 및 1층 평면도와 상이함. - 지하층산출 및 가중평균산출근거도에서 도면의 레벨 확인 바람. | AD73: ○ | BA73: ○ | CE73: ○
B74: 신축 | C74: 2020-건축허가과-신축허가-21 | D74: - | E74: 경기도 용인시 수지구 고기동 610-18 | F74: 전체 | G74: 100㎡이상~200㎡미만 | H74: 197.64 | I74: 3 | J74: 1 | K74: 단독주택 | L74: 1. 건축물 높이 재검토. 2. 구조안전확인서 연면적, 높이가 개요와 상이함. 3. 지하층산출 및 가중평균산출근거도에서 도면의 레벨 확인 바람. 4. 배치도의 '1층데크 및 지하층 지붕끝선'이 지하층 및 1층 평면도와 상이함. - 지하층산출 및 가중평균산출근거도에서 도면의 레벨 확인 바람. | AD74: ○ | BA74: ○ | CE74: ○
B75: 신축 | C75: 2020-건축허가과-신축허가-22 | D75: - | E75: 경기도 용인시 수지구 고기동 610-17 | F75: 전체 | G75: 100㎡이상~200㎡미만 | H75: 197.64 | I75: 3 | J75: 1 | K75: 단독주택 | L75: 1. 건축물 높이 재검토. 2. 구조안전확인서 연면적, 높이가 개요와 상이함. 3. 지하층산출 및 가중평균산출근거도에서 도면의 레벨 확인 바람. 4. 배치도의 '1층데크 및 지하층 지붕끝선'이 지하층 및 1층 평면도와 상이함. - 지하층산출 및 가중평균산출근거도에서 도면의 레벨 확인 바람. | AD75: ○ | BA75: ○ | CE75: ○
B76: 신축 | C76: 2020-건축허가과-신축허가-43 | D76: - | E76: 경기도 용인시 수지구 신봉동 714-1 외1필지 | F76: 전체 | G76: 100㎡이상~200㎡미만 | H76: 198.27 | I76: 3 | J76: 1 | K76: 단독주택 | L76: 토지사용동의서 구조안전확인서 및 계산서 구조도 전기, 설비 도면 개발행위, 산지팀 협의 서류(토목도면) 복합자재 열관류율 기입 반자높이 기입 배수설비설치신고서 건축주명 숫자 표기 삭제 지하주차장 단면도-지하층3m이상으로 지하층 산정 외 가중평균지표산정내역 추가 입면도(정면도) 주차장부분 나오도록 주차장조성 또는 부지조성에 따른 공작물 축조신고작성 배치도 상 공작물 표기 2m이상의 보강토옹벽에 대한 구조확인서 | M76: ○ | N76: ○ | Y76: ○ | AB76: ○ | AC76: ○ | BF76: ○ | BG76: ○ | CB76: ○ | CI76: ○
B77: 신축 | C77: 2020-건축허가과-신축허가-159 | D77: - | E77: 경기도 용인시 수지구 고기동 478-4 외2필지 | F77: 전체 | G77: 100㎡이상~200㎡미만 | H77: 198.76 | I77: 2 | J77: 1 | K77: 단독주택 | L77: 가. 도로지정공고할 것.(도로대장 첨부 및 도로지정탭 작성 포함) 나. 배치도 재확인(건축한계선 상에 주차장 옹벽 확인) 다. 확장형발코니 설비 삭제(구조변경 관련 원상복구 시 생활이 가능하도록 설계할 것) 라. 진출입로 국유재산사용수익허가 검토 마. 공작물축조대상 확인 * 관계법령 협의에 따라 추가보완이 발생할 수 있음 | S77: ○ | BJ77: ○ | BK77: ○
B78: 신축 | C78: 2020-건축허가과-신축허가-91 | D78: - | E78: 경기도 용인시 수지구 고기동 201 | F78: 전체 | G78: 100㎡이상~200㎡미만 | H78: 199.13 | I78: 3 | J78: 1 | K78: 단독주택 | L78: 1. 계단 면적 산입 여부 검토 2. 개요 층수 정정 및 가구수 기재 3. 건축면적 재검토 4. 지하1층 사용계획 <건축보완> 1. 의제사항 체크 2. 소방관진입창 설치계획 반영 3. 건축법 제52조에 따른 내,외부 마감자재 확인 및 도면에 표기 4. 다용도실 하부 단열재 누락 5. 소음방지를 위한 바닥기준 반영 구조안전확인서 : 면적이 신청서와 상이, 설계자 날인 | Q78: ○ | AZ78: ○ | BA78: ○ | BL78: ○ | BZ78: ○ | CB78: ○
B79: 신축 | C79: 2020-건축허가과-신축허가-115 | D79: - | E79: 경기도 용인시 수지구 고기동 561-1 외3필지 | F79: 전체 | G79: 100㎡이상~200㎡미만 | H79: 199.2 | I79: 1 | J79: 0 | K79: 제1종근린생활시설 | L79: 가. 도로지정 탭 작성(도로지정 현황도 첨부) 나. 대지안전에 대한 확인서첨부 다. 농지전용부담금 납부영수증 (관련법 협의 중임에 따라 추가보완이 발생할 수 있음) | T79: ○ | AA79: ○ | BR79: ○
B80: 신축 | C80: 2020-건축허가과-신축허가-5 | D80: - | E80: 경기도 용인시 수지구 고기동 394-18 외2필지 | F80: 전체 | G80: 100㎡이상~200㎡미만 | H80: 199.25 | I80: 3 | J80: 1 | K80: 단독주택 | L80: 1. 지상권 동의서 (최근 3개월 이내 발행 인감증명서 포함) 2. 구조안전확인서 상 연면적 확인바람. 3. 지상2층 침실 재검토 (발코니 확장전 2100 이상으로 재검토) | AK80: ○ | BA80: ○ | CJ80: ○
B81: 신축 | C81: 2020-건축허가과-신축허가-79 | D81: - | E81: 경기도 용인시 수지구 신봉동 706-9 | F81: 전체 | G81: 100㎡이상~200㎡미만 | H81: 199.53 | I81: 2 | J81: 1 | K81: 단독주택 | L81: 관련부서 협의중 - 공작물축조신고대상 검토(대상시 신청서 접수, 구조도, 배치도) - 배치도 상 대지경계선과 건축물 이격거리 표기 - 평면도 상 중심선 기준점 표기 - 공작물축조신고대상 검토(대상시 신청서접수, 구조도,배치도) - 소방관진입창(피난방화구조규칙제18조의2) 적용 | AO81: ○ | CH81: ○ | CK81: ○
B82: 신축 | C82: 2020-건축허가과-신축허가-75 | D82: - | E82: 경기도 용인시 수지구 고기동 345-6 | F82: 전체 | G82: 100㎡이상~200㎡미만 | H82: 199.62 | I82: 2 | J82: 0 | K82: 제2종근린생활시설 | L82: 1. 신청서와 개요의 건축개요 상이 2. 건축법 제49조에 따른 소방관진입창 3. 벽체 단열재 재검토 4. 벽, 기초사이 열교현상 발생하지않도록 단열 보완 | AO82: ○ | BX82: ○
B83: 신축 | C83: 2020-건축허가과-신축허가-16 | D83: - | E83: 경기도 용인시 수지구 고기동 610-22 외1필지 | F83: 전체 | G83: 100㎡이상~200㎡미만 | H83: 199.73 | I83: 3 | J83: 1 | K83: 단독주택 | L83: 1. 건축물 높이 재검토. 2. 구조안전확인서 연면적, 높이가 개요와 상이함. 3. 지하층산출 및 가중평균산출근거도에서 도면의 레벨 확인 바람. - 지하층산출 및 가중평균산출근거도에서 도면의 레벨 확인 바람. 토목도면 | BB83: ○ | BY83: ○
B84: 신축 | C84: 2020-건축허가과-신축허가-96 | D84: - | E84: 경기도 용인시 수지구 죽전동 1377-14 | F84: 전체 | G84: 100㎡이상~200㎡미만 | H84: 199.78 | I84: 2 | J84: 1 | K84: 단독주택 | L84: *보완완료를 누르지 마세요 1. 신청서: 대지신청주소 오류, 건축주 인적사항 확인(주소 및 핸드폰번호 정확히 입력), 대지지역지구 정확히 기재 2. 지하층: 지구단위계획지침에 따라 지하층 주거용용도로 사용금지 3. 배치도: 오우수계획도 관련 계획 삭제, 대지안의 공지규정에 따라 건축물 끝선부터 인접까지 거리 기재, 대지지표레벨 토목도면에 맞게 기재, 배치도 선 정리 4. 지표면산정: 지하층을 구하는 것이 아니라 실제 지표가 건축물에 접하는 면에 대하여 산정하는 것임(재산정), 3m 초과하면 3m 마다 산정 5. 일조관련: 1377-13번지 지표면 산정레베루이 el 99.104임 , 지표면 재산정 후 1377-13번지와의 평균레벨산정하여 일조권에 표기, 일조관련 배치도에 제대로 표현, 대지종횡에도 재산정해 정확히 표현 6. 면적산정과 관련하여 1층 포치부분 바닥면적에 포함하여 연면적 재산정 7. 차면시설 보완 8. 구조안전확인서 - 파일기초란 입력 9. 구조게산서에 지하수위없는데 확인서에는 지하수위 기재되어 있음 확인후 정확히 기재 | BH84: ○ | BI84: ○ | BQ84: ○ | BR84: ○ | CJ84: ○
B85: 신축 | C85: 2020-건축허가과-신축허가-114 | D85: - | E85: 경기도 용인시 수지구 고기동 30-156 | F85: 전체 | G85: 100㎡이상~200㎡미만 | H85: 199.92 | I85: 3 | J85: 1 | K85: 단독주택 | L85: 가. 확장형발코니(1층, 3층)에서 별도의 실로 통과 하지 말 것. 나. 토목설계도서(신청서 포함) 첨부 다. 지하층산정식 첨부 라. 대지종, 횡단면도 상에 A동 및 B동 건축물의 구조연결확인하여 건축물의 동수 재확인 * 관계법령 협의 중임에 따라 추가보완이 발생할 수 있음. | AS85: ○ | AU85: ○
B86: 신축 | C86: 2020-건축허가과-신축허가-162 | D86: - | E86: 경기도 용인시 수지구 죽전동 1377-7 | F86: 전체 | G86: 100㎡이상~200㎡미만 | H86: 199.95 | I86: 2 | J86: 1 | K86: 단독주택 | L86: 신청서상 용적률 오기 - 외부마감재료 불연, 준불연, 난연이상 - 단열재 열관류율 표기 -소방관진입창 설계(소방차 진입로 또는 소방차 진입이 가능한 공터에 면할 것.)" - 1층 평면도상 외부현관 표시(상부 오픈) | AH86: ○ | BQ86: ○
B87: 신축 | C87: 2020-건축허가과-신축허가-113 | D87: - | E87: 경기도 용인시 수지구 고기동 30-156 | F87: 전체 | G87: 100㎡이상~200㎡미만 | H87: 199.97 | I87: 3 | J87: 1 | K87: 단독주택 | L87: 가. 확장형발코니(1층, 3층)에서 별도의 실로 통과 하지 말 것. 나. 토목설계도서 첨부 * 관계법령 협의 중임에 따라 추가보완이 발생할 수 있음. | AS87: ○
B88: 신축 | C88: 2020-건축허가과-신축허가-36 | D88: - | E88: 경기도 용인시 수지구 신봉동 714-18 | F88: 전체 | G88: 200㎡이상~300㎡미만 | H88: 201.06 | I88: 3 | J88: 1 | K88: 단독주택 | L88: 토지사용동의서 구조안전확인서 및 계산서 구조도 전기, 설비 도면 개발행위, 산지팀 협의 서류(토목도면) 복합자재 열관류율 기입 반자높이 기입 배수설비설치신고서 구조도 지하층산정내역 | M88: ○ | N88: ○ | Y88: ○ | AB88: ○ | AC88: ○ | BF88: ○ | BG88: ○ | CB88: ○ | CI88: ○
B89: 신축 | C89: 2020-건축허가과-신축허가-39 | D89: - | E89: 경기도 용인시 수지구 신봉동 714-2 | F89: 전체 | G89: 200㎡이상~300㎡미만 | H89: 203.76 | I89: 3 | J89: 1 | K89: 단독주택 | L89: 토지사용동의서 구조안전확인서 및 계산서 구조도 전기, 설비 도면 개발행위, 산지팀 협의 서류(토목도면) 복합자재 열관류율 기입 반자높이 기입 배수설비설치신고서 구조도 지하층산정내역 | M89: ○ | N89: ○ | Y89: ○ | AB89: ○ | AC89: ○ | BF89: ○ | BG89: ○ | CB89: ○ | CI89: ○
B90: 신축 | C90: 2020-건축허가과-신축허가-23 | D90: - | E90: 경기도 용인시 수지구 고기동 610-1 | F90: 전체 | G90: 200㎡이상~300㎡미만 | H90: 203.94 | I90: 3 | J90: 1 | K90: 단독주택 | L90: 1. 구조안전확인서 연면적, 높이 확인 바람 2. 지하층산출 및 가중평균산출근거도에서 도면의 레벨 확인 바람. - 지하층산출 및 가중평균산출근거도에서 도면의 레벨 확인 바람. | AU90: ○ | BR90: ○
B91: 신축 | C91: 2020-건축허가과-신축허가-35 | D91: - | E91: 경기도 용인시 수지구 신봉동 714-4 | F91: 전체 | G91: 200㎡이상~300㎡미만 | H91: 209.16 | I91: 3 | J91: 1 | K91: 단독주택 | L91: 토지사용동의서 구조안전확인서 및 계산서 구조도 개발행위, 산지팀 협의 서류(토목도면) 복합자재 열관류율 기입 반자높이 기입 배수설비설치신고서 주차장 평면도, 단면도-3m이상일 경우 가중평균지표면산정 입면도 주차장부분 나오도록 공작물축조신고서-세움터 기재 배치도 상 공작물 표기 | M91: ○ | N91: ○ | Y91: ○ | AB91: ○ | AC91: ○ | BF91: ○ | BG91: ○ | CB91: ○ | CI91: ○
B92: 신축 | C92: 2020-건축허가과-신축허가-37 | D92: - | E92: 경기도 용인시 수지구 신봉동 714-2 | F92: 전체 | G92: 200㎡이상~300㎡미만 | H92: 209.16 | I92: 3 | J92: 1 | K92: 단독주택 | L92: 토지사용동의서 구조안전확인서 및 계산서 구조도 전기, 설비 도면 개발행위, 산지팀 협의 서류(토목도면) 복합자재 열관류율 기입 반자높이 기입 배수설비설치신고서 2m이상의 보강토옹벽에 대한 구조확인서 횡단면도 돌출된 조적,가벽은 무엇인지 평면,입면과 상이 우수관로 토목과 일치 | M92: ○ | N92: ○ | Y92: ○ | AB92: ○ | AC92: ○ | BF92: ○ | BG92: ○ | CB92: ○ | CI92: ○
B93: 신축 | C93: 2020-건축허가과-신축허가-40 | D93: - | E93: 경기도 용인시 수지구 신봉동 714-1 | F93: 전체 | G93: 200㎡이상~300㎡미만 | H93: 209.16 | I93: 3 | J93: 1 | K93: 단독주택 | L93: 토지사용동의서 구조안전확인서 및 계산서 구조도 전기, 설비 도면 개발행위, 산지팀 협의 서류(토목도면) 복합자재 열관류율 기입 반자높이 기입 배수설비설치신고서 지하주차장 단면도-지하층3m이상 시 가중평균지표산정내역 추가 입면도(정면도) 주차장부분 나오도록 주차장조성 또는 부지조성에 따른 공작물 축조신고작성 배치도 상 공작물 표기 | M93: ○ | N93: ○ | Y93: ○ | AB93: ○ | AC93: ○ | BF93: ○ | BG93: ○ | CB93: ○ | CI93: ○
B94: 신축 | C94: 2020-건축허가과-신축허가-69 | D94: - | E94: 경기도 용인시 수지구 고기동 492-24 | F94: 전체 | G94: 200㎡이상~300㎡미만 | H94: 213.34 | I94: 2 | J94: 1 | K94: 단독주택 | L94: 1. 건물동수 재검토 2. 법면 경사도 표기 3. 1층 거실앞 벽과 지붕 둘러쌓인 부분 면적 산입 검토 4. 현관 앞 부분 면적산입 재검토 5. 지붕 단열 재검토 6. 지하주차장 구조도면 | CE94: ○ | CJ94: ○
B95: 신축 | C95: 2020-건축허가과-신축허가-58 | D95: - | E95: 경기도 용인시 수지구 죽전동 1377-13 | F95: 전체 | G95: 200㎡이상~300㎡미만 | H95: 215.85 | I95: 2 | J95: 1 | K95: 단독주택 | L95: 1. 최은호 토지사용승낙서 및 인감증명서 2. 신청서와 설계개요- 구조가 일반목구조 인지 경골목구조인지 확인 후 일치 3. 구조안전확인서 및 구조계산서 4. 주단면도 및 단열계획도에 열관류율 기재 5. 인접대지의 차면시설 검토(1377-12) 6. 구조도면 및 전기도면 7. 지표면 가중평균 및 지하층 가중평균 산정 8. 지표면 가중평균 산정 후 높이 산정하고 일조권 검토 9. 건축면적 산정 관련- 1층 현관캐노피 1m후퇴하고 남은부분 건축면적에 포함 10. 연면적- 지하층 바닥면적 산정관련- x1 500후퇴부분 바닥면적에 포함하여야 함 1. 대지종횡단면도에서 정북일조권제한선 관련 - 가중평균레벨산정값에서 높이 산정 2. 대지가중지표산출근거-레벨은 2.085 높이인데 도면은 2.042로 표기 | M95: ○ | Y95: ○ | AD95: ○ | AR95: ○ | BZ95: ○ | CB95: ○
B96: 신축 | C96: 2020-건축허가과-신축허가-41 | D96: - | E96: 경기도 용인시 수지구 신봉동 714-21 | F96: 전체 | G96: 200㎡이상~300㎡미만 | H96: 219.04 | I96: 3 | J96: 1 | K96: 단독주택 | L96: 토지사용동의서 구조안전확인서 및 계산서 구조도 개발행위, 산지팀 협의 서류(토목도면) 복합자재 열관류율 기입 반자높이 기입 배수설비설치신고서 구조안전확인서 신규양식, 연면적수정 구조도 없음 평면도 오픈되지 않은 부분 바닥면적에 산입, 건축면적 동일 검토, 벽체가 있는 구간 면적 산입 검토 | M96: ○ | N96: ○ | Y96: ○ | AB96: ○ | AC96: ○ | BF96: ○ | BG96: ○ | CB96: ○ | CI96: ○
B97: 신축 | C97: 2020-건축허가과-신축허가-107 | D97: - | E97: 경기도 용인시 수지구 죽전동 1267-16 | F97: 전체 | G97: 200㎡이상~300㎡미만 | H97: 220.46 | I97: 2 | J97: 0 | K97: 단독주택 | L97: * 신청인 주소 및 전화번호 정확히 입력 1. 신청서:조경면적 입력 2. 오우수계획도에 관로 연결표시 3. 실내재료마감표 작성 | O97: ○ | AZ97: ○ | BQ97: ○
B98: 신축 | C98: 2020-건축허가과-신축허가-160 | D98: - | E98: 경기도 용인시 수지구 고기동 395-4 | F98: 전체 | G98: 200㎡이상~300㎡미만 | H98: 234.78 | I98: 1 | J98: 1 | K98: 제2종근린생활시설 | L98: 가. 공작물계획도 토목설계도서와 상이함. 나. 구조계산서 상의 건축물의 층수 재확인 다. 대지 종, 횡단면도 상의 공작물 표기 재확인할 것. 라. 건축물의 높이에 대하여 지표면 가중평균을 산정한 지표면 값으로 기준으로 할 것.(설계개요, 층별개요, 구조확인서 등) 마. 지하층 및 지표면 가중평균 산정 재확인(흙에 뭍히는 구간 재확인할 것.) * 토목설계도서 보완 * 소방시설 보완 (소방시설설계업등록증, 기술자격증사본 및 계약서 사본 누락, 소방시설전기도면 누락) * 관계법령 협의에 따라 추가보완이 발생할 수 있음 가. 설계개요 상에 층수 재확인 나. 대지 종, 횡단면도 상에 지표면가중평균선 표기할 것. 다. 건축물의 외벽마감 불연재료 표기할 것. 라. 허가조서 기입 및 인증 마. 주차장법 협의 관련 : 세움터 평면도 도면상 주차단위구획 길이 5M 수정 반영할 것(현 4.7M) 바. 공작물 토목설계도서와 상이함, 공작물 상세도 첨부 사. 농지전용부담금 납부영수증 * 관계법령 협의에 따라 추가보완이 발생할 수 있음 | AA98: ○ | BA98: ○ | BD98: ○ | CE98: ○
B99: 신축 | C99: 2020-건축허가과-신축허가-53 | D99: - | E99: 경기도 용인시 수지구 고기동 158-27 | F99: 전체 | G99: 200㎡이상~300㎡미만 | H99: 241.62 | I99: 2 | J99: 1 | K99: 단독주택 | L99: 1. 구조안전확인서 : 신청서와 연면적 상이 2. 법면 경사도 표기 3. 지하주차장 평면도 : 진입부 상부테라스선이 배치도와 상이 / 옹벽선 재검토 4. 현관앞 계단 면적산입 검토 5. 지하층 가중평균레벨 산출 A부분 재검토 6. 1층 다이닝 앞 외부 지붕덮는부분 바닥면적 산입 검토 1. 석축 경사도 표기 2. 공작물축조신고서 : 2m를 넘는 옹벽에 대하여 작성 | BA99: ○ | BE99: ○ | BJ99: ○ | BT99: ○ | CB99: ○
B100: 신축 | C100: 2020-건축허가과-신축허가-60 | D100: - | E100: 경기도 용인시 수지구 신봉동 753-3 | F100: 전체 | G100: 200㎡이상~300㎡미만 | H100: 242.66 | I100: 2 | J100: 0 | K100: 제2종근린생활시설 | L100: 1. 대리인위임장(동의인:법인) 2. 토지사용승락서(동의내용,토지사용자 정확하게 작성) 3. 배수설비설치신고서(신고인:법인) 4. 도로점용허가 필증 제출할 것 5. 건축도면 1) 신청서와 설계개요 일치시킬 것(용적률, 동명칭 표기 통일) 2) 배치도에 표기된 옹벽(높이, 구조 표현할 것) 3) 원지반고/계획고, 인접대지 레벨 표현 (배치도,종횡단면도) 4) 인접대지 레벨차에 대한 부지조성 도면 표현 5) 건축물 중심선 외 마감선 기준 이격거리 표현 6) 단면도 수정 (마감 정확하게 표기) 6. 허가조서에 기존건축물,위반건축물 "있음"에 대한 조치계획 7. 각 동별 용도 정리, 사업계획서 제출 1) 전시장 or 사무실 2) 농막(연면적20제곱미터 이하, 비주거) 3) 가설건축물(전시를 위한 견본주택)(상하수, 오배수 배관설치 안됨) 추가보완--------------------------- -토지사용승락서(동의내용 수정) -정보통신설계도면(자치행정과 보완) -단면도-단열재 레이어로 표현, 화장실 바닥마감 -외벽내벽상세도 불일치. -용도에 맞게 평면도 수정 -도로보다 대지가 낮음 -차면시설 | Y100: ○ | AC100: ○ | AJ100: ○ | AM100: ○ | AZ100: ○ | BC100: ○ | BD100: ○ | BH100: ○ | BM100: ○ | BU100: ○ | BY100: ○ | BZ100: ○ | CC100: ○
...

Sheet Sheet3
A1: =SUM($B$2:$CA$2) -> 799 | B1: =GETPIVOTDATA("개수 : 구조확인서 및 구조계산서 누락",$A$3)/$A$1 -> 0.063829787 | C1: =GETPIVOTDATA("개수 : 공작물 배치도 및 구조도 누락",$A$3)/$A$1 -> 0.073842303 | D1: =GETPIVOTDATA("개수 : 실내재료마감표 누락",$A$3)/$A$1 -> 0.025031289 | E1: =GETPIVOTDATA("개수 : 실외재료마감표 누락",$A$3)/$A$1 -> 0.0012515645 | F1: =GETPIVOTDATA("개수 : 소방관진입창 도서 누락",$A$3)/$A$1 -> 0.038798498 | G1: =GETPIVOTDATA("개수 : 의제 협의 체크 누락",$A$3)/$A$1 -> 0.0075093867 | H1: =GETPIVOTDATA("개수 : 도로대장 누락",$A$3)/$A$1 -> 0.017521902 | I1: =GETPIVOTDATA("개수 : 대지안전 확인서 누락",$A$3)/$A$1 -> 0.015018773 | J1: =GETPIVOTDATA("개수 : 입면도 누락",$A$3)/$A$1 -> 0.0075093867 | K1: =GETPIVOTDATA("개수 : 종중규약 누락",$A$3)/$A$1 -> 0.0012515645 | L1: =GETPIVOTDATA("개수 : 조경계획도 누락",$A$3)/$A$1 -> 0.0075093867 | M1: =GETPIVOTDATA("개수 : 옹벽 토목구조기술자 검토서 누락",$A$3)/$A$1 -> 0.0037546934 | N1: =GETPIVOTDATA("개수 : 토지사용승낙서 누락",$A$3)/$A$1 -> 0.037546934 | O1: =GETPIVOTDATA("개수 : 성장관리구역에 따른 개요의 인센티브내역 표기 누락",$A$3)/$A$1 -> 0.0037546934 | P1: =GETPIVOTDATA("개수 : 농지보전부담금 납부 영수증 누락",$A$3)/$A$1 -> 0.0087609512 | Q1: =GETPIVOTDATA("개수 : 토목도면 일체 누락",$A$3)/$A$1 -> 0.031289111 | R1: =GETPIVOTDATA("개수 : 배수설비 신고서 누락",$A$3)/$A$1 -> 0.02252816 | S1: =GETPIVOTDATA("개수 : 지하층 가중지표면 산정 근거표 누락",$A$3)/$A$1 -> 0.036295369 | T1: =GETPIVOTDATA("개수 : 다락산정 근거표 누락",$A$3)/$A$1 -> 0.0087609512 | U1: =GETPIVOTDATA("개수 : 전기, 위생, 기계 설비도면 일체 누락",$A$3)/$A$1 -> 0.01126408 | V1: =GETPIVOTDATA("개수 : 건축사자격증 누락",$A$3)/$A$1 -> 0.0012515645 | W1: =GETPIVOTDATA("개수 : 창호도 누락",$A$3)/$A$1 -> 0.0050062578 | X1: =GETPIVOTDATA("개수 : 도로폐지 신청서 누락",$A$3)/$A$1 -> 0.0037546934 | Y1: =GETPIVOTDATA("개수 : 대리인위임장 누락",$A$3)/$A$1 -> 0.0062578223 | Z1: =GETPIVOTDATA("개수 : 지상권자 사용 동의서 누락",$A$3)/$A$1 -> 0.01126408 | AA1: =GETPIVOTDATA("개수 : 대지종횡단면도 누락",$A$3)/$A$1 -> 0.010012516 | AB1: =GETPIVOTDATA("개수 : 허가조서 누락",$A$3)/$A$1 -> 0.0050062578 | AC1: =GETPIVOTDATA("개수 : 건축주 신상정보 누락",$A$3)/$A$1 -> 0.0075093867 | AD1: =GETPIVOTDATA("개수 : 성장관리방안 체크리스트 누락",$A$3)/$A$1 -> 0.0075093867 | AE1: =GETPIVOTDATA("개수 : 세움터 설계도서 인증 누락",$A$3)/$A$1 -> 0.0075093867 | AF1: =GETPIVOTDATA("개수 : 오우수처리계획도면 누락",$A$3)/$A$1 -> 0.0087609512 | AG1: =GETPIVOTDATA("개수 : 정북방향 일조권 검토 내역서 누락",$A$3)/$A$1 -> 0.0087609512 | AH1: =GETPIVOTDATA("개수 : 용도지역/지구 입력누락",$A$3)/$A$1 -> 0.0062578223 | AI1: =GETPIVOTDATA("개수 : 진출입계획, 주차계획도면 누락",$A$3)/$A$1 -> 0.0050062578 | AJ1: =GETPIVOTDATA("개수 : 공작물축조신고서 구간별로 신청 누락",$A$3)/$A$1 -> 0.0037546934 | AK1: =GETPIVOTDATA("개수 : 에너지절약계획서 미인증",$A$3)/$A$1 -> 0.0012515645 | AL1: =GETPIVOTDATA("개수 : 주택건설사업계획승인 허가취소된 증빙서류 누락",$A$3)/$A$1 -> 0.0025031289 | AM1: =GETPIVOTDATA("개수 : 구조계산서와 구조도면 상이",$A$3)/$A$1 -> 0.0075093867 | AN1: =GETPIVOTDATA("개수 : 건폐율/용적률 3째자리에서 반올림",$A$3)/$A$1 -> 0.0050062578 | AO1: =GETPIVOTDATA("개수 : 신청서 오류",$A$3)/$A$1 -> 0.031289111 | AP1: =GETPIVOTDATA("개수 : 구조안전확인서 연면적, 높이, 지역계수 등 오류",$A$3)/$A$1 -> 0.036295369 | AQ1: =GETPIVOTDATA("개수 : 구조안전확인서 작성자 오류",$A$3)/$A$1 -> 0.0025031289 | AR1: =GETPIVOTDATA("개수 : 대지안의 공지 기준 위반",$A$3)/$A$1 -> 0.0087609512 | AS1: =GETPIVOTDATA("개수 : 건축과 토목도면 주차구획 상이",$A$3)/$A$1 -> 0.012515645 | AT1: =GETPIVOTDATA("개수 : 대지종횡단면도 경사도 표기",$A$3)/$A$1 -> 0.010012516 | AU1: =GETPIVOTDATA("개수 : 반자높이 표기 누락",$A$3)/$A$1 -> 0.020025031 | AV1: =GETPIVOTDATA("개수 : 복합자재확인서 열관류율 누락",$A$3)/$A$1 -> 0.020025031 | AW1: =GETPIVOTDATA("개수 : 대지종단면도상 기존옹벽 표기 누락",$A$3)/$A$1 -> 0.0075093867 | AX1: =GETPIVOTDATA("개수 : 외벽마감재료 불연재료 미표기",$A$3)/$A$1 -> 0.025031289 | AY1: =GETPIVOTDATA("개수 : 공작물 축조신고 미작성",$A$3)/$A$1 -> 0.015018773 | AZ1: =GETPIVOTDATA("개수 : 입면과 배치도상 공작물 불일치",$A$3)/$A$1 -> 0.0012515645 | BA1: =GETPIVOTDATA("개수 : 층간바닥설계 오류",$A$3)/$A$1 -> 0.0062578223 | BB1: =GETPIVOTDATA("개수 : 배치도에 인접대지경계선 치수 표기",$A$3)/$A$1 -> 0.0075093867 | BC1: =GETPIVOTDATA("개수 : 토목도면과 오우수계획도면 불일치",$A$3)/$A$1 -> 0.0012515645 | BD1: =GETPIVOTDATA("개수 : 마감재료표 단면도에 표기 누락",$A$3)/$A$1 -> 0.0037546934 | BE1: =GETPIVOTDATA("개수 : 단열재 등급 누락",$A$3)/$A$1 -> 0.0050062578 | BF1: =GETPIVOTDATA("개수 : 오우수관로 최종방류구 미표기",$A$3)/$A$1 -> 0.0037546934 | BG1: =GETPIVOTDATA("개수 : 도로지정탭 미입력",$A$3)/$A$1 -> 0.010012516 | BH1: =GETPIVOTDATA("개수 : 3미터마다 가중지표선 표기누락",$A$3)/$A$1 -> 0.0087609512 | BI1: =GETPIVOTDATA("개수 : 석축경사도 표기 누락",$A$3)/$A$1 -> 0.0025031289 | BJ1: =GETPIVOTDATA("개수 : 배치도 대지종횡단면도 레벨 불일치",$A$3)/$A$1 -> 0.013767209 | BK1: =GETPIVOTDATA("개수 : 배치도에 도시계획도로 표기 누락",$A$3)/$A$1 -> 0.0050062578 | BL1: =GETPIVOTDATA("개수 : 차로진입구간 경사도 미표기",$A$3)/$A$1 -> 0.0025031289 | BM1: =GETPIVOTDATA("개수 : 접지면적 솔리드 해치 표기 누락",$A$3)/$A$1 -> 0.0025031289 | BN1: =GETPIVOTDATA("개수 : 배치도상 도로점용구간 표기 누락",$A$3)/$A$1 -> 0.0050062578 | BO1: =GETPIVOTDATA("개수 : 단열재 설계 오류",$A$3)/$A$1 -> 0.035043805 | BP1: =GETPIVOTDATA("개수 : 주차구획 면적 오류",$A$3)/$A$1 -> 0.0050062578 | BQ1: =GETPIVOTDATA("개수 : 면적산출 오류",$A$3)/$A$1 -> 0.071339174 | BR1: =GETPIVOTDATA("개수 : 차면시설 설계누락",$A$3)/$A$1 -> 0.018773467 | BS1: =GETPIVOTDATA("개수 : 가스저장설비이격기준",$A$3)/$A$1 -> 0.0025031289 | BT1: =GETPIVOTDATA("개수 : 개요와 신청서의 건축물 높이 불일치",$A$3)/$A$1 -> 0.015018773 | BU1: =GETPIVOTDATA("개수 : 조경면적 최소길이 1미터 위반",$A$3)/$A$1 -> 0.0012515645 | BV1: =GETPIVOTDATA("개수 : 범죄예방설계가이드라인에 따른 설계적용 누락",$A$3)/$A$1 -> 0.0075093867 | BW1: =GETPIVOTDATA("개수 : 지구단위계획 지침상 지하층 설치 불가",$A$3)/$A$1 -> 0.0025031289 | BX1: =GETPIVOTDATA("개수 : 구조안전확인서 kbc2016 사용 위반",$A$3)/$A$1 -> 0.026282854 | BY1: =GETPIVOTDATA("개수 : 발코니확장 전 거실 2.1미터 확보 위반",$A$3)/$A$1 -> 0.0050062578 | BZ1: =GETPIVOTDATA("개수 : 지표면가중평균선에서 높이 산정",$A$3)/$A$1 -> 0.0037546934 | CA1: =GETPIVOTDATA("개수 : 기타(안전)",$A$3)/$A$1 -> 0.0012515645
B2: =GETPIVOTDATA("개수 : 구조확인서 및 구조계산서 누락",$A$3) -> 51 | C2: =GETPIVOTDATA("개수 : 공작물 배치도 및 구조도 누락",$A$3) -> 59 | D2: =GETPIVOTDATA("개수 : 실내재료마감표 누락",$A$3) -> 20 | E2: =GETPIVOTDATA("개수 : 실외재료마감표 누락",$A$3) -> 1 | F2: =GETPIVOTDATA("개수 : 소방관진입창 도서 누락",$A$3) -> 31 | G2: =GETPIVOTDATA("개수 : 의제 협의 체크 누락",$A$3) -> 6 | H2: =GETPIVOTDATA("개수 : 도로대장 누락",$A$3) -> 14 | I2: =GETPIVOTDATA("개수 : 대지안전 확인서 누락",$A$3) -> 12 | J2: =GETPIVOTDATA("개수 : 입면도 누락",$A$3) -> 6 | K2: =GETPIVOTDATA("개수 : 종중규약 누락",$A$3) -> 1 | L2: =GETPIVOTDATA("개수 : 조경계획도 누락",$A$3) -> 6 | M2: =GETPIVOTDATA("개수 : 옹벽 토목구조기술자 검토서 누락",$A$3) -> 3 | N2: =GETPIVOTDATA("개수 : 토지사용승낙서 누락",$A$3) -> 30 | O2: =GETPIVOTDATA("개수 : 성장관리구역에 따른 개요의 인센티브내역 표기 누락",$A$3) -> 3 | P2: =GETPIVOTDATA("개수 : 농지보전부담금 납부 영수증 누락",$A$3) -> 7 | Q2: =GETPIVOTDATA("개수 : 토목도면 일체 누락",$A$3) -> 25 | R2: =GETPIVOTDATA("개수 : 배수설비 신고서 누락",$A$3) -> 18 | S2: =GETPIVOTDATA("개수 : 지하층 가중지표면 산정 근거표 누락",$A$3) -> 29 | T2: =GETPIVOTDATA("개수 : 다락산정 근거표 누락",$A$3) -> 7 | U2: =GETPIVOTDATA("개수 : 전기, 위생, 기계 설비도면 일체 누락",$A$3) -> 9 | V2: =GETPIVOTDATA("개수 : 건축사자격증 누락",$A$3) -> 1 | W2: =GETPIVOTDATA("개수 : 창호도 누락",$A$3) -> 4 | X2: =GETPIVOTDATA("개수 : 도로폐지 신청서 누락",$A$3) -> 3 | Y2: =GETPIVOTDATA("개수 : 대리인위임장 누락",$A$3) -> 5 | Z2: =GETPIVOTDATA("개수 : 지상권자 사용 동의서 누락",$A$3) -> 9 | AA2: =GETPIVOTDATA("개수 : 대지종횡단면도 누락",$A$3) -> 8 | AB2: =GETPIVOTDATA("개수 : 허가조서 누락",$A$3) -> 4 | AC2: =GETPIVOTDATA("개수 : 건축주 신상정보 누락",$A$3) -> 6 | AD2: =GETPIVOTDATA("개수 : 성장관리방안 체크리스트 누락",$A$3) -> 6 | AE2: =GETPIVOTDATA("개수 : 세움터 설계도서 인증 누락",$A$3) -> 6 | AF2: =GETPIVOTDATA("개수 : 오우수처리계획도면 누락",$A$3) -> 7 | AG2: =GETPIVOTDATA("개수 : 정북방향 일조권 검토 내역서 누락",$A$3) -> 7 | AH2: =GETPIVOTDATA("개수 : 용도지역/지구 입력누락",$A$3) -> 5 | AI2: =GETPIVOTDATA("개수 : 진출입계획, 주차계획도면 누락",$A$3) -> 4 | AJ2: =GETPIVOTDATA("개수 : 공작물축조신고서 구간별로 신청 누락",$A$3) -> 3 | AK2: =GETPIVOTDATA("개수 : 에너지절약계획서 미인증",$A$3) -> 1 | AL2: =GETPIVOTDATA("개수 : 주택건설사업계획승인 허가취소된 증빙서류 누락",$A$3) -> 2 | AM2: =GETPIVOTDATA("개수 : 구조계산서와 구조도면 상이",$A$3) -> 6 | AN2: =GETPIVOTDATA("개수 : 건폐율/용적률 3째자리에서 반올림",$A$3) -> 4 | AO2: =GETPIVOTDATA("개수 : 신청서 오류",$A$3) -> 25 | AP2: =GETPIVOTDATA("개수 : 구조안전확인서 연면적, 높이, 지역계수 등 오류",$A$3) -> 29 | AQ2: =GETPIVOTDATA("개수 : 구조안전확인서 작성자 오류",$A$3) -> 2 | AR2: =GETPIVOTDATA("개수 : 대지안의 공지 기준 위반",$A$3) -> 7 | AS2: =GETPIVOTDATA("개수 : 건축과 토목도면 주차구획 상이",$A$3) -> 10 | AT2: =GETPIVOTDATA("개수 : 대지종횡단면도 경사도 표기",$A$3) -> 8 | AU2: =GETPIVOTDATA("개수 : 반자높이 표기 누락",$A$3) -> 16 | AV2: =GETPIVOTDATA("개수 : 복합자재확인서 열관류율 누락",$A$3) -> 16 | AW2: =GETPIVOTDATA("개수 : 대지종단면도상 기존옹벽 표기 누락",$A$3) -> 6 | AX2: =GETPIVOTDATA("개수 : 외벽마감재료 불연재료 미표기",$A$3) -> 20 | AY2: =GETPIVOTDATA("개수 : 공작물 축조신고 미작성",$A$3) -> 12 | AZ2: =GETPIVOTDATA("개수 : 입면과 배치도상 공작물 불일치",$A$3) -> 1 | BA2: =GETPIVOTDATA("개수 : 층간바닥설계 오류",$A$3) -> 5 | BB2: =GETPIVOTDATA("개수 : 배치도에 인접대지경계선 치수 표기",$A$3) -> 6 | BC2: =GETPIVOTDATA("개수 : 토목도면과 오우수계획도면 불일치",$A$3) -> 1 | BD2: =GETPIVOTDATA("개수 : 마감재료표 단면도에 표기 누락",$A$3) -> 3 | BE2: =GETPIVOTDATA("개수 : 단열재 등급 누락",$A$3) -> 4 | BF2: =GETPIVOTDATA("개수 : 오우수관로 최종방류구 미표기",$A$3) -> 3 | BG2: =GETPIVOTDATA("개수 : 도로지정탭 미입력",$A$3) -> 8 | BH2: =GETPIVOTDATA("개수 : 3미터마다 가중지표선 표기누락",$A$3) -> 7 | BI2: =GETPIVOTDATA("개수 : 석축경사도 표기 누락",$A$3) -> 2 | BJ2: =GETPIVOTDATA("개수 : 배치도 대지종횡단면도 레벨 불일치",$A$3) -> 11 | BK2: =GETPIVOTDATA("개수 : 배치도에 도시계획도로 표기 누락",$A$3) -> 4 | BL2: =GETPIVOTDATA("개수 : 차로진입구간 경사도 미표기",$A$3) -> 2 | BM2: =GETPIVOTDATA("개수 : 접지면적 솔리드 해치 표기 누락",$A$3) -> 2 | BN2: =GETPIVOTDATA("개수 : 배치도상 도로점용구간 표기 누락",$A$3) -> 4 | BO2: =GETPIVOTDATA("개수 : 단열재 설계 오류",$A$3) -> 28 | BP2: =GETPIVOTDATA("개수 : 주차구획 면적 오류",$A$3) -> 4 | BQ2: =GETPIVOTDATA("개수 : 면적산출 오류",$A$3) -> 57 | BR2: =GETPIVOTDATA("개수 : 차면시설 설계누락",$A$3) -> 15 | BS2: =GETPIVOTDATA("개수 : 가스저장설비이격기준",$A$3) -> 2 | BT2: =GETPIVOTDATA("개수 : 개요와 신청서의 건축물 높이 불일치",$A$3) -> 12 | BU2: =GETPIVOTDATA("개수 : 조경면적 최소길이 1미터 위반",$A$3) -> 1 | BV2: =GETPIVOTDATA("개수 : 범죄예방설계가이드라인에 따른 설계적용 누락",$A$3) -> 6 | BW2: =GETPIVOTDATA("개수 : 지구단위계획 지침상 지하층 설치 불가",$A$3) -> 2 | BX2: =GETPIVOTDATA("개수 : 구조안전확인서 kbc2016 사용 위반",$A$3) -> 21 | BY2: =GETPIVOTDATA("개수 : 발코니확장 전 거실 2.1미터 확보 위반",$A$3) -> 4 | BZ2: =GETPIVOTDATA("개수 : 지표면가중평균선에서 높이 산정",$A$3) -> 3 | CA2: =GETPIVOTDATA("개수 : 기타(안전)",$A$3) -> 1
A3: 행 레이블 | B3: 개수 : 구조확인서 및 구조계산서 누락 | C3: 개수 : 공작물 배치도 및 구조도 누락 | D3: 개수 : 실내재료마감표 누락 | E3: 개수 : 실외재료마감표 누락 | F3: 개수 : 소방관진입창 도서 누락 | G3: 개수 : 의제 협의 체크 누락 | H3: 개수 : 도로대장 누락 | I3: 개수 : 대지안전 확인서 누락 | J3: 개수 : 입면도 누락 | K3: 개수 : 종중규약 누락 | L3: 개수 : 조경계획도 누락 | M3: 개수 : 옹벽 토목구조기술자 검토서 누락 | N3: 개수 : 토지사용승낙서 누락 | O3: 개수 : 성장관리구역에 따른 개요의 인센티브내역 표기 누락 | P3: 개수 : 농지보전부담금 납부 영수증 누락 | Q3: 개수 : 토목도면 일체 누락 | R3: 개수 : 배수설비 신고서 누락 | S3: 개수 : 지하층 가중지표면 산정 근거표 누락 | T3: 개수 : 다락산정 근거표 누락 | U3: 개수 : 전기, 위생, 기계 설비도면 일체 누락 | V3: 개수 : 건축사자격증 누락 | W3: 개수 : 창호도 누락 | X3: 개수 : 도로폐지 신청서 누락 | Y3: 개수 : 대리인위임장 누락 | Z3: 개수 : 지상권자 사용 동의서 누락 | AA3: 개수 : 대지종횡단면도 누락 | AB3: 개수 : 허가조서 누락 | AC3: 개수 : 건축주 신상정보 누락 | AD3: 개수 : 성장관리방안 체크리스트 누락 | AE3: 개수 : 세움터 설계도서 인증 누락 | AF3: 개수 : 오우수처리계획도면 누락 | AG3: 개수 : 정북방향 일조권 검토 내역서 누락 | AH3: 개수 : 용도지역/지구 입력누락 | AI3: 개수 : 진출입계획, 주차계획도면 누락 | AJ3: 개수 : 공작물축조신고서 구간별로 신청 누락 | AK3: 개수 : 에너지절약계획서 미인증 | AL3: 개수 : 주택건설사업계획승인 허가취소된 증빙서류 누락 | AM3: 개수 : 구조계산서와 구조도면 상이 | AN3: 개수 : 건폐율/용적률 3째자리에서 반올림 | AO3: 개수 : 신청서 오류 | AP3: 개수 : 구조안전확인서 연면적, 높이, 지역계수 등 오류 | AQ3: 개수 : 구조안전확인서 작성자 오류 | AR3: 개수 : 대지안의 공지 기준 위반 | AS3: 개수 : 건축과 토목도면 주차구획 상이 | AT3: 개수 : 대지종횡단면도 경사도 표기 | AU3: 개수 : 반자높이 표기 누락 | AV3: 개수 : 복합자재확인서 열관류율 누락 | AW3: 개수 : 대지종단면도상 기존옹벽 표기 누락 | AX3: 개수 : 외벽마감재료 불연재료 미표기 | AY3: 개수 : 공작물 축조신고 미작성 | AZ3: 개수 : 입면과 배치도상 공작물 불일치 | BA3: 개수 : 층간바닥설계 오류 | BB3: 개수 : 배치도에 인접대지경계선 치수 표기 | BC3: 개수 : 토목도면과 오우수계획도면 불일치 | BD3: 개수 : 마감재료표 단면도에 표기 누락 | BE3: 개수 : 단열재 등급 누락 | BF3: 개수 : 오우수관로 최종방류구 미표기 | BG3: 개수 : 도로지정탭 미입력 | BH3: 개수 : 3미터마다 가중지표선 표기누락 | BI3: 개수 : 석축경사도 표기 누락 | BJ3: 개수 : 배치도 대지종횡단면도 레벨 불일치 | BK3: 개수 : 배치도에 도시계획도로 표기 누락 | BL3: 개수 : 차로진입구간 경사도 미표기 | BM3: 개수 : 접지면적 솔리드 해치 표기 누락 | BN3: 개수 : 배치도상 도로점용구간 표기 누락 | BO3: 개수 : 단열재 설계 오류 | BP3: 개수 : 주차구획 면적 오류 | BQ3: 개수 : 면적산출 오류 | BR3: 개수 : 차면시설 설계누락 | BS3: 개수 : 가스저장설비이격기준 | BT3: 개수 : 개요와 신청서의 건축물 높이 불일치 | BU3: 개수 : 조경면적 최소길이 1미터 위반 | BV3: 개수 : 범죄예방설계가이드라인에 따른 설계적용 누락 | BW3: 개수 : 지구단위계획 지침상 지하층 설치 불가 | BX3: 개수 : 구조안전확인서 kbc2016 사용 위반 | BY3: 개수 : 발코니확장 전 거실 2.1미터 확보 위반 | BZ3: 개수 : 지표면가중평균선에서 높이 산정 | CA3: 개수 : 기타(안전)
A4: 공동주택
A5: 1000㎡이상~
A6: 6
A7: 교육연구시설 | D7: 1 | R7: 1 | AB7: 1 | BQ7: 1 | BV7: 1
A8: 700㎡이상~800㎡미만
A9: 2 | D9: 1 | R9: 1 | AB9: 1 | BQ9: 1 | BV9: 1
A10: 단독주택 | B10: 38 | C10: 40 | D10: 8 | F10: 24 | G10: 6 | H10: 12 | I10: 10 | J10: 6 | L10: 5 | M10: 1 | N10: 25 | O10: 1 | P10: 3 | Q10: 25 | R10: 16 | S10: 26 | T10: 7 | U10: 9 | V10: 1 | W10: 3 | X10: 3 | Y10: 2 | Z10: 5 | AA10: 4 | AC10: 5 | AD10: 5 | AE10: 5 | AF10: 6 | AG10: 7 | AH10: 4 | AJ10: 2 | AL10: 1 | AM10: 5 | AN10: 4 | AO10: 15 | AP10: 21 | AQ10: 2 | AR10: 4 | AS10: 7 | AT10: 7 | AU10: 16 | AV10: 16 | AW10: 5 | AX10: 14 | AY10: 12 | AZ10: 1 | BA10: 4 | BB10: 4 | BC10: 1 | BD10: 3 | BE10: 3 | BF10: 3 | BG10: 6 | BH10: 7 | BI10: 2 | BJ10: 9 | BK10: 1 | BL10: 1 | BM10: 1 | BN10: 2 | BO10: 20 | BP10: 2 | BQ10: 46 | BR10: 14 | BS10: 2 | BT10: 11 | BU10: 1 | BW10: 1 | BX10: 21 | BY10: 4 | BZ10: 3
A11: 1000㎡이상~
A12: 2 | B12: 1 | C12: 3 | F12: 1 | G12: 1 | H12: 4 | N12: 3 | S12: 2 | U12: 2 | AE12: 1 | AF12: 2 | AL12: 1 | AO12: 3 | AS12: 1 | BB12: 1 | BG12: 3 | BJ12: 2 | BN12: 1 | BO12: 3 | BQ12: 2
A13: 100㎡이상~200㎡미만
A14: 1 | B14: 6 | C14: 1 | H14: 4 | I14: 5 | J14: 4 | L14: 1 | Q14: 4 | S14: 1 | AM14: 4 | AN14: 4 | AO14: 2 | AP14: 3 | AQ14: 1 | AR14: 1 | AS14: 1 | BE14: 1 | BO14: 1 | BQ14: 5 | BT14: 1 | BX14: 1
A15: 2 | B15: 4 | C15: 6 | D15: 2 | F15: 10 | H15: 1 | I15: 1 | L15: 1 | N15: 5 | O15: 1 | P15: 1 | Q15: 1 | R15: 1 | S15: 7 | T15: 1 | U15: 2 | V15: 1 | W15: 3 | X15: 1 | Y15: 2 | Z15: 3 | AA15: 1 | AC15: 4 | AD15: 4 | AF15: 3 | AG15: 4 | AM15: 1 | AO15: 2 | AP15: 3 | AR15: 1 | AT15: 3 | AU15: 1 | AV15: 1 | AW15: 2 | AX15: 6 | AY15: 4 | AZ15: 1 | BA15: 2 | BB15: 3 | BD15: 2 | BE15: 2 | BF15: 2 | BG15: 1 | BJ15: 3 | BL15: 1 | BO15: 7 | BP15: 1 | BQ15: 10 | BR15: 10 | BS15: 2 | BT15: 2 | BU15: 1 | BW15: 1 | BX15: 1 | BY15: 2 | BZ15: 1
A16: 3 | B16: 13 | C16: 12 | D16: 2 | F16: 5 | M16: 1 | N16: 8 | Q16: 8 | R16: 8 | S16: 7 | U16: 1 | Z16: 1 | AA16: 2 | AH16: 2 | AJ16: 1 | AO16: 2 | AP16: 9 | AQ16: 1 | AS16: 1 | AT16: 1 | AU16: 8 | AV16: 8 | AW16: 1 | AX16: 3 | AY16: 2 | BA16: 1 | BD16: 1 | BH16: 1 | BN16: 1 | BO16: 1 | BQ16: 11 | BT16: 6 | BX16: 8 | BY16: 1
A17: 200㎡이상~300㎡미만
A18: 2 | B18: 2 | C18: 2 | D18: 3 | I18: 1 | N18: 1 | S18: 4 | T18: 1 | AA18: 1 | AC18: 1 | AD18: 1 | AG18: 1 | AO18: 2 | AP18: 3 | AS18: 2 | AT18: 1 | AY18: 2 | BC18: 1 | BF18: 1 | BH18: 1 | BI18: 1 | BO18: 3 | BQ18: 2 | BR18: 1 | BT18: 2 | BX18: 1 | BY18: 1
A19: 3 | B19: 7 | C19: 7 | G19: 1 | N19: 7 | Q19: 7 | R19: 7 | AJ19: 1 | AR19: 1 | AU19: 7 | AV19: 7 | AY19: 1 | BG19: 1 | BH19: 1 | BP19: 1 | BQ19: 8 | BX19: 8
A20: 300㎡이상~400㎡미만
A21: 1 | C21: 1 | BM21: 1
A22: 2 | B22: 2 | C22: 2 | F22: 3 | H22: 1 | I22: 2 | L22: 1 | P22: 1 | Q22: 1 | S22: 3 | X22: 1 | AE22: 1 | AG22: 1 | AP22: 1 | AS22: 2 | AY22: 1 | BH22: 1 | BJ22: 3 | BO22: 1 | BQ22: 3 | BR22: 1 | BX22: 1
A23: 3 | B23: 2 | C23: 3 | F23: 4 | G23: 3 | J23: 1 | Q23: 3 | T23: 3 | U23: 4 | AE23: 3 | AO23: 2 | AT23: 2 | AW23: 2 | AX23: 3 | BH23: 2 | BO23: 2 | BQ23: 1 | BR23: 1 | BZ23: 1
A24: 4 | D24: 1 | L24: 2 | T24: 2 | AF24: 1 | AG24: 1 | AR24: 1 | AX24: 1 | BA24: 1 | BR24: 1
A25: 400㎡이상~500㎡미만
A26: 1 | X26: 1 | AY26: 1 | BI26: 1 | BO26: 1 | BZ26: 1
A27: 2 | BQ27: 1
A28: 3 | B28: 1 | J28: 1 | S28: 1 | Z28: 1 | AH28: 1 | AO28: 1 | BH28: 1
A29: 500㎡이상~600㎡미만
A30: 3 | P30: 1 | AX30: 1 | BQ30: 1
A31: 700㎡이상~800㎡미만
A32: 1 | C32: 1 | H32: 1 | I32: 1 | AP32: 1 | AY32: 1 | BJ32: 1 | BQ32: 1 | BX32: 1
A33: 2 | C33: 1 | F33: 1 | G33: 1 | H33: 1 | Q33: 1 | S33: 1 | AH33: 1 | AO33: 1 | BQ33: 1
A34: 4 | BK34: 1
A35: 800㎡이상~900㎡미만
A36: 1 | C36: 1 | N36: 1 | AP36: 1 | BG36: 1 | BO36: 1
A37: 업무시설 | D37: 1 | E37: 1 | AX37: 1 | BA37: 1 | BB37: 1 | BQ37: 1 | BV37: 1
A38: 800㎡이상~900㎡미만
A39: 5 | D39: 1 | E39: 1 | AX39: 1 | BA39: 1 | BB39: 1 | BQ39: 1 | BV39: 1
A40: 운동시설 | B40: 1 | C40: 1 | D40: 1 | M40: 1 | AA40: 1 | AI40: 1 | AO40: 1
A41: 1000㎡이상~
A42: 1 | B42: 1 | C42: 1 | D42: 1 | M42: 1 | AA42: 1 | AI42: 1 | AO42: 1
A43: 자동차관련시설 | C43: 1 | D43: 1 | AP43: 1 | AX43: 1 | BP43: 1 | BQ43: 1 | CA43: 1
A44: 200㎡이상~300㎡미만
A45: 1 | AP45: 1 | BP45: 1 | BQ45: 1
A46: 400㎡이상~500㎡미만
A47: 2 | C47: 1 | D47: 1 | AX47: 1 | CA47: 1
A48: 제1종근린생활시설 | B48: 9 | C48: 12 | D48: 6 | F48: 6 | I48: 2 | K48: 1 | L48: 1 | M48: 1 | N48: 3 | O48: 1 | P48: 3 | S48: 1 | Y48: 1 | Z48: 3 | AA48: 1 | AE48: 1 | AH48: 1 | AI48: 2 | AJ48: 1 | AM48: 1 | AO48: 4 | AP48: 3 | AR48: 2 | AX48: 2 | BE48: 1 | BG48: 1 | BK48: 2 | BO48: 3 | BQ48: 5 | BV48: 4
A49: 1000㎡이상~
A50: 1 | B50: 1 | C50: 2 | D50: 1 | M50: 1 | N50: 1 | Z50: 1 | AA50: 1 | AI50: 1 | AP50: 1 | AR50: 1 | BO50: 1 | BQ50: 1 | BV50: 1
A51: 100㎡이상~200㎡미만
A52: 1 | C52: 2 | I52: 1 | K52: 1 | N52: 1 | P52: 3 | Y52: 1 | Z52: 1 | AO52: 1 | BG52: 1 | BK52: 2 | BO52: 1 | BQ52: 1 | BV52: 1
A53: 2 | B53: 4 | C53: 4 | D53: 4 | F53: 4 | AM53: 1
A54: 300㎡이상~400㎡미만
A55: 2 | C55: 1 | F55: 1 | O55: 1 | S55: 1 | AO55: 1 | AX55: 1 | BV55: 1
A56: 400㎡이상~500㎡미만
A57: 1 | B57: 1 | C57: 1 | D57: 1 | I57: 1 | AH57: 1 | AI57: 1 | AO57: 2 | AP57: 1 | BQ57: 1
A58: 500㎡이상~600㎡미만
A59: 2 | C59: 1 | BE59: 1 | BQ59: 1
A60: 4 | B60: 1 | L60: 1 | AP60: 1 | BQ60: 1
A61: 600㎡이상~700㎡미만
A62: 2 | B62: 1 | AE62: 1 | AJ62: 1 | AX62: 1
A63: 700㎡이상~800㎡미만
A64: 4 | F64: 1
A65: 900㎡이상~1000㎡미만
A66: 1 | B66: 1 | C66: 1 | N66: 1 | Z66: 1 | AR66: 1 | BO66: 1 | BV66: 1
A67: 제2종근린생활시설 | B67: 2 | C67: 4 | D67: 2 | F67: 1 | H67: 1 | N67: 2 | O67: 1 | P67: 1 | R67: 1 | S67: 1 | Y67: 2 | Z67: 1 | AA67: 2 | AB67: 2 | AC67: 1 | AD67: 1 | AF67: 1 | AI67: 1 | AK67: 1 | AL67: 1 | AO67: 4 | AP67: 3 | AR67: 1 | AS67: 2 | AT67: 1 | AW67: 1 | AX67: 2 | BB67: 1 | BG67: 1 | BJ67: 2 | BK67: 1 | BL67: 1 | BM67: 1 | BN67: 2 | BO67: 4 | BP67: 1 | BQ67: 2 | BR67: 1 | BT67: 1
A68: 1000㎡이상~
A69: 1 | C69: 1 | AK69: 1 | AL69: 1 | BJ69: 1
A70: 100㎡이상~200㎡미만
A71: 2 | AA71: 1 | AD71: 1 | AP71: 1 | BM71: 1 | BO71: 1 | BP71: 1
A72: 200㎡이상~300㎡미만
A73: 1 | P73: 1 | AP73: 1 | AS73: 1 | BT73: 1
A74: 2 | N74: 1 | R74: 1 | Y74: 1 | AB74: 1 | AO74: 1 | AR74: 1 | AS74: 1 | AW74: 1 | BB74: 1 | BJ74: 1 | BN74: 1 | BO74: 1 | BR74: 1
A75: 300㎡이상~400㎡미만
A76: 1 | C76: 2 | H76: 1 | AB76: 1 | BL76: 1
A77: 2 | BK77: 1
A78: 400㎡이상~500㎡미만
A79: 4 | AI79: 1 | AO79: 1
A80: 500㎡이상~600㎡미만
A81: 2 | B81: 1 | F81: 1 | Y81: 1 | Z81: 1 | AA81: 1 | AX81: 1 | BN81: 1 | BQ81: 1
A82: 600㎡이상~700㎡미만
A83: 2 | B83: 1 | D83: 1 | S83: 1 | AO83: 1 | AT83: 1 | BO83: 1 | BQ83: 1
A84: 3 | D84: 1 | O84: 1 | AC84: 1 | AX84: 1
A85: 700㎡이상~800㎡미만
A86: 1 | AF86: 1 | AO86: 1
A87: 800㎡이상~900㎡미만
A88: 3 | C88: 1 | N88: 1 | AP88: 1 | BG88: 1 | BO88: 1
A89: 종교시설 | B89: 1 | AB89: 1 | BO89: 1 | BQ89: 1 | BW89: 1
A90: 1000㎡이상~
A91: 6 | B91: 1 | AB91: 1 | BO91: 1 | BQ91: 1 | BW91: 1
A92: (비어 있음) | C92: 1 | H92: 1 | S92: 1 | W92: 1 | AO92: 1 | AP92: 1 | AS92: 1
A93: 400㎡이상~500㎡미만
A94: 1 | C94: 1 | H94: 1 | S94: 1 | W94: 1 | AO94: 1 | AP94: 1 | AS94: 1
A95: 총합계 | B95: 51 | C95: 59 | D95: 20 | E95: 1 | F95: 31 | G95: 6 | H95: 14 | I95: 12 | J95: 6 | K95: 1 | L95: 6 | M95: 3 | N95: 30 | O95: 3 | P95: 7 | Q95: 25 | R95: 18 | S95: 29 | T95: 7 | U95: 9 | V95: 1 | W95: 4 | X95: 3 | Y95: 5 | Z95: 9 | AA95: 8 | AB95: 4 | AC95: 6 | AD95: 6 | AE95: 6 | AF95: 7 | AG95: 7 | AH95: 5 | AI95: 4 | AJ95: 3 | AK95: 1 | AL95: 2 | AM95: 6 | AN95: 4 | AO95: 25 | AP95: 29 | AQ95: 2 | AR95: 7 | AS95: 10 | AT95: 8 | AU95: 16 | AV95: 16 | AW95: 6 | AX95: 20 | AY95: 12 | AZ95: 1 | BA95: 5 | BB95: 6 | BC95: 1 | BD95: 3 | BE95: 4 | BF95: 3 | BG95: 8 | BH95: 7 | BI95: 2 | BJ95: 11 | BK95: 4 | BL95: 2 | BM95: 2 | BN95: 4 | BO95: 28 | BP95: 4 | BQ95: 57 | BR95: 15 | BS95: 2 | BT95: 12 | BU95: 1 | BV95: 6 | BW95: 2 | BX95: 21 | BY95: 4 | BZ95: 3 | CA95: 1

Sheet Sheet7
B2: 서류보완 | C2: 잔차
B3: =SUM(Sheet3!B1:AL1) -> 0.52440551 | C3: =1-B3 -> 0.47559449
J4: 구조확인서 및 구조계산서 누락
B5: 기재보완 | C5: 잔차 | J5: 공작물 배치도 및 구조도 누락
B6: =SUM(Sheet3!AM1:BN1) -> 0.28035044 | C6: =1-B6 -> 0.71964956 | J6: 실내재료마감표 누락
J7: 실외재료마감표 누락
B8: 보완 | C8: 잔차 | J8: 소방관진입창 도서 누락
B9: =SUM(Sheet3!BO1:CA1) -> 0.19524406 | C9: =1-B9 -> 0.80475594 | J9: 의제 협의 체크 누락
J10: 도로대장 누락
J11: 대지안전 확인서 누락
J12: 입면도 누락
J13: 종중규약 누락
J14: 조경계획도 누락
J15: 옹벽 토목구조기술자 검토서 누락
J16: 토지사용승낙서 누락
J17: 성장관리구역에 따른 개요의 인센티브내역 표기 누락
J18: 농지보전부담금 납부 영수증 누락
J19: 토목도면 일체 누락
J20: 배수설비 신고서 누락
J21: 지하층 가중지표면 산정 근거표 누락
... J40: 주택건설사업계획승인 허가취소된 증빙서류 누락
