Workbook

Sheet Sheet1
B1: 착공신고 접수 시 준수사항(6층이하로서 연면적 2,000제곱미터 이하 현장)
B2: 건설사업자시공 대상 | C2: =I21 -> 비대상 | D2: =IF(I19="비대상",J19,IFERROR(VLOOKUP("대상",I13:J20,2,0),"200제곱미터 이하는 건설사업자 시공대상이 아닙니다.")) -> 200제곱미터 이하는 건설사업자 시공대상이 아닙니다.
B3: 허가권자의 감리자선임 대상 | C3: =K22 -> 대상 | D3: =IF(K18="비대상",L18,IFERROR(VLOOKUP("대상",K13:L21,2,0),"건설업자 시공대상은 허가권자 지정감리 제외")) -> 건축주가 직접시공하는 건축물은 허가권자가 감리자를 지정해야 합니다(경미한 공사, 단독주택, 16. 8. 4.이전 제외).
B4: 현장관리인 선임 대상 | C4: =M21 -> 대상 | D4: =IF(C4="대상", "건축주가 직접시공하는 현장은 관리인을 지정해야 합니다.", "건설사업자 시공대상 현장 또는 17. 2. 4. 이전 허가건은 제외입니다.") -> 건축주가 직접시공하는 현장은 관리인을 지정해야 합니다.
B5: 품질시험계획 수립 대상 | C5: =O22 -> 비대상 | D5: =IF(C5="비대상","연면적이 660제곱미터 미만 또는 총공사비가 5억원 미만 토목공사 또는 총공사비가 2억원 미만인 전문공사는 제외", "연면적이 660제곱미터 이상 또는 총공사비가 5억원이상 토목공사 또는 총공사비가 2억원 이상인 전문공사는 수립대상입니다") -> 연면적이 660제곱미터 미만 또는 총공사비가 5억원 미만 토목공사 또는 총공사비가 2억원 미만인 전문공사는 제외
B6: 안전관리계획 수립 대상 | C6: =Q22 -> 비대상 | D6: =IF(C6="비대상","지하 10미터 미만 굴착공사는 안전관리계획서 수립 제외입니다.","지하 10미터 이상을 굴착하는 건설공사는 수립해야 합니다.") -> 지하 10미터 미만 굴착공사는 안전관리계획서 수립 제외입니다.
B7: 건설재해예방지도 | C7: =U22 -> 비대상 | D7: =IF(C7="비대상","공사금액이 1억원 미만 건축신고 대상 또는 공사기간이 1개월 미만이면, 대상이 아닙니다.","공사금액이 1억원 이상 또는 건축허가 대상 또는 공사기간이 1개월이상이면 건설재해예방지도 대상입니다.") -> 공사금액이 1억원 미만 건축신고 대상 또는 공사기간이 1개월 미만이면, 대상이 아닙니다.
B8: 유해위험방지계획 수립대상 | C8: =W22 -> 비대상 | D8: =IF(C8="대상","높이 31미터 이상 건축물 또는 깊이 10미터 이상 굴착 공사는 유해위헙방지계획 수립대상입니다.", "높이 31미터 미만 건축물 또는 깊이 10미터 미만 굴착 공사는 유해위헙방지계획 수립대상이 아닙니다." ) -> 높이 31미터 미만 건축물 또는 깊이 10미터 미만 굴착 공사는 유해위헙방지계획 수립대상이 아닙니다.
B9: 안전관리예치금 대상 | C9: =S22 -> 비대상 | D9: =IF(C9="대상","연면적 1,000제곱미터 이상 건축물은 안전관리금 예치 대상입니다.","연면적 1,000제곱미터 미만 건축물은 안전관리금 예치 대상이 아닙니다.") -> 연면적 1,000제곱미터 미만 건축물은 안전관리금 예치 대상이 아닙니다.
B10: 소규모 건설공사 안전관리대상 | C10: =Y22 -> 비대상 | D10: =IF(C10="대상","연면적 1,000제곱미터 이상 공동주택, 근린생활시설, 공장은 소규모 건설공사 안전관리계획 수립대상입니다.", "연면적 1,000제곱미터 이하는 소규모 건설공사 안전관리계획 수립대상이 아닙니다.") -> 연면적 1,000제곱미터 이하는 소규모 건설공사 안전관리계획 수립대상이 아닙니다.
B11: 상주감리 대상 | C11: =AA22 -> 비대상 | D11: =IF(C11="대상","연면적 1,000제곱미터 이상 문화및집회시설 등은 상주감리대상입니다.", "연면적 1,000제곱미터 미만은 상죽마리대상이 아닙니다.") -> 연면적 1,000제곱미터 미만은 상죽마리대상이 아닙니다.
B12: 아래 물음에 체크하여 주시기 바랍니다. | I12: 전문건설 | J12: 판정 | K12: 허가감리 | L12: 판정 | M12: 관리인 | N12: 판정 | O12: 품질시험 | Q12: 안전관리계획 | S12: 안전관리예치금 | U12: 건설재해예방지도 | W12: 유해위험방지계획수립대상 | Y12: 소규모 건설공사 안전관리계획 | AA12: 상주감리대상
B13: Q1: 건축물 면적 | C13: 건축물 연면적이 200제곱미터를 넘습니까? | H13: FALSE | I13: =IF(H13=TRUE, "대상","") | J13: =IF(I13="대상","200제곱미터 초과하는 건축물은 건설업자가 시공해야합니다.(경미공사 제외)") -> FALSE | K13: =IF(I21="비대상","대상","비대상") -> 대상 | L13: =IF(K13="대상","건축주가 직접시공하는 건축물은 허가권자가 감리자를 지정해야 합니다(경미한 공사, 단독주택, 16. 8. 4.이전 제외).") -> 건축주가 직접시공하는 건축물은 허가권자가 감리자를 지정해야 합니다(경미한 공사, 단독주택, 16. 8. 4.이전 제외). | M13: =IF( I20="비대상","비대상", IF(I21="비대상","대상","비대상")) -> 대상
B14: Q2: 공동주택여부 | C14: 건축물의 용도가 공동주택, 다중주택, 다가구주택, 공관입니까? | H14: FALSE | I14: =IF(I19="비대상","비대상",IF(H14=TRUE,"대상","")) | J14: =IF(I14="대상","공동주택 등은 건축물은 면적관계 없이 건설사업자 선정 대상입니다.(경미한 건설공사 제외)") -> FALSE | K14: =IF(H14=TRUE,"대상","") | L14: =IF(K14="대상","공동주택 등은 건축물 면적관계 없이 허가권자가 감리자를 지정해야 합니다(주상복합건축물 포함).") -> FALSE | M14: =IF(H22=TRUE, "비대상","대상") -> 대상
B15: Q3: 노유자시설 여부1 | C15: 단독주택의 형태를 갖춘 가정어린이집, 지역아동센터 및 노인복지지설 입니까? | H15: FALSE | I15: =IF(H15=TRUE, "대상","") | J15: =IF(I15="대상","노유자시설 등은 면적관계 없이 건설사업자 시공 대상입니다.(경미공사 제외)") -> FALSE
B16: Q4: 노유자시설 여부2 | C16: 학교, 어린이집, 유치원, 특수교육기관 및 장애인평생교육시설, 평생교육시설, 학원입니까? | H16: FALSE | I16: =IF(H16=TRUE, "대상","") | J16: =IF(I16="대상","노유자시설 등은 면적관계 없이 건설사업자 시공 대상입니다.") -> FALSE
B17: Q5: 다중이용 시설 여부 | C17: 유흥주점, 숙박시설, 병원, 관광숙박시설, 다중생활시설, 업무시설입니까? | H17: FALSE | I17: =IF(H17=TRUE, "대상","") | J17: =IF(I17="대상","다중생활시설 등은 면적관계 없이 건설사업자 시공 대상입니다.") -> FALSE
B18: Q6: 지정감리 예외 대상 | C18: 건축물의 용도가 단독주택 중 단독주택입니까? 농업 ·임업 ·축산업 또는 어업용 창고, 저장고·작업장· 퇴비사· 축사·양어장 입니까? | H18: FALSE | K18: =IF(H18=TRUE,"비대상","") | L18: =IF(K18="비대상","단독주택 중 단독주택과 농축산시설 등은 허가권자가 지정하는 감리자 지정 제외대상입니다..") -> FALSE
B19: Q7: 건설산업기본법 강화 시행일 | C19: 최초 건축허가 접수일 18. 6. 27. 이전입니까? | H19: FALSE | I19: =IF(I16="대상","대상",IF(I15="대상","대상",IF(H19=TRUE,"비대상"))) -> FALSE | J19: =IF(I19="비대상", "시행일 이전이라 대상이 아닙니다. 다만 종전규정에 따라 연면적 661제곱미터 초과 주거용 건축물, 공동주택, 연면적 495제곱미터 초과 주거전용 외 건축물, 다중이용건축물이 시공자대상입니다.") -> FALSE
B20: Q8: 경미한 건설공사 | C20: 종합건설공사의 공사예정금액이 5.000만원 미만입니까? | H20: FALSE | I20: =IF(H20=TRUE, "비대상") -> FALSE | J20: =IF(I20="비대상", "경미한 건설공사는 건설사업자가 시공해야하는 대상이 아닙니다.") -> FALSE | K20: =IF(K14="대상","대상",IF(H20=TRUE,"비대상","")) | L20: =IF(K20="비대상","총공사금액 5000만원 미만 현장은 감리자 지정 제외대상입니다..") -> FALSE
B21: Q9: 지정 감리자제도시행일 | C21: 최초건축허가 접수일 16. 8. 4. 이전입니까? | H21: FALSE | I21: =IF(I19="비대상","비대상",IF(I20="비대상","비대상",IF(COUNTIF(I13:I20,"대상")>0,"대상","비대상"))) -> 비대상 | K21: =IF(H21=TRUE,"비대상", "") | L21: =IF(K21="비대상","총공사금액 5000만원 미만 현장은 감리자 지정 제외대상입니다..") -> FALSE | M21: =IF(M13="비대상","비대상",IF(COUNTIF(M13:M14,"비대상")>=1,"비대상","대상")) -> 대상
B22: Q10: 현장관리인제도 시행일 | C22: 최초건축허가 접수일 17. 2. 4. 이전입니까? | H22: FALSE | K22: =IF(K18="비대상","비대상",IF(K21="비대상","비대상",IF(K20="비대상","비대상",IF(COUNTIF(K13:K21,"대상")>=1,"대상","비대상")))) -> 대상 | O22: =IF(H24=TRUE, "대상", "비대상") -> 비대상 | Q22: =IF(H25=TRUE, "대상", "비대상") -> 비대상 | S22: =IF(H23=TRUE, "대상", "비대상") -> 비대상 | U22: =IF(H26=TRUE, "대상", "비대상") -> 비대상 | W22: =IF(OR( H25=TRUE, H27=TRUE), "대상", "비대상") -> 비대상 | Y22: =IF(H28=TRUE, "대상", "비대상") -> 비대상 | AA22: =IF(H29=TRUE, "대상", "비대상") -> 비대상
B23: Q11: 안전관리예치금 대상 | C23: 연면적이 1,000제곱미터가 넘습니까? | H23: FALSE
B24: Q12: 품질시험계획 수립 대상 | C24: 연면적이 660제곱미터 이상 또는 총공사비가 5억원이상 토목공사 또는 총공사비가 2억원 이상인 전문공사입니까? | H24: FALSE
B25: Q13: 안전관리계획 수립 대상 | C25: 지하 10미터 이상을 굴착하는 건설공사입니까? | H25: FALSE
B26: Q14: 건설재해예방지도 대상 | C26: 건축허가 대상 또는 공사금액이 1억원 이상 또는 공사기간이 1개월 이상 입니까? | H26: FALSE
B27: Q15: 유해위험방지계획 수립대상 | C27: 지상높이가 31미터 이상인 건축물입니까? | H27: FALSE
B28: Q16: 소규모 건설공사 안전관리계획 | C28: 연면적 1,000미터 이상 공동주택 또는 제1종및 2종근린생활시설 또는 공장 입니까? | H28: FALSE
B29: Q17: 상주감리 대상 건축물 | C29: 연면적 1,000미터 이상 문화및집회시설, 종교시설, 판매시설, 여객용시설, 종합병원, 교육연구시설, 노유자시설, 운동시설, 관광숙박시설, 위락시설, 관광휴게시설, 장례시설 입니까? | H29: FALSE

Sheet Sheet2
C1: 대상별 제출서류
C2: 구분 | D2: 준비서류
B3: =IF(Sheet1!C2="대상",TRUE, FALSE) -> FALSE | C3: 건설사업자 대상 (건설산업기본법 제41조) | D3: ① 건설산업기본법 제41조제1항 각호 해당 건축물로서 건설업(시공사) 관련 도서 - 건축관계자 상호간 계약서 등 - 시공자 건설업등록증, 사업자등록증, 건설면허수첩사본, 법인등기부등본, 인감증명서 등 - 전체 건축공정표 - 현장대리인 선임계, 경력증명서, 자격증, 재직증명서 등 ② 현장대리인 자격 ▶ 30억원 미만 1. 산업기사 이상 자격취득자로서 해당 직무분야에 3년 이상 실무에 종사한 사람 2. 「건설기술 진흥법」에 따른 건설기술인 중 다음 각 목의 어느 하나에 해당하는 사람 가. 해당 직무분야의 중급기술인 이상인 사람 나. 해당 직무분야의 초급기술인으로서 해당 공사와 같은 종류의 공사현장에 배치되어 시공관리업무에 3년 이상 종사한 사람 ▶ 30억원 이상 100억미만 1. 기사 이상 자격취득자로서 해당 직무분야에 3년 이상 실무에 종사한 사람 2. 산업기사 자격취득 후 해당 직무분야에 5년 이상 종사한 사람 3. 「건설기술 진흥법」에 따른 건설기술인 중 다음 각 목의 어느 하나에 해당하는 사람 가. 해당 직무분야의 고급기술인 이상인 사람 나. 해당 직무분야의 중급기술인으로서 해당 공사와 같은 종류의 공사현장에 배치되어 시공관리업무에 3년 이상 종사한 사람
B4: =IF(Sheet1!C3="대상",TRUE, FALSE) -> TRUE | C4: 허가권자감리자대상 (건축법 제25조) | D4: ① 설계자의 건축과정 참여에 관한 계획서 ② 건축주와 설계자와의 계약서
B5: =IF(Sheet1!C4="대상",TRUE, FALSE) -> TRUE | C5: 현장관리인 선임대상 (건축법 제24조) | D5: ① 한국산업인력공단의 건축분야 자격증 소유자 또는 건축 관련학과 졸업자
B6: =IF(Sheet1!C5="대상",TRUE, FALSE) -> FALSE | C6: 품질시험계획대상 (건설기술진흥법 제55조) | D6: ① 개요 : 공사명ㆍ시공자ㆍ현장대리인(현장대리인 중복배치 불가) - 시험계획회수 : 공종ㆍ시험종목ㆍ시험계획물량ㆍ시험빈도ㆍ계획시험회수ㆍ기타 - 시험시설 : 장비명ㆍ규격ㆍ단위ㆍ수량ㆍ시험실배치평면도ㆍ기타 - 품질관리자 배치계획 : 성명ㆍ등급ㆍ건설공사업무수행기간ㆍ기술자자격ㆍ학력ㆍ경력사항 - 수립된 품질시험계획대상 감리자 확인 및 인증서 ② 품질관리자 자격 자격 ▶ 중급품질관리 대상공사 - 총공사비 100억원 이상 또는 연면적 5천㎡ 이상 다중이용건축물 - 중급품질관리자 1인 + 초급품질관리자 1인+20㎡이상 시험실 ▶ 초급품질관리 대상공사 - 중급품질관리대상공사가 아닌 건설공사 - 초급품질관리자 1인+20㎡이상 시험실
B7: =IF(Sheet1!C6="대상",TRUE, FALSE) -> FALSE | C7: 안전관리계획대상 (건설기술진흥법 제62조) | D7: ① 안전관리계획서, 안전관리자 선임계, 경력증명서, 자격증, 재직증명서 등 ② 안전진단전문기관 또는 한국시설안전관리공단의 심사를 득한 후 결과서
B8: =IF(Sheet1!C7="대상",TRUE, FALSE) -> FALSE | C8: 재해예방전문지도 (산업안전보건법 제73조) | D8: ① 재해예방 전문지도기관과 체결한 기술지도계약서 및 관련 사업자 등록증 등
B9: =IF(Sheet1!C8="대상",TRUE, FALSE) -> FALSE | C9: 유해위험방지계획서 (산업안전보건법 제42조) | D9: ① 고용노동부장관의 유해위험방지계획 심사를 득한 후 결과서
B10: =IF(Sheet1!C9="대상",TRUE, FALSE) -> FALSE | C10: 안전관리예치금 (건축법 제13조) | D10: ① 보증기관이 발급한 안전관리예치금 보증서
B11: =IF(Sheet1!C10="대상",TRUE, FALSE) -> FALSE | C11: 소규모 건설공사 안전관리계획 수립대상 (건설기술진흥법 제62조의2) | D11: ① 안전관리계획서, 안전관리자 선임계, 경력증명서, 자격증, 재직증명서 등 - 건설공사의 개요 - 비계 설치계획 - 안전시설물 설치계획 (건설기술 진흥법 시행규칙별표 7의2)
B12: =IF(Sheet1!C11="대상",TRUE, FALSE) -> FALSE | C12: 상주감리대상 (건축법 제25조) | D12: ① 공정별(건축ㆍ토목ㆍ소방ㆍ전기ㆍ통신) 감리 계약서 ② 공정별(건축ㆍ토목ㆍ소방ㆍ전기ㆍ통신) 감리원 배치 계획서 ③ 공정별(건축ㆍ토목ㆍ소방ㆍ전기ㆍ통신) 감리원 경력확인서 ④ 건축사 업무신고 필증 또는 감리전문회사 등록증 사본 ⑤ 각 공정별(소방ㆍ전기ㆍ통신) 감리 등록서류 ⑥ 건축공사 건축사보 배치현황 서식(건축법 시행규칙 별지22의2]
